This page was generated on 2025-06-17 22:14 -0400 (Tue, 17 Jun 2025).
| 
 | |
| See this page for all the Bioconductor builds and their schedule. | 
| Hostname | OS | Arch (*) | R version | Installed pkgs | 
|---|---|---|---|---|
| teran2 | Linux (Ubuntu 24.04.1 LTS) | x86_64 | 4.5.0 (2025-04-11) -- "How About a Twenty-Six" | 886 | 
| Click on any hostname to see more info about the system (e.g. compilers) (*) as reported by 'uname -p', except on Windows and Mac OS X | ||||
| QUICK STATS | OS / Arch | INSTALL | BUILD | CHECK | |||||||||||||
| teran2 | Linux (Ubuntu 24.04.1 LTS) / x86_64 | 
 | 
 | 
 | |||||||||||||
| Package | Maintainer | INSTALL | BUILD | CHECK | |||||||||||||
| 1/221 | affxparser 1.81.0 (landing page) | Kasper Daniel Hansen | OK | OK | WARNINGS | ||||||||||||
| 2/221 | affy 1.87.0 (landing page) | Robert D. Shear | OK | OK | WARNINGS | ||||||||||||
| 3/221 | affyio 1.79.0 (landing page) | Ben Bolstad | OK | OK | WARNINGS | ||||||||||||
| 4/221 | affyPLM 1.85.0 (landing page) | Ben Bolstad | OK | OK | WARNINGS | ||||||||||||
| 5/221 | alabaster.base 1.9.2 (landing page) | Aaron Lun | OK | OK | WARNINGS | ||||||||||||
| 6/221 | alabaster.matrix 1.9.0 (landing page) | Aaron Lun | OK | OK | OK | ||||||||||||
| 7/221 | alabaster.ranges 1.9.0 (landing page) | Aaron Lun | OK | OK | OK | ||||||||||||
| 8/221 | alabaster.sce 1.9.0 (landing page) | Aaron Lun | OK | OK | OK | ||||||||||||
| 9/221 | alabaster.schemas 1.9.0 (landing page) | Aaron Lun | OK | OK | OK | ||||||||||||
| 10/221 | alabaster.se 1.9.0 (landing page) | Aaron Lun | OK | OK | OK | ||||||||||||
| 11/221 | annotate 1.87.0 (landing page) | Bioconductor Package Maintainer | OK | OK | OK | ||||||||||||
| 12/221 | AnnotationDbi 1.71.0 (landing page) | Bioconductor Package Maintainer | OK | OK | OK | ||||||||||||
| 13/221 | AnnotationFilter 1.33.0 (landing page) | Bioconductor Package Maintainer | OK | OK | OK | ||||||||||||
| 14/221 | AnnotationForge 1.51.0 (landing page) | Bioconductor Package Maintainer | OK | OK | OK | ||||||||||||
| 15/221 | AnnotationHub 3.99.5 (landing page) | Bioconductor Package Maintainer | OK | OK | OK | ||||||||||||
| 16/221 | AnnotationHubData 1.39.1 (landing page) | Bioconductor Package Maintainer | OK | OK | WARNINGS | ||||||||||||
| 17/221 | apeglm 1.31.0 (landing page) | Anqi Zhu | OK | OK | OK | ||||||||||||
| 18/221 | aroma.light 3.39.0 (landing page) | Henrik Bengtsson | OK | OK | OK | ||||||||||||
| 19/221 | assorthead 1.3.4 (landing page) | Aaron Lun | OK | OK | OK | ||||||||||||
| 20/221 | bamsignals 1.41.1 (landing page) | Johannes Helmuth | OK | OK | OK | ||||||||||||
| 21/221 | basilisk 1.21.5 (landing page) | Aaron Lun | OK | OK | OK | ||||||||||||
| 22/221 | basilisk.utils 1.21.2 (landing page) | Aaron Lun | OK | OK | OK | ||||||||||||
| 23/221 | batchelor 1.25.0 (landing page) | Aaron Lun | OK | OK | OK | ||||||||||||
| 24/221 | beachmat 2.25.1 (landing page) | Aaron Lun | OK | OK | WARNINGS | ||||||||||||
| 25/221 | beachmat.hdf5 1.7.0 (landing page) | Aaron Lun | OK | OK | WARNINGS | ||||||||||||
| 26/221 | Biobase 2.69.0 (landing page) | Bioconductor Package Maintainer | OK | OK | OK | ||||||||||||
| 27/221 | BiocBaseUtils 1.11.0 (landing page) | Marcel Ramos | OK | OK | OK | ||||||||||||
| 28/221 | BiocCheck 1.45.7 (landing page) | Marcel Ramos | OK | OK | OK | ||||||||||||
| 29/221 | BiocFileCache 2.99.5 (landing page) | Lori Shepherd | OK | OK | OK | ||||||||||||
| 30/221 | BiocGenerics 0.55.0 (landing page) | Hervé Pagès | OK | OK | WARNINGS | ||||||||||||
| 31/221 | BiocIO 1.19.0 (landing page) | Marcel Ramos | OK | OK | OK | ||||||||||||
| 32/221 | biocmake 1.1.3 (landing page) | Aaron Lun | OK | OK | OK | ||||||||||||
| 33/221 | BiocNeighbors 2.3.1 (landing page) | Aaron Lun | OK | OK | OK | ||||||||||||
| 34/221 | BiocParallel 1.43.4 (landing page) | Jiefei Wang | OK | OK | OK | ||||||||||||
| 35/221 | BiocPkgTools 1.27.6 (landing page) | Sean Davis | OK | OK | OK | ||||||||||||
| 36/221 | BiocSingular 1.25.0 (landing page) | Aaron Lun | OK | OK | WARNINGS | ||||||||||||
| 37/221 | BiocStyle 2.37.0 (landing page) | Bioconductor Package Maintainer | OK | OK | OK | ||||||||||||
| 38/221 | biocthis 1.19.0 (landing page) | Leonardo Collado-Torres | OK | OK | OK | ||||||||||||
| 39/221 | BiocVersion 3.22.0 (landing page) | Bioconductor Package Maintainer | OK | OK | OK | ||||||||||||
| 40/221 | biocViews 1.77.2 (landing page) | Bioconductor Package Maintainer | OK | OK | OK | ||||||||||||
| 41/221 | biomaRt 2.65.0 (landing page) | Mike Smith | OK | OK | OK | ||||||||||||
| 42/221 | biomformat 1.37.0 (landing page) | Paul J. McMurdie | OK | OK | OK | ||||||||||||
| 43/221 | Biostrings 2.77.1 (landing page) | Hervé Pagès | OK | OK | WARNINGS | ||||||||||||
| 44/221 | biovizBase 1.57.0 (landing page) | Michael Lawrence | OK | OK | WARNINGS | ||||||||||||
| 45/221 | bluster 1.19.0 (landing page) | Aaron Lun | OK | OK | OK | ||||||||||||
| 46/221 | BSgenome 1.77.0 (landing page) | Hervé Pagès | OK | OK | WARNINGS | ||||||||||||
| 47/221 | BSgenomeForge 1.9.0 (landing page) | Hervé Pagès | OK | OK | OK | ||||||||||||
| 48/221 | BumpyMatrix 1.17.0 (landing page) | Aaron Lun | OK | OK | OK | ||||||||||||
| 49/221 | Category 2.75.0 (landing page) | Bioconductor Package Maintainer | OK | OK | OK | ||||||||||||
| 50/221 | ChemmineOB 1.47.1 (landing page) | Thomas Girke | OK | OK | WARNINGS | ||||||||||||
| 51/221 | ChemmineR 3.61.1 (landing page) | Thomas Girke | OK | OK | ERROR | ||||||||||||
| 52/221 | chihaya 1.9.0 (landing page) | Aaron Lun | OK | OK | WARNINGS | ||||||||||||
| 53/221 | clusterProfiler 4.17.0 (landing page) | Guangchuang Yu | OK | OK | OK | ||||||||||||
| 54/221 | ComplexHeatmap 2.25.0 (landing page) | Zuguang Gu | OK | OK | OK | ||||||||||||
| 55/221 | CompoundDb 1.13.0 (landing page) | Johannes Rainer | OK | OK | OK | ||||||||||||
| 56/221 | ConsensusClusterPlus 1.73.0 (landing page) | Matt Wilkerson | OK | OK | OK | ||||||||||||
| 57/221 | csaw 1.43.0 (landing page) | Aaron Lun | OK | OK | OK | ||||||||||||
| 58/221 | cytolib 2.21.0 (landing page) | Mike Jiang | OK | OK | WARNINGS | ||||||||||||
| 59/221 | CytoML 2.21.0 (landing page) | Mike Jiang | OK | OK | WARNINGS | ||||||||||||
| 60/221 | DECIPHER 3.5.0 (landing page) | Erik Wright | OK | OK | OK | ||||||||||||
| 61/221 | DelayedArray 0.35.1 (landing page) | Hervé Pagès | OK | OK | WARNINGS | ||||||||||||
| 62/221 | DelayedMatrixStats 1.31.0 (landing page) | Peter Hickey | OK | OK | OK | ||||||||||||
| 63/221 | densvis 1.19.0 (landing page) | Alan O'Callaghan | OK | OK | OK | ||||||||||||
| 64/221 | DESeq2 1.49.2 (landing page) | Michael Love | OK | OK | OK | ||||||||||||
| 65/221 | DEXSeq 1.55.0 (landing page) | Alejandro Reyes | OK | OK | OK | ||||||||||||
| 66/221 | dir.expiry 1.17.0 (landing page) | Aaron Lun | OK | OK | OK | ||||||||||||
| 67/221 | DirichletMultinomial 1.51.0 (landing page) | Martin Morgan | OK | OK | WARNINGS | ||||||||||||
| 68/221 | DNAcopy 1.83.0 (landing page) | Venkatraman E. Seshan | OK | OK | OK | ||||||||||||
| 69/221 | DOSE 4.3.0 (landing page) | Guangchuang Yu | OK | OK | OK | ||||||||||||
| 70/221 | DropletUtils 1.29.3 (landing page) | Jonathan Griffiths | OK | OK | WARNINGS | ||||||||||||
| 71/221 | DynDoc 1.87.0 (landing page) | Bioconductor Package Maintainer | OK | OK | WARNINGS | ||||||||||||
| 72/221 | EBarrays 2.73.0 (landing page) | Ming Yuan | OK | OK | OK | ||||||||||||
| 73/221 | EBImage 4.51.0 (landing page) | Andrzej Oleś | OK | OK | OK | ||||||||||||
| 74/221 | EDASeq 2.43.0 (landing page) | Davide Risso | OK | OK | OK | ||||||||||||
| 75/221 | edgeR 4.7.2 (landing page) | Yunshun Chen | OK | OK | OK | ||||||||||||
| 76/221 | eds 1.11.0 (landing page) | Avi Srivastava | OK | OK | OK | ||||||||||||
| 77/221 | EnhancedVolcano 1.27.0 (landing page) | Kevin Blighe | OK | OK | OK | ||||||||||||
| 78/221 | EnrichedHeatmap 1.39.0 (landing page) | Zuguang Gu | OK | OK | OK | ||||||||||||
| 79/221 | enrichplot 1.29.1 (landing page) | Guangchuang Yu | OK | OK | OK | ||||||||||||
| 80/221 | ensembldb 2.33.0 (landing page) | Johannes Rainer | OK | OK | OK | ||||||||||||
| 81/221 | ExperimentHub 2.99.5 (landing page) | Bioconductor Package Maintainer | OK | OK | WARNINGS | ||||||||||||
| 82/221 | ExperimentHubData 1.35.0 (landing page) | Bioconductor Package Maintainer | OK | OK | WARNINGS | ||||||||||||
| 83/221 | fgsea 1.35.2 (landing page) | Alexey Sergushichev | OK | OK | OK | ||||||||||||
| 84/221 | fishpond 2.15.0 (landing page) | Michael Love | OK | OK | OK | ||||||||||||
| 85/221 | flowClust 3.47.0 (landing page) | Greg Finak | OK | OK | WARNINGS | ||||||||||||
| 86/221 | flowCore 2.21.0 (landing page) | Mike Jiang | OK | OK | WARNINGS | ||||||||||||
| 87/221 | flowStats 4.21.0 (landing page) | Greg Finak | OK | OK | WARNINGS | ||||||||||||
| 88/221 | flowViz 1.73.0 (landing page) | Mike Jiang | OK | OK | OK | ||||||||||||
| 89/221 | flowWorkspace 4.21.0 (landing page) | Greg Finak | OK | OK | WARNINGS | ||||||||||||
| 90/221 | fmcsR 1.51.0 (landing page) | Thomas Girke | OK | OK | WARNINGS | ||||||||||||
| 91/221 | gage 2.59.0 (landing page) | Weijun Luo | OK | OK | WARNINGS | ||||||||||||
| 92/221 | gcrma 2.81.0 (landing page) | Z. Wu | OK | OK | OK | ||||||||||||
| 93/221 | gdsfmt 1.45.0 (landing page) | Xiuwen Zheng | OK | OK | OK | ||||||||||||
| 94/221 | genefilter 1.91.0 (landing page) | Bioconductor Package Maintainer | OK | OK | WARNINGS | ||||||||||||
| 95/221 | geneplotter 1.87.0 (landing page) | Bioconductor Package Maintainer | OK | OK | OK | ||||||||||||
| 96/221 | GenomeInfoDb 1.45.4 (landing page) | Hervé Pagès | OK | OK | OK | ||||||||||||
| 97/221 | GenomicAlignments 1.45.0 (landing page) | Hervé Pagès | OK | OK | OK | ||||||||||||
| 98/221 | GenomicFeatures 1.61.3 (landing page) | H. Pagès | OK | OK | OK | ||||||||||||
| 99/221 | GenomicRanges 1.61.0 (landing page) | Hervé Pagès | OK | OK | OK | ||||||||||||
| 100/221 | GEOquery 2.77.0 (landing page) | Sean Davis | OK | OK | OK | ||||||||||||
| 101/221 | ggbio 1.57.0 (landing page) | Michael Lawrence | OK | OK | WARNINGS | ||||||||||||
| 102/221 | ggcyto 1.37.0 (landing page) | Mike Jiang | OK | OK | WARNINGS | ||||||||||||
| 103/221 | ggtree 3.17.0 (landing page) | Guangchuang Yu | OK | OK | OK | ||||||||||||
| 104/221 | ggtreeExtra 1.19.0 (landing page) | Shuangbin Xu | OK | OK | OK | ||||||||||||
| 105/221 | glmGamPoi 1.21.0 (landing page) | Constantin Ahlmann-Eltze | OK | OK | WARNINGS | ||||||||||||
| 106/221 | GOSemSim 2.35.0 (landing page) | Guangchuang Yu | OK | OK | OK | ||||||||||||
| 107/221 | GOstats 2.75.0 (landing page) | Bioconductor Package Maintainer | OK | ERROR | skipped | ||||||||||||
| 108/221 | gpls 1.81.0 (landing page) | Bioconductor Package Maintainer | OK | OK | WARNINGS | ||||||||||||
| 109/221 | graph 1.87.0 (landing page) | Bioconductor Package Maintainer | OK | OK | OK | ||||||||||||
| 110/221 | GSEABase 1.71.0 (landing page) | Bioconductor Package Maintainer | OK | OK | OK | ||||||||||||
| 111/221 | GSVA 2.3.1 (landing page) | Robert Castelo | OK | OK | OK | ||||||||||||
| 112/221 | Gviz 1.53.0 (landing page) | Robert Ivanek | OK | OK | OK | ||||||||||||
| 113/221 | gypsum 1.5.0 (landing page) | Aaron Lun | OK | OK | OK | ||||||||||||
| 114/221 | h5mread 1.1.1 (landing page) | Hervé Pagès | OK | OK | WARNINGS | ||||||||||||
| 115/221 | HDF5Array 1.37.0 (landing page) | Hervé Pagès | OK | OK | OK | ||||||||||||
| 116/221 | hpar 1.51.0 (landing page) | Laurent Gatto | OK | OK | OK | ||||||||||||
| 117/221 | HubPub 1.17.1 (landing page) | Kayla Interdonato | OK | OK | OK | ||||||||||||
| 118/221 | IHW 1.37.0 (landing page) | Nikos Ignatiadis | OK | OK | OK | ||||||||||||
| 119/221 | illuminaio 0.51.0 (landing page) | Kasper Daniel Hansen | OK | OK | OK | ||||||||||||
| 120/221 | impute 1.83.0 (landing page) | Balasubramanian Narasimhan | OK | OK | WARNINGS | ||||||||||||
| 121/221 | interactiveDisplay 1.47.0 (landing page) | Bioconductor Package Maintainer | OK | OK | OK | ||||||||||||
| 122/221 | interactiveDisplayBase 1.47.0 (landing page) | Bioconductor Package Maintainer | OK | OK | OK | ||||||||||||
| 123/221 | IRanges 2.43.0 (landing page) | Hervé Pagès | OK | OK | WARNINGS | ||||||||||||
| 124/221 | karyoploteR 1.35.2 (landing page) | Bernat Gel | OK | OK | OK | ||||||||||||
| 125/221 | KEGGgraph 1.69.0 (landing page) | Jitao David Zhang | OK | OK | OK | ||||||||||||
| 126/221 | keggorthology 2.61.0 (landing page) | VJ Carey | OK | OK | OK | ||||||||||||
| 127/221 | KEGGREST 1.49.0 (landing page) | Bioconductor Package Maintainer | OK | OK | ERROR | ||||||||||||
| 128/221 | limma 3.65.1 (landing page) | Gordon Smyth | OK | OK | OK | ||||||||||||
| 129/221 | LoomExperiment 1.27.0 (landing page) | Bioconductor Package Maintainer | OK | OK | OK | ||||||||||||
| 130/221 | lpsymphony 1.37.0 (landing page) | Vladislav Kim | OK | OK | WARNINGS | ||||||||||||
| 131/221 | maftools 2.25.10 (landing page) | Anand Mayakonda | OK | OK | WARNINGS | ||||||||||||
| 132/221 | MassSpecWavelet 1.75.1 (landing page) | Sergio Oller Moreno | OK | OK | OK | ||||||||||||
| 133/221 | MatrixGenerics 1.21.0 (landing page) | Peter Hickey | OK | OK | OK | ||||||||||||
| 134/221 | mbkmeans 1.25.0 (landing page) | Davide Risso | OK | OK | OK | ||||||||||||
| 135/221 | MetaboCoreUtils 1.17.1 (landing page) | Johannes Rainer | OK | OK | OK | ||||||||||||
| 136/221 | metagenomeSeq 1.51.0 (landing page) | Joseph N. Paulson | OK | OK | OK | ||||||||||||
| 137/221 | metapod 1.17.0 (landing page) | Aaron Lun | OK | OK | OK | ||||||||||||
| 138/221 | microRNA 1.67.0 (landing page) | "Michael Lawrence" | OK | OK | OK | ||||||||||||
| 139/221 | minet 3.67.0 (landing page) | Patrick E. Meyer | OK | OK | OK | ||||||||||||
| 140/221 | MLInterfaces 1.89.0 (landing page) | Vincent Carey | OK | OK | WARNINGS | ||||||||||||
| 141/221 | MsBackendMgf 1.17.0 (landing page) | RforMassSpectrometry Package Maintainer | OK | OK | OK | ||||||||||||
| 142/221 | MsBackendSql 1.9.0 (landing page) | Johannes Rainer | OK | OK | OK | ||||||||||||
| 143/221 | MsCoreUtils 1.21.0 (landing page) | RforMassSpectrometry Package Maintainer | OK | OK | OK | ||||||||||||
| 144/221 | MsDataHub 1.9.0 (landing page) | Laurent Gatto | OK | OK | OK | ||||||||||||
| 145/221 | MsExperiment 1.11.1 (landing page) | Laurent Gatto | OK | OK | OK | ||||||||||||
| 146/221 | MsFeatures 1.17.1 (landing page) | Johannes Rainer | OK | OK | OK | ||||||||||||
| 147/221 | MSnbase 2.35.0 (landing page) | Laurent Gatto | OK | OK | OK | ||||||||||||
| 148/221 | MultiAssayExperiment 1.35.3 (landing page) | Marcel Ramos | OK | OK | OK | ||||||||||||
| 149/221 | multtest 2.65.0 (landing page) | Katherine S. Pollard | OK | OK | WARNINGS | ||||||||||||
| 150/221 | mzID 1.47.0 (landing page) | Laurent Gatto | OK | OK | OK | ||||||||||||
| 151/221 | mzR 2.43.0 (landing page) | Steffen Neumann | OK | OK | WARNINGS | ||||||||||||
| 152/221 | ncdfFlow 2.55.0 (landing page) | Mike Jiang | OK | OK | WARNINGS | ||||||||||||
| 153/221 | openCyto 2.21.0 (landing page) | Mike Jiang | OK | OK | WARNINGS | ||||||||||||
| 154/221 | OrganismDbi 1.51.3 (landing page) | Bioconductor Package Maintainer | OK | OK | OK | ||||||||||||
| 155/221 | pathview 1.49.0 (landing page) | Weijun Luo | OK | OK | WARNINGS | ||||||||||||
| 156/221 | pcaMethods 2.1.0 (landing page) | Henning Redestig | OK | OK | OK | ||||||||||||
| 157/221 | phyloseq 1.53.0 (landing page) | Paul J. McMurdie | OK | OK | WARNINGS | ||||||||||||
| 158/221 | preprocessCore 1.71.0 (landing page) | Ben Bolstad | OK | OK | WARNINGS | ||||||||||||
| 159/221 | pRoloc 1.49.0 (landing page) | Lisa Breckels | OK | OK | WARNINGS | ||||||||||||
| 160/221 | ProtGenerics 1.41.0 (landing page) | Laurent Gatto | OK | OK | OK | ||||||||||||
| 161/221 | PSMatch 1.13.1 (landing page) | Laurent Gatto | OK | OK | OK | ||||||||||||
| 162/221 | pwalign 1.5.0 (landing page) | Hervé Pagès | OK | OK | OK | ||||||||||||
| 163/221 | QFeatures 1.19.2 (landing page) | Laurent Gatto | OK | OK | OK | ||||||||||||
| 164/221 | qvalue 2.41.0 (landing page) | John D. Storey | OK | OK | OK | ||||||||||||
| 165/221 | RaggedExperiment 1.33.2 (landing page) | Marcel Ramos | OK | OK | OK | ||||||||||||
| 166/221 | RBGL 1.85.0 (landing page) | Bioconductor Package Maintainer | OK | OK | WARNINGS | ||||||||||||
| 167/221 | rBiopaxParser 2.49.0 (landing page) | Frank Kramer | OK | OK | OK | ||||||||||||
| 168/221 | Rdisop 1.69.2 (landing page) | Steffen Neumann | OK | OK | OK | ||||||||||||
| 169/221 | regioneR 1.41.2 (landing page) | Bernat Gel | OK | OK | OK | ||||||||||||
| 170/221 | ReportingTools 2.49.0 (landing page) | Jason A. Hackney | OK | OK | OK | ||||||||||||
| 171/221 | ResidualMatrix 1.19.0 (landing page) | Aaron Lun | OK | OK | OK | ||||||||||||
| 172/221 | Rgraphviz 2.53.0 (landing page) | Kasper Daniel Hansen | OK | OK | WARNINGS | ||||||||||||
| 173/221 | rhdf5 2.53.1 (landing page) | Mike Smith | OK | OK | WARNINGS | ||||||||||||
| 174/221 | rhdf5filters 1.21.0 (landing page) | Mike Smith | OK | OK | OK | ||||||||||||
| 175/221 | Rhdf5lib 1.31.0 (landing page) | Mike Smith | OK | OK | WARNINGS | ||||||||||||
| 176/221 | Rhtslib 3.5.0 (landing page) | Hervé Pagès | OK | OK | OK | ||||||||||||
| 177/221 | Rigraphlib 1.1.1 (landing page) | Aaron Lun | OK | OK | WARNINGS | ||||||||||||
| 178/221 | ROC 1.85.0 (landing page) | Vince Carey | OK | OK | OK | ||||||||||||
| 179/221 | rols 3.5.0 (landing page) | Laurent Gatto | OK | OK | OK | ||||||||||||
| 180/221 | RProtoBufLib 2.21.0 (landing page) | Mike Jiang | OK | OK | WARNINGS | ||||||||||||
| 181/221 | rpx 2.17.0 (landing page) | Laurent Gatto | OK | OK | OK | ||||||||||||
| 182/221 | Rsamtools 2.25.0 (landing page) | Bioconductor Package Maintainer | OK | OK | WARNINGS | ||||||||||||
| 183/221 | Rsubread 2.23.2 (landing page) | Wei Shi | OK | OK | WARNINGS | ||||||||||||
| 184/221 | rtracklayer 1.69.0 (landing page) | Michael Lawrence | OK | OK | WARNINGS | ||||||||||||
| 185/221 | S4Arrays 1.9.1 (landing page) | Hervé Pagès | OK | OK | OK | ||||||||||||
| 186/221 | S4Vectors 0.47.0 (landing page) | Hervé Pagès | OK | OK | WARNINGS | ||||||||||||
| 187/221 | ScaledMatrix 1.17.0 (landing page) | Aaron Lun | OK | OK | OK | ||||||||||||
| 188/221 | scater 1.37.0 (landing page) | Alan O'Callaghan | OK | OK | OK | ||||||||||||
| 189/221 | scran 1.37.0 (landing page) | Aaron Lun | OK | OK | WARNINGS | ||||||||||||
| 190/221 | scrapper 1.3.4 (landing page) | Aaron Lun | OK | OK | WARNINGS | ||||||||||||
| 191/221 | scuttle 1.19.0 (landing page) | Aaron Lun | OK | OK | OK | ||||||||||||
| 192/221 | seqLogo 1.75.0 (landing page) | Robert Ivanek | OK | OK | OK | ||||||||||||
| 193/221 | sesame 1.27.0 (landing page) | Wanding Zhou | OK | OK | OK | ||||||||||||
| 194/221 | ShortRead 1.67.0 (landing page) | Bioconductor Package Maintainer | OK | OK | WARNINGS | ||||||||||||
| 195/221 | SingleCellExperiment 1.31.0 (landing page) | Davide Risso | OK | OK | OK | ||||||||||||
| 196/221 | SingleR 2.11.2 (landing page) | Aaron Lun | OK | OK | OK | ||||||||||||
| 197/221 | snifter 1.19.1 (landing page) | Alan O'Callaghan | OK | OK | OK | ||||||||||||
| 198/221 | snpStats 1.59.2 (landing page) | David Clayton | OK | OK | WARNINGS | ||||||||||||
| 199/221 | SparseArray 1.9.0 (landing page) | Hervé Pagès | OK | OK | OK | ||||||||||||
| 200/221 | sparseMatrixStats 1.21.0 (landing page) | Constantin Ahlmann-Eltze | OK | OK | OK | ||||||||||||
| 201/221 | SpatialExperiment 1.19.1 (landing page) | Dario Righelli | OK | OK | OK | ||||||||||||
| 202/221 | Spectra 1.19.2 (landing page) | RforMassSpectrometry Package Maintainer | OK | OK | OK | ||||||||||||
| 203/221 | SPIA 2.61.0 (landing page) | Adi Laurentiu Tarca | OK | OK | OK | ||||||||||||
| 204/221 | SummarizedExperiment 1.39.0 (landing page) | Hervé Pagès | OK | OK | OK | ||||||||||||
| 205/221 | sva 3.57.0 (landing page) | Jeffrey T. Leek | OK | OK | OK | ||||||||||||
| 206/221 | TCGAbiolinks 2.37.0 (landing page) | Tiago Chedraoui Silva | OK | OK | ERROR | ||||||||||||
| 207/221 | TENxIO 1.11.4 (landing page) | Marcel Ramos | OK | OK | OK | ||||||||||||
| 208/221 | tkWidgets 1.87.0 (landing page) | J. Zhang | OK | OK | OK | ||||||||||||
| 209/221 | treeio 1.33.0 (landing page) | Guangchuang Yu | OK | OK | OK | ||||||||||||
| 210/221 | txdbmaker 1.5.4 (landing page) | H. Pagès | OK | OK | OK | ||||||||||||
| 211/221 | tximeta 1.27.1 (landing page) | Michael Love | OK | OK | OK | ||||||||||||
| 212/221 | tximport 1.37.0 (landing page) | Michael Love | OK | OK | OK | ||||||||||||
| 213/221 | UCSC.utils 1.5.0 (landing page) | Hervé Pagès | OK | OK | OK | ||||||||||||
| 214/221 | VariantAnnotation 1.55.0 (landing page) | Bioconductor Package Maintainer | OK | OK | WARNINGS | ||||||||||||
| 215/221 | VisiumIO 1.5.6 (landing page) | Marcel Ramos | OK | OK | OK | ||||||||||||
| 216/221 | vsn 3.77.0 (landing page) | Wolfgang Huber | OK | OK | OK | ||||||||||||
| 217/221 | widgetTools 1.87.0 (landing page) | Jianhua Zhang | OK | OK | OK | ||||||||||||
| 218/221 | Wrench 1.27.0 (landing page) | Hector Corrada Bravo | OK | OK | OK | ||||||||||||
| 219/221 | xcms 4.7.1 (landing page) | Steffen Neumann | OK | OK | ERROR | ||||||||||||
| 220/221 | XVector 0.49.0 (landing page) | Hervé Pagès | OK | OK | WARNINGS | ||||||||||||
| 221/221 | zellkonverter 1.19.1 (landing page) | Luke Zappia | OK | OK | ERROR | ||||||||||||