| Back to Rapid builds (Linux only) of a subset of BioC 3.22 Report updated every 6 hours |
This page was generated on 2025-06-17 22:14 -0400 (Tue, 17 Jun 2025).
| Hostname | OS | Arch (*) | R version | Installed pkgs |
|---|---|---|---|---|
| teran2 | Linux (Ubuntu 24.04.1 LTS) | x86_64 | 4.5.0 (2025-04-11) -- "How About a Twenty-Six" | 886 |
| Click on any hostname to see more info about the system (e.g. compilers) (*) as reported by 'uname -p', except on Windows and Mac OS X | ||||
| Package 112/221 | Hostname | OS / Arch | INSTALL | BUILD | CHECK | |||||||
| Gviz 1.53.0 (landing page) Robert Ivanek
| teran2 | Linux (Ubuntu 24.04.1 LTS) / x86_64 | OK | OK | OK | |||||||
|
To the developers/maintainers of the Gviz package: - Use the following Renviron settings to reproduce errors and warnings. - If 'R CMD check' started to fail recently on the Linux builder(s) over a missing dependency, add the missing dependency to 'Suggests:' in your DESCRIPTION file. See Renviron.bioc for more information. |
| Package: Gviz |
| Version: 1.53.0 |
| Command: /home/rapidbuild/bbs-3.22-bioc-rapid/R/bin/R CMD check --install=check:Gviz.install-out.txt --library=/home/rapidbuild/bbs-3.22-bioc-rapid/R/site-library --timings Gviz_1.53.0.tar.gz |
| StartedAt: 2025-06-17 20:57:32 -0400 (Tue, 17 Jun 2025) |
| EndedAt: 2025-06-17 21:07:19 -0400 (Tue, 17 Jun 2025) |
| EllapsedTime: 587.4 seconds |
| RetCode: 0 |
| Status: OK |
| CheckDir: Gviz.Rcheck |
| Warnings: 0 |
##############################################################################
##############################################################################
###
### Running command:
###
### /home/rapidbuild/bbs-3.22-bioc-rapid/R/bin/R CMD check --install=check:Gviz.install-out.txt --library=/home/rapidbuild/bbs-3.22-bioc-rapid/R/site-library --timings Gviz_1.53.0.tar.gz
###
##############################################################################
##############################################################################
* using log directory ‘/media/volume/teran2_disk/rapidbuild/bbs-3.22-bioc-rapid/meat/Gviz.Rcheck’
* using R version 4.5.0 (2025-04-11)
* using platform: x86_64-pc-linux-gnu
* R was compiled by
gcc (Ubuntu 13.3.0-6ubuntu2~24.04) 13.3.0
GNU Fortran (Ubuntu 13.3.0-6ubuntu2~24.04) 13.3.0
* running under: Ubuntu 24.04.2 LTS
* using session charset: UTF-8
* checking for file ‘Gviz/DESCRIPTION’ ... OK
* this is package ‘Gviz’ version ‘1.53.0’
* package encoding: UTF-8
* checking package namespace information ... OK
* checking package dependencies ... OK
* checking if this is a source package ... OK
* checking if there is a namespace ... OK
* checking for hidden files and directories ... OK
* checking for portable file names ... OK
* checking for sufficient/correct file permissions ... OK
* checking whether package ‘Gviz’ can be installed ... OK
* checking installed package size ... INFO
installed size is 5.2Mb
sub-directories of 1Mb or more:
R 1.7Mb
extdata 2.5Mb
* checking package directory ... OK
* checking ‘build’ directory ... OK
* checking DESCRIPTION meta-information ... OK
* checking top-level files ... OK
* checking for left-over files ... OK
* checking index information ... OK
* checking package subdirectories ... OK
* checking code files for non-ASCII characters ... OK
* checking R files for syntax errors ... OK
* checking whether the package can be loaded ... OK
* checking whether the package can be loaded with stated dependencies ... OK
* checking whether the package can be unloaded cleanly ... OK
* checking whether the namespace can be loaded with stated dependencies ... OK
* checking whether the namespace can be unloaded cleanly ... OK
* checking loading without being on the library search path ... OK
* checking whether startup messages can be suppressed ... OK
* checking dependencies in R code ... OK
* checking S3 generic/method consistency ... OK
* checking replacement functions ... OK
* checking foreign function calls ... OK
* checking R code for possible problems ... OK
* checking Rd files ... OK
* checking Rd metadata ... OK
* checking Rd cross-references ... NOTE
Found the following Rd file(s) with Rd \link{} targets missing package
anchors:
AlignmentsTrack-class.Rd: IRanges-class, GRanges-class, panel.grid
AnnotationTrack-class.Rd: IRanges-class, GRanges-class, panel.grid
BiomartGeneRegionTrack-class.Rd: Mart-class, getBM, GRanges-class,
IRanges-class, panel.grid
CustomTrack-class.Rd: GRanges-class, IRanges-class, panel.grid
DataTrack-class.Rd: IRanges-class, panel.loess, panel.bwplot,
horizonplot, GRanges-class, panel.grid
GdObject-class.Rd: GRanges-class, IRanges-class, panel.grid
GeneRegionTrack-class.Rd: IRanges-class, GRanges-class, panel.grid
GenomeAxisTrack-class.Rd: GRanges-class, IRanges-class, panel.grid
HighlightTrack-class.Rd: IRanges-class, GRanges-class, panel.grid
IdeogramTrack-class.Rd: GRanges-class, IRanges-class, panel.grid
NumericTrack-class.Rd: GRanges-class, IRanges-class, panel.grid
OverlayTrack-class.Rd: GRanges-class, IRanges-class, panel.grid
RangeTrack-class.Rd: GRanges-class, IRanges-class, panel.grid
ReferenceTrack-class.Rd: GRanges-class, IRanges-class, panel.grid
SequenceTrack-class.Rd: DNAStringSet-class, DNAString-class,
BSgenome-class, GRanges-class, IRanges-class, panel.grid
StackedTrack-class.Rd: GRanges-class, IRanges-class, panel.grid
settings.Rd: panel.grid, panel.xyplot, panel.bwplot, horizonplot,
panel.loess
Please provide package anchors for all Rd \link{} targets not in the
package itself and the base packages.
* checking for missing documentation entries ... OK
* checking for code/documentation mismatches ... OK
* checking Rd \usage sections ... OK
* checking Rd contents ... OK
* checking for unstated dependencies in examples ... OK
* checking contents of ‘data’ directory ... OK
* checking data for non-ASCII characters ... OK
* checking data for ASCII and uncompressed saves ... OK
* checking files in ‘vignettes’ ... OK
* checking examples ... OK
Examples with CPU (user + system) or elapsed time > 5s
user system elapsed
AlignmentsTrack-class 10.791 1.069 12.945
AnnotationTrack-class 6.069 0.122 6.421
* checking for unstated dependencies in ‘tests’ ... OK
* checking tests ...
Running ‘testthat.R’
OK
* checking for unstated dependencies in vignettes ... OK
* checking package vignettes ... OK
* checking re-building of vignette outputs ... OK
* checking PDF version of manual ... OK
* DONE
Status: 1 NOTE
See
‘/media/volume/teran2_disk/rapidbuild/bbs-3.22-bioc-rapid/meat/Gviz.Rcheck/00check.log’
for details.
Gviz.Rcheck/00install.out
############################################################################## ############################################################################## ### ### Running command: ### ### /home/rapidbuild/bbs-3.22-bioc-rapid/R/bin/R CMD INSTALL Gviz ### ############################################################################## ############################################################################## * installing to library ‘/media/volume/teran2_disk/rapidbuild/bbs-3.22-bioc-rapid/R/site-library’ * installing *source* package ‘Gviz’ ... ** this is package ‘Gviz’ version ‘1.53.0’ ** using staged installation ** R ** data ** inst ** byte-compile and prepare package for lazy loading ** help *** installing help indices ** building package indices ** installing vignettes ** testing if installed package can be loaded from temporary location ** testing if installed package can be loaded from final location ** testing if installed package keeps a record of temporary installation path * DONE (Gviz)
Gviz.Rcheck/tests/testthat.Rout
R version 4.5.0 (2025-04-11) -- "How About a Twenty-Six"
Copyright (C) 2025 The R Foundation for Statistical Computing
Platform: x86_64-pc-linux-gnu
R is free software and comes with ABSOLUTELY NO WARRANTY.
You are welcome to redistribute it under certain conditions.
Type 'license()' or 'licence()' for distribution details.
R is a collaborative project with many contributors.
Type 'contributors()' for more information and
'citation()' on how to cite R or R packages in publications.
Type 'demo()' for some demos, 'help()' for on-line help, or
'help.start()' for an HTML browser interface to help.
Type 'q()' to quit R.
> library(testthat)
> library(Gviz)
Loading required package: S4Vectors
Loading required package: stats4
Loading required package: BiocGenerics
Loading required package: generics
Attaching package: 'generics'
The following objects are masked from 'package:base':
as.difftime, as.factor, as.ordered, intersect, is.element, setdiff,
setequal, union
Attaching package: 'BiocGenerics'
The following objects are masked from 'package:stats':
IQR, mad, sd, var, xtabs
The following objects are masked from 'package:base':
Filter, Find, Map, Position, Reduce, anyDuplicated, aperm, append,
as.data.frame, basename, cbind, colnames, dirname, do.call,
duplicated, eval, evalq, get, grep, grepl, is.unsorted, lapply,
mapply, match, mget, order, paste, pmax, pmax.int, pmin, pmin.int,
rank, rbind, rownames, sapply, saveRDS, table, tapply, unique,
unsplit, which.max, which.min
Attaching package: 'S4Vectors'
The following object is masked from 'package:utils':
findMatches
The following objects are masked from 'package:base':
I, expand.grid, unname
Loading required package: IRanges
Loading required package: GenomicRanges
Loading required package: GenomeInfoDb
Loading required package: grid
>
> test_check("Gviz")
Loading required package: BSgenome
Loading required package: Biostrings
Loading required package: XVector
Attaching package: 'Biostrings'
The following object is masked from 'package:grid':
pattern
The following object is masked from 'package:base':
strsplit
Loading required package: BiocIO
Loading required package: rtracklayer
[ FAIL 0 | WARN 0 | SKIP 1 | PASS 293 ]
══ Skipped tests (1) ═══════════════════════════════════════════════════════════
• Biomart not available (1): 'test_AllClasses.R:174:5'
[ FAIL 0 | WARN 0 | SKIP 1 | PASS 293 ]
>
> proc.time()
user system elapsed
39.701 6.178 57.081
Gviz.Rcheck/Gviz-Ex.timings
| name | user | system | elapsed | |
| AlignmentsTrack-class | 10.791 | 1.069 | 12.945 | |
| AnnotationTrack-class | 6.069 | 0.122 | 6.421 | |
| BiomartGeneRegionTrack-class | 2.543 | 0.010 | 2.690 | |
| CustomTrack-class | 0.005 | 0.000 | 0.005 | |
| DataTrack-class | 1.957 | 0.037 | 2.656 | |
| DisplayPars-class | 0.012 | 0.001 | 0.013 | |
| GdObject-class | 0.335 | 0.001 | 0.338 | |
| GeneRegionTrack-class | 4.392 | 0.015 | 4.762 | |
| GenomeAxisTrack-class | 3.346 | 0.001 | 3.468 | |
| HighlightTrack-class | 0.162 | 0.000 | 0.232 | |
| IdeogramTrack-class | 1.407 | 0.003 | 1.488 | |
| ImageMap-class | 0 | 0 | 0 | |
| OverlayTrack-class | 0.031 | 0.001 | 0.032 | |
| RangeTrack-class | 0.325 | 0.000 | 0.325 | |
| ReferenceTrack-class | 1.837 | 0.230 | 2.161 | |
| SequenceTrack-class | 2.838 | 0.841 | 4.137 | |
| StackedTrack-class | 0.585 | 0.001 | 0.587 | |
| UcscTrack | 0.617 | 0.002 | 0.620 | |
| exportTracks | 0.054 | 0.000 | 0.055 | |
| plotTracks | 3.876 | 0.004 | 4.012 | |
| settings | 0.607 | 0.003 | 0.698 | |