| Back to Rapid builds (Linux only) of a subset of BioC 3.22 Report updated every 6 hours | 
This page was generated on 2025-06-17 22:14 -0400 (Tue, 17 Jun 2025).
| Hostname | OS | Arch (*) | R version | Installed pkgs | 
|---|---|---|---|---|
| teran2 | Linux (Ubuntu 24.04.1 LTS) | x86_64 | 4.5.0 (2025-04-11) -- "How About a Twenty-Six" | 886 | 
| Click on any hostname to see more info about the system (e.g. compilers) (*) as reported by 'uname -p', except on Windows and Mac OS X | ||||
| Package 193/221 | Hostname | OS / Arch | INSTALL | BUILD | CHECK | |||||||
| sesame 1.27.0  (landing page) Wanding Zhou 
 | teran2 | Linux (Ubuntu 24.04.1 LTS) / x86_64 | OK | OK | OK | |||||||
| To the developers/maintainers of the sesame package: - Use the following Renviron settings to reproduce errors and warnings. - If 'R CMD check' started to fail recently on the Linux builder(s) over a missing dependency, add the missing dependency to 'Suggests:' in your DESCRIPTION file. See Renviron.bioc for more information. | 
| Package: sesame | 
| Version: 1.27.0 | 
| Command: /home/rapidbuild/bbs-3.22-bioc-rapid/R/bin/R CMD check --install=check:sesame.install-out.txt --library=/home/rapidbuild/bbs-3.22-bioc-rapid/R/site-library --timings sesame_1.27.0.tar.gz | 
| StartedAt: 2025-06-17 21:43:44 -0400 (Tue, 17 Jun 2025) | 
| EndedAt: 2025-06-17 21:58:55 -0400 (Tue, 17 Jun 2025) | 
| EllapsedTime: 911.2 seconds | 
| RetCode: 0 | 
| Status: OK | 
| CheckDir: sesame.Rcheck | 
| Warnings: 0 | 
##############################################################################
##############################################################################
###
### Running command:
###
###   /home/rapidbuild/bbs-3.22-bioc-rapid/R/bin/R CMD check --install=check:sesame.install-out.txt --library=/home/rapidbuild/bbs-3.22-bioc-rapid/R/site-library --timings sesame_1.27.0.tar.gz
###
##############################################################################
##############################################################################
* using log directory ‘/media/volume/teran2_disk/rapidbuild/bbs-3.22-bioc-rapid/meat/sesame.Rcheck’
* using R version 4.5.0 (2025-04-11)
* using platform: x86_64-pc-linux-gnu
* R was compiled by
    gcc (Ubuntu 13.3.0-6ubuntu2~24.04) 13.3.0
    GNU Fortran (Ubuntu 13.3.0-6ubuntu2~24.04) 13.3.0
* running under: Ubuntu 24.04.2 LTS
* using session charset: UTF-8
* checking for file ‘sesame/DESCRIPTION’ ... OK
* checking extension type ... Package
* this is package ‘sesame’ version ‘1.27.0’
* package encoding: UTF-8
* checking package namespace information ... OK
* checking package dependencies ... OK
* checking if this is a source package ... OK
* checking if there is a namespace ... OK
* checking for hidden files and directories ... OK
* checking for portable file names ... OK
* checking for sufficient/correct file permissions ... OK
* checking whether package ‘sesame’ can be installed ... OK
* checking installed package size ... OK
* checking package directory ... OK
* checking ‘build’ directory ... OK
* checking DESCRIPTION meta-information ... OK
* checking top-level files ... OK
* checking for left-over files ... OK
* checking index information ... OK
* checking package subdirectories ... OK
* checking code files for non-ASCII characters ... OK
* checking R files for syntax errors ... OK
* checking whether the package can be loaded ... OK
* checking whether the package can be loaded with stated dependencies ... OK
* checking whether the package can be unloaded cleanly ... OK
* checking whether the namespace can be loaded with stated dependencies ... OK
* checking whether the namespace can be unloaded cleanly ... OK
* checking loading without being on the library search path ... OK
* checking whether startup messages can be suppressed ... OK
* checking dependencies in R code ... OK
* checking S3 generic/method consistency ... OK
* checking replacement functions ... OK
* checking foreign function calls ... OK
* checking R code for possible problems ... OK
* checking Rd files ... OK
* checking Rd metadata ... OK
* checking Rd cross-references ... OK
* checking for missing documentation entries ... OK
* checking for code/documentation mismatches ... OK
* checking Rd \usage sections ... OK
* checking Rd contents ... OK
* checking for unstated dependencies in examples ... OK
* checking files in ‘vignettes’ ... OK
* checking examples ... OK
Examples with CPU (user + system) or elapsed time > 5s
                                user system elapsed
imputeBetasByGenomicNeighbors 26.939  0.648  34.889
inferSex                      17.450  0.245  22.957
sesameQC_calcStats            15.124  0.033  22.080
inferSpecies                  13.476  0.825  17.617
sesameQC_plotHeatSNPs         13.738  0.048  16.109
imputeBetas                   13.334  0.239  18.413
ELBAR                         11.505  0.340  12.872
diffRefSet                    10.926  0.243  11.984
sesameQC_plotBar               9.966  0.116  10.773
getRefSet                      8.826  0.069   9.730
compareReference               7.998  0.154   9.101
compareMouseStrainReference    7.685  0.344   8.816
matchDesign                    7.654  0.050   9.183
sesameQC_plotBetaByDesign      6.977  0.001   7.694
DMR                            6.424  0.183   8.313
estimateLeukocyte              6.109  0.121   7.160
visualizeGene                  6.085  0.131   7.152
inferStrain                    5.175  0.497   7.291
DML                            5.149  0.207   5.717
dyeBiasCorrMostBalanced        5.130  0.111   6.133
inferTissue                    4.894  0.143   6.181
sdf_read_table                 4.886  0.097   5.520
deidentify                     4.041  0.067   5.432
createUCSCtrack                3.744  0.130   5.214
* checking for unstated dependencies in ‘tests’ ... OK
* checking tests ...
  Running ‘testthat.R’
 OK
* checking for unstated dependencies in vignettes ... OK
* checking package vignettes ... OK
* checking re-building of vignette outputs ... OK
* checking PDF version of manual ... OK
* DONE
Status: OK
sesame.Rcheck/00install.out
############################################################################## ############################################################################## ### ### Running command: ### ### /home/rapidbuild/bbs-3.22-bioc-rapid/R/bin/R CMD INSTALL sesame ### ############################################################################## ############################################################################## * installing to library ‘/media/volume/teran2_disk/rapidbuild/bbs-3.22-bioc-rapid/R/site-library’ * installing *source* package ‘sesame’ ... ** this is package ‘sesame’ version ‘1.27.0’ ** using staged installation ** R ** inst ** byte-compile and prepare package for lazy loading ** help *** installing help indices ** building package indices ** installing vignettes ** testing if installed package can be loaded from temporary location ** testing if installed package can be loaded from final location ** testing if installed package keeps a record of temporary installation path * DONE (sesame)
sesame.Rcheck/tests/testthat.Rout
R version 4.5.0 (2025-04-11) -- "How About a Twenty-Six"
Copyright (C) 2025 The R Foundation for Statistical Computing
Platform: x86_64-pc-linux-gnu
R is free software and comes with ABSOLUTELY NO WARRANTY.
You are welcome to redistribute it under certain conditions.
Type 'license()' or 'licence()' for distribution details.
R is a collaborative project with many contributors.
Type 'contributors()' for more information and
'citation()' on how to cite R or R packages in publications.
Type 'demo()' for some demos, 'help()' for on-line help, or
'help.start()' for an HTML browser interface to help.
Type 'q()' to quit R.
> library(testthat)
> library(sesame)
Loading required package: sesameData
Loading required package: ExperimentHub
Loading required package: BiocGenerics
Loading required package: generics
Attaching package: 'generics'
The following objects are masked from 'package:base':
    as.difftime, as.factor, as.ordered, intersect, is.element, setdiff,
    setequal, union
Attaching package: 'BiocGenerics'
The following objects are masked from 'package:stats':
    IQR, mad, sd, var, xtabs
The following objects are masked from 'package:base':
    Filter, Find, Map, Position, Reduce, anyDuplicated, aperm, append,
    as.data.frame, basename, cbind, colnames, dirname, do.call,
    duplicated, eval, evalq, get, grep, grepl, is.unsorted, lapply,
    mapply, match, mget, order, paste, pmax, pmax.int, pmin, pmin.int,
    rank, rbind, rownames, sapply, saveRDS, table, tapply, unique,
    unsplit, which.max, which.min
Loading required package: AnnotationHub
Loading required package: BiocFileCache
Loading required package: dbplyr
Loading sesameData.
----------------------------------------------------------
| SEnsible Step-wise Analysis of DNA MEthylation (SeSAMe)
| --------------------------------------------------------
| Please cache auxiliary data by "sesameDataCache()".
| This needs to be done only once per SeSAMe installation.
----------------------------------------------------------
> 
> test_check("sesame")
[ FAIL 0 | WARN 0 | SKIP 0 | PASS 5 ]
> 
> proc.time()
   user  system elapsed 
 14.843   0.782  18.528 
sesame.Rcheck/sesame-Ex.timings
| name | user | system | elapsed | |
| BetaValueToMValue | 0.001 | 0.000 | 0.000 | |
| DML | 5.149 | 0.207 | 5.717 | |
| DMLpredict | 0.717 | 0.030 | 0.769 | |
| DMR | 6.424 | 0.183 | 8.313 | |
| ELBAR | 11.505 | 0.340 | 12.872 | |
| MValueToBetaValue | 0 | 0 | 0 | |
| SigDF | 0.244 | 0.017 | 0.260 | |
| addMask | 0.055 | 0.000 | 0.056 | |
| betasCollapseToPfx | 0.010 | 0.000 | 0.011 | |
| bisConversionControl | 3.399 | 0.066 | 4.109 | |
| calcEffectSize | 0.692 | 0.023 | 0.746 | |
| checkLevels | 3.447 | 0.059 | 3.871 | |
| cnSegmentation | 0.166 | 0.017 | 0.183 | |
| compareMouseStrainReference | 7.685 | 0.344 | 8.816 | |
| compareMouseTissueReference | 0 | 0 | 0 | |
| compareReference | 7.998 | 0.154 | 9.101 | |
| controls | 1.229 | 0.039 | 1.838 | |
| createUCSCtrack | 3.744 | 0.130 | 5.214 | |
| deidentify | 4.041 | 0.067 | 5.432 | |
| detectionPnegEcdf | 0.639 | 0.000 | 0.684 | |
| diffRefSet | 10.926 | 0.243 | 11.984 | |
| dmContrasts | 1.455 | 0.031 | 1.791 | |
| dyeBiasCorr | 1.732 | 0.130 | 1.883 | |
| dyeBiasCorrMostBalanced | 5.130 | 0.111 | 6.133 | |
| dyeBiasL | 1.892 | 0.073 | 2.098 | |
| dyeBiasNL | 4.370 | 0.122 | 4.936 | |
| estimateLeukocyte | 6.109 | 0.121 | 7.160 | |
| formatVCF | 1.320 | 0.046 | 1.521 | |
| getAFTypeIbySumAlleles | 0.895 | 0.043 | 0.986 | |
| getAFs | 0.719 | 0.015 | 0.739 | |
| getBetas | 0.481 | 0.018 | 0.667 | |
| getMask | 3.579 | 0.114 | 4.009 | |
| getRefSet | 8.826 | 0.069 | 9.730 | |
| imputeBetas | 13.334 | 0.239 | 18.413 | |
| imputeBetasByGenomicNeighbors | 26.939 | 0.648 | 34.889 | |
| imputeBetasMatrixByMean | 0.000 | 0.001 | 0.001 | |
| inferEthnicity | 0.001 | 0.000 | 0.000 | |
| inferInfiniumIChannel | 0.177 | 0.132 | 0.344 | |
| inferSex | 17.450 | 0.245 | 22.957 | |
| inferSpecies | 13.476 | 0.825 | 17.617 | |
| inferStrain | 5.175 | 0.497 | 7.291 | |
| inferTissue | 4.894 | 0.143 | 6.181 | |
| initFileSet | 0.630 | 0.023 | 0.694 | |
| listAvailableMasks | 0.645 | 0.022 | 0.855 | |
| mLiftOver | 0 | 0 | 0 | |
| mapFileSet | 0.024 | 0.000 | 0.050 | |
| mapToMammal40 | 1.306 | 0.059 | 1.526 | |
| matchDesign | 7.654 | 0.050 | 9.183 | |
| meanIntensity | 1.833 | 0.050 | 2.720 | |
| medianTotalIntensity | 0.729 | 0.017 | 0.749 | |
| noMasked | 2.213 | 0.043 | 2.806 | |
| noob | 1.341 | 0.116 | 2.904 | |
| openSesame | 2.983 | 0.137 | 3.399 | |
| openSesameToFile | 2.368 | 0.034 | 2.537 | |
| pOOBAH | 0.905 | 0.004 | 0.980 | |
| palgen | 0.028 | 0.002 | 0.036 | |
| parseGEOsignalMU | 1.981 | 0.047 | 2.313 | |
| predictAge | 1.618 | 0.031 | 1.843 | |
| predictAgeHorvath353 | 0.000 | 0.000 | 0.001 | |
| predictAgeSkinBlood | 0 | 0 | 0 | |
| predictMouseAgeInMonth | 0 | 0 | 0 | |
| prefixMask | 0.386 | 0.000 | 0.422 | |
| prefixMaskButC | 0.112 | 0.000 | 0.112 | |
| prefixMaskButCG | 0.047 | 0.000 | 0.047 | |
| prepSesame | 2.508 | 0.024 | 2.586 | |
| prepSesameList | 0.001 | 0.000 | 0.001 | |
| print.DMLSummary | 2.142 | 0.053 | 3.447 | |
| print.fileSet | 0.672 | 0.029 | 0.790 | |
| probeID_designType | 0.000 | 0.000 | 0.001 | |
| probeSuccessRate | 3.280 | 0.082 | 4.053 | |
| qualityMask | 1.412 | 0.057 | 2.940 | |
| reIdentify | 2.814 | 0.034 | 4.356 | |
| readFileSet | 0.039 | 0.002 | 0.043 | |
| readIDATpair | 0.067 | 0.000 | 0.068 | |
| recommendedMaskNames | 0 | 0 | 0 | |
| resetMask | 0.229 | 0.019 | 0.339 | |
| scrub | 1.585 | 0.002 | 1.609 | |
| scrubSoft | 2.330 | 0.000 | 2.431 | |
| sdfPlatform | 0.183 | 0.013 | 0.248 | |
| sdf_read_table | 4.886 | 0.097 | 5.520 | |
| sdf_write_table | 1.129 | 0.068 | 1.304 | |
| searchIDATprefixes | 0.004 | 0.000 | 0.010 | |
| sesame-package | 1.591 | 0.038 | 1.747 | |
| sesameAnno_attachManifest | 0 | 0 | 0 | |
| sesameAnno_buildAddressFile | 0 | 0 | 0 | |
| sesameAnno_buildManifestGRanges | 0 | 0 | 0 | |
| sesameAnno_download | 0.000 | 0.000 | 0.001 | |
| sesameAnno_readManifestTSV | 0 | 0 | 0 | |
| sesameQC_calcStats | 15.124 | 0.033 | 22.080 | |
| sesameQC_getStats | 1.203 | 0.001 | 1.248 | |
| sesameQC_plotBar | 9.966 | 0.116 | 10.773 | |
| sesameQC_plotBetaByDesign | 6.977 | 0.001 | 7.694 | |
| sesameQC_plotHeatSNPs | 13.738 | 0.048 | 16.109 | |
| sesameQC_plotIntensVsBetas | 1.172 | 0.022 | 1.285 | |
| sesameQC_plotRedGrnQQ | 1.014 | 0.047 | 1.209 | |
| sesameQC_rankStats | 2.031 | 0.044 | 2.389 | |
| sesameQCtoDF | 1.430 | 0.008 | 1.807 | |
| sesame_checkVersion | 0.003 | 0.000 | 0.004 | |
| sesamize | 0 | 0 | 0 | |
| setMask | 0.059 | 0.000 | 0.060 | |
| signalMU | 0.662 | 0.017 | 0.734 | |
| sliceFileSet | 0.025 | 0.000 | 0.025 | |
| summaryExtractTest | 2.315 | 0.044 | 2.479 | |
| totalIntensities | 1.529 | 0.051 | 1.957 | |
| updateSigDF | 1.912 | 0.075 | 2.513 | |
| visualizeGene | 6.085 | 0.131 | 7.152 | |
| visualizeProbes | 0.682 | 0.000 | 1.047 | |
| visualizeRegion | 0.230 | 0.000 | 0.462 | |
| visualizeSegments | 1.819 | 0.020 | 2.876 | |