| Back to Rapid builds (Linux only) of a subset of BioC 3.22 Report updated every 6 hours | 
This page was generated on 2025-06-17 22:14 -0400 (Tue, 17 Jun 2025).
| Hostname | OS | Arch (*) | R version | Installed pkgs | 
|---|---|---|---|---|
| teran2 | Linux (Ubuntu 24.04.1 LTS) | x86_64 | 4.5.0 (2025-04-11) -- "How About a Twenty-Six" | 886 | 
| Click on any hostname to see more info about the system (e.g. compilers) (*) as reported by 'uname -p', except on Windows and Mac OS X | ||||
| Package 121/221 | Hostname | OS / Arch | INSTALL | BUILD | CHECK | |||||||
| interactiveDisplay 1.47.0  (landing page) Bioconductor Package Maintainer 
 | teran2 | Linux (Ubuntu 24.04.1 LTS) / x86_64 | OK | OK | OK | |||||||
| To the developers/maintainers of the interactiveDisplay package: - Use the following Renviron settings to reproduce errors and warnings. - If 'R CMD check' started to fail recently on the Linux builder(s) over a missing dependency, add the missing dependency to 'Suggests:' in your DESCRIPTION file. See Renviron.bioc for more information. | 
| Package: interactiveDisplay | 
| Version: 1.47.0 | 
| Command: /home/rapidbuild/bbs-3.22-bioc-rapid/R/bin/R CMD build --keep-empty-dirs --no-resave-data interactiveDisplay | 
| StartedAt: 2025-06-17 19:08:58 -0400 (Tue, 17 Jun 2025) | 
| EndedAt: 2025-06-17 19:09:46 -0400 (Tue, 17 Jun 2025) | 
| EllapsedTime: 47.0 seconds | 
| RetCode: 0 | 
| Status: OK | 
| PackageFile: interactiveDisplay_1.47.0.tar.gz | 
| PackageFileSize: 4.561 MiB | 
##############################################################################
##############################################################################
###
### Running command:
###
###   /home/rapidbuild/bbs-3.22-bioc-rapid/R/bin/R CMD build --keep-empty-dirs --no-resave-data interactiveDisplay
###
##############################################################################
##############################################################################
* checking for file ‘interactiveDisplay/DESCRIPTION’ ... OK
* preparing ‘interactiveDisplay’:
* checking DESCRIPTION meta-information ... OK
* installing the package to build vignettes
* creating vignettes ... OK
* checking for LF line-endings in source and make files and shell scripts
* checking for empty or unneeded directories
* looking to see if a ‘data/datalist’ file should be added
  NB: this package now depends on R (>= 3.5.0)
  WARNING: Added dependency on R >= 3.5.0 because serialized objects in
  serialize/load version 3 cannot be read in older versions of R.
  File(s) containing such objects:
    ‘interactiveDisplay/data/expr.rda’ ‘interactiveDisplay/data/mmgr.rda’
    ‘interactiveDisplay/data/mmgrl.rda’ ‘interactiveDisplay/data/se.rda’
* building ‘interactiveDisplay_1.47.0.tar.gz’