| Back to Rapid builds (Linux only) of a subset of BioC 3.22 Report updated every 6 hours | 
This page was generated on 2025-06-17 22:14 -0400 (Tue, 17 Jun 2025).
| Hostname | OS | Arch (*) | R version | Installed pkgs | 
|---|---|---|---|---|
| teran2 | Linux (Ubuntu 24.04.1 LTS) | x86_64 | 4.5.0 (2025-04-11) -- "How About a Twenty-Six" | 886 | 
| Click on any hostname to see more info about the system (e.g. compilers) (*) as reported by 'uname -p', except on Windows and Mac OS X | ||||
| Package 136/221 | Hostname | OS / Arch | INSTALL | BUILD | CHECK | |||||||
| metagenomeSeq 1.51.0  (landing page) Joseph N. Paulson 
 | teran2 | Linux (Ubuntu 24.04.1 LTS) / x86_64 | OK | OK | OK | |||||||
| To the developers/maintainers of the metagenomeSeq package: - Use the following Renviron settings to reproduce errors and warnings. - If 'R CMD check' started to fail recently on the Linux builder(s) over a missing dependency, add the missing dependency to 'Suggests:' in your DESCRIPTION file. See Renviron.bioc for more information. | 
| Package: metagenomeSeq | 
| Version: 1.51.0 | 
| Command: /home/rapidbuild/bbs-3.22-bioc-rapid/R/bin/R CMD check --install=check:metagenomeSeq.install-out.txt --library=/home/rapidbuild/bbs-3.22-bioc-rapid/R/site-library --timings metagenomeSeq_1.51.0.tar.gz | 
| StartedAt: 2025-06-17 21:11:23 -0400 (Tue, 17 Jun 2025) | 
| EndedAt: 2025-06-17 21:14:48 -0400 (Tue, 17 Jun 2025) | 
| EllapsedTime: 205.3 seconds | 
| RetCode: 0 | 
| Status: OK | 
| CheckDir: metagenomeSeq.Rcheck | 
| Warnings: 0 | 
##############################################################################
##############################################################################
###
### Running command:
###
###   /home/rapidbuild/bbs-3.22-bioc-rapid/R/bin/R CMD check --install=check:metagenomeSeq.install-out.txt --library=/home/rapidbuild/bbs-3.22-bioc-rapid/R/site-library --timings metagenomeSeq_1.51.0.tar.gz
###
##############################################################################
##############################################################################
* using log directory ‘/media/volume/teran2_disk/rapidbuild/bbs-3.22-bioc-rapid/meat/metagenomeSeq.Rcheck’
* using R version 4.5.0 (2025-04-11)
* using platform: x86_64-pc-linux-gnu
* R was compiled by
    gcc (Ubuntu 13.3.0-6ubuntu2~24.04) 13.3.0
    GNU Fortran (Ubuntu 13.3.0-6ubuntu2~24.04) 13.3.0
* running under: Ubuntu 24.04.2 LTS
* using session charset: UTF-8
* checking for file ‘metagenomeSeq/DESCRIPTION’ ... OK
* this is package ‘metagenomeSeq’ version ‘1.51.0’
* checking package namespace information ... OK
* checking package dependencies ... OK
* checking if this is a source package ... OK
* checking if there is a namespace ... OK
* checking for hidden files and directories ... OK
* checking for portable file names ... OK
* checking for sufficient/correct file permissions ... OK
* checking whether package ‘metagenomeSeq’ can be installed ... OK
* checking installed package size ... OK
* checking package directory ... OK
* checking ‘build’ directory ... OK
* checking DESCRIPTION meta-information ... OK
* checking top-level files ... OK
* checking for left-over files ... OK
* checking index information ... OK
* checking package subdirectories ... OK
* checking code files for non-ASCII characters ... OK
* checking R files for syntax errors ... OK
* checking whether the package can be loaded ... OK
* checking whether the package can be loaded with stated dependencies ... OK
* checking whether the package can be unloaded cleanly ... OK
* checking whether the namespace can be loaded with stated dependencies ... OK
* checking whether the namespace can be unloaded cleanly ... OK
* checking loading without being on the library search path ... OK
* checking dependencies in R code ... OK
* checking S3 generic/method consistency ... OK
* checking replacement functions ... OK
* checking foreign function calls ... OK
* checking R code for possible problems ... OK
* checking Rd files ... OK
* checking Rd metadata ... OK
* checking Rd cross-references ... OK
* checking for missing documentation entries ... OK
* checking for code/documentation mismatches ... OK
* checking Rd \usage sections ... OK
* checking Rd contents ... OK
* checking for unstated dependencies in examples ... OK
* checking contents of ‘data’ directory ... OK
* checking data for non-ASCII characters ... OK
* checking data for ASCII and uncompressed saves ... OK
* checking files in ‘vignettes’ ... OK
* checking examples ... OK
Examples with CPU (user + system) or elapsed time > 5s
            user system elapsed
wrenchNorm 9.571  0.389   9.984
* checking for unstated dependencies in ‘tests’ ... OK
* checking tests ...
  Running ‘testthat.R’
 OK
* checking for unstated dependencies in vignettes ... OK
* checking package vignettes ... OK
* checking re-building of vignette outputs ... OK
* checking PDF version of manual ... OK
* DONE
Status: OK
metagenomeSeq.Rcheck/00install.out
############################################################################## ############################################################################## ### ### Running command: ### ### /home/rapidbuild/bbs-3.22-bioc-rapid/R/bin/R CMD INSTALL metagenomeSeq ### ############################################################################## ############################################################################## * installing to library ‘/media/volume/teran2_disk/rapidbuild/bbs-3.22-bioc-rapid/R/site-library’ * installing *source* package ‘metagenomeSeq’ ... ** this is package ‘metagenomeSeq’ version ‘1.51.0’ ** using staged installation ** R ** data ** inst ** byte-compile and prepare package for lazy loading in method for ‘MRihw’ with signature ‘"fitFeatureModelResults"’: no definition for class “fitFeatureModelResults” in method for ‘MRihw’ with signature ‘"fitZigResults"’: no definition for class “fitZigResults” ** help *** installing help indices ** building package indices ** installing vignettes ** testing if installed package can be loaded from temporary location ** testing if installed package can be loaded from final location ** testing if installed package keeps a record of temporary installation path * DONE (metagenomeSeq)
metagenomeSeq.Rcheck/tests/testthat.Rout
R version 4.5.0 (2025-04-11) -- "How About a Twenty-Six"
Copyright (C) 2025 The R Foundation for Statistical Computing
Platform: x86_64-pc-linux-gnu
R is free software and comes with ABSOLUTELY NO WARRANTY.
You are welcome to redistribute it under certain conditions.
Type 'license()' or 'licence()' for distribution details.
R is a collaborative project with many contributors.
Type 'contributors()' for more information and
'citation()' on how to cite R or R packages in publications.
Type 'demo()' for some demos, 'help()' for on-line help, or
'help.start()' for an HTML browser interface to help.
Type 'q()' to quit R.
> library("testthat")
> packageVersion("metagenomeSeq")
[1] '1.51.0'
> # As suggested for opt-out option on testing by users, 
> # recommended by CRAN: http://adv-r.had.co.nz/Testing.html
> # Previously, best practice was to put all test files in inst/tests 
> # and ensure that R CMD check ran them by putting the following code in tests/test-all.R:  
> # >library(testthat)
> # >library(yourpackage)
> # >test_package("yourpackage")
> # Now, recommended practice is to put your tests in tests/testthat, 
> # and ensure R CMD check runs them by putting the following code in tests/test-all.R:
> # >library(testthat)
> # >test_check("yourpackage")
> # The advantage of this new structure is that the user has control over whether or not tests are installed using the –install-tests parameter to 
> # R CMD install, or INSTALL_opts = c(“–install-tests”) argument to install.packages(). I’m not sure why you wouldn’t want to install the tests, 
> # but now you have the flexibility as requested by CRAN maintainers.
> test_check("metagenomeSeq")
Loading required package: metagenomeSeq
Loading required package: Biobase
Loading required package: BiocGenerics
Loading required package: generics
Attaching package: 'generics'
The following objects are masked from 'package:base':
    as.difftime, as.factor, as.ordered, intersect, is.element, setdiff,
    setequal, union
Attaching package: 'BiocGenerics'
The following objects are masked from 'package:stats':
    IQR, mad, sd, var, xtabs
The following objects are masked from 'package:base':
    Filter, Find, Map, Position, Reduce, anyDuplicated, aperm, append,
    as.data.frame, basename, cbind, colnames, dirname, do.call,
    duplicated, eval, evalq, get, grep, grepl, is.unsorted, lapply,
    mapply, match, mget, order, paste, pmax, pmax.int, pmin, pmin.int,
    rank, rbind, rownames, sapply, saveRDS, table, tapply, unique,
    unsplit, which.max, which.min
Welcome to Bioconductor
    Vignettes contain introductory material; view with
    'browseVignettes()'. To cite Bioconductor, see
    'citation("Biobase")', and for packages 'citation("pkgname")'.
Loading required package: limma
Attaching package: 'limma'
The following object is masked from 'package:BiocGenerics':
    plotMA
Loading required package: glmnet
Loading required package: Matrix
Loaded glmnet 4.1-9
Loading required package: RColorBrewer
[ FAIL 0 | WARN 6 | SKIP 0 | PASS 15 ]
[ FAIL 0 | WARN 6 | SKIP 0 | PASS 15 ]
> 
> proc.time()
   user  system elapsed 
 67.021   1.661  68.768 
metagenomeSeq.Rcheck/metagenomeSeq-Ex.timings
| name | user | system | elapsed | |
| MRcoefs | 0.842 | 0.067 | 0.919 | |
| MRcounts | 0.382 | 0.019 | 0.404 | |
| MRexperiment-class | 0 | 0 | 0 | |
| MRfulltable | 0.715 | 0.038 | 3.866 | |
| MRtable | 0.688 | 0.005 | 0.692 | |
| aggregateBySample | 0.101 | 0.011 | 0.112 | |
| aggregateByTaxonomy | 0.117 | 0.007 | 0.125 | |
| biom2MRexperiment | 0.142 | 0.005 | 0.148 | |
| calcNormFactors | 0.437 | 0.016 | 0.454 | |
| correctIndices | 0.080 | 0.008 | 0.089 | |
| correlationTest | 0.150 | 0.023 | 0.174 | |
| cumNorm | 0.265 | 0.013 | 0.279 | |
| cumNormMat | 0.293 | 0.028 | 0.322 | |
| cumNormStat | 0.504 | 0.008 | 0.523 | |
| cumNormStatFast | 0.201 | 0.009 | 0.216 | |
| expSummary | 0.061 | 0.019 | 0.080 | |
| exportMat | 0.712 | 0.639 | 1.361 | |
| exportStats | 0.246 | 0.002 | 0.248 | |
| extractMR | 0.390 | 0.298 | 0.688 | |
| filterData | 0.110 | 0.012 | 0.121 | |
| fitDO | 0.245 | 0.002 | 1.919 | |
| fitFeatureModel | 0.733 | 0.041 | 0.775 | |
| fitLogNormal | 1.016 | 0.033 | 1.049 | |
| fitMultipleTimeSeries | 1.209 | 0.012 | 1.222 | |
| fitPA | 0.236 | 0.004 | 1.859 | |
| fitSSTimeSeries | 0.262 | 0.010 | 0.272 | |
| fitTimeSeries | 0.258 | 0.009 | 0.268 | |
| fitZig | 1.033 | 0.013 | 1.047 | |
| libSize-set | 0.193 | 0.012 | 0.205 | |
| libSize | 0.186 | 0.000 | 0.186 | |
| loadBiom | 0.028 | 0.001 | 0.029 | |
| loadMeta | 0.014 | 0.000 | 0.015 | |
| loadMetaQ | 0 | 0 | 0 | |
| loadPhenoData | 0.006 | 0.000 | 0.008 | |
| makeLabels | 0 | 0 | 0 | |
| mergeMRexperiments | 1.444 | 0.280 | 1.727 | |
| newMRexperiment | 0.029 | 0.001 | 0.030 | |
| normFactors-set | 0.252 | 0.002 | 0.254 | |
| normFactors | 0.237 | 0.001 | 0.239 | |
| plotBubble | 0.241 | 0.031 | 2.764 | |
| plotClassTimeSeries | 0.866 | 0.014 | 0.881 | |
| plotCorr | 0.393 | 0.027 | 0.419 | |
| plotFeature | 0.134 | 0.026 | 0.160 | |
| plotGenus | 0.116 | 0.030 | 0.148 | |
| plotMRheatmap | 1.977 | 0.042 | 2.019 | |
| plotOTU | 0.119 | 0.018 | 0.138 | |
| plotOrd | 0.185 | 0.015 | 0.200 | |
| plotRare | 0.128 | 0.007 | 0.135 | |
| plotTimeSeries | 0.732 | 0.022 | 0.753 | |
| posteriorProbs | 1.011 | 0.061 | 1.072 | |
| returnAppropriateObj | 0.187 | 0.002 | 0.188 | |
| ssFit | 0 | 0 | 0 | |
| ssIntervalCandidate | 0 | 0 | 0 | |
| ssPerm | 0.001 | 0.000 | 0.001 | |
| ssPermAnalysis | 0 | 0 | 0 | |
| trapz | 0 | 0 | 0 | |
| ts2MRexperiment | 0.999 | 0.009 | 1.008 | |
| uniqueFeatures | 0.070 | 0.018 | 0.088 | |
| wrenchNorm | 9.571 | 0.389 | 9.984 | |
| zigControl | 0 | 0 | 0 | |