| Back to Rapid builds (Linux only) of a subset of BioC 3.22 Report updated every 6 hours | 
This page was generated on 2025-06-17 22:14 -0400 (Tue, 17 Jun 2025).
| Hostname | OS | Arch (*) | R version | Installed pkgs | 
|---|---|---|---|---|
| teran2 | Linux (Ubuntu 24.04.1 LTS) | x86_64 | 4.5.0 (2025-04-11) -- "How About a Twenty-Six" | 886 | 
| Click on any hostname to see more info about the system (e.g. compilers) (*) as reported by 'uname -p', except on Windows and Mac OS X | ||||
| Package 98/221 | Hostname | OS / Arch | INSTALL | BUILD | CHECK | |||||||
| GenomicFeatures 1.61.3  (landing page) H. Pagès 
 | teran2 | Linux (Ubuntu 24.04.1 LTS) / x86_64 | OK | OK | OK | |||||||
| To the developers/maintainers of the GenomicFeatures package: - Use the following Renviron settings to reproduce errors and warnings. - If 'R CMD check' started to fail recently on the Linux builder(s) over a missing dependency, add the missing dependency to 'Suggests:' in your DESCRIPTION file. See Renviron.bioc for more information. | 
| Package: GenomicFeatures | 
| Version: 1.61.3 | 
| Command: /home/rapidbuild/bbs-3.22-bioc-rapid/R/bin/R CMD check --install=check:GenomicFeatures.install-out.txt --library=/home/rapidbuild/bbs-3.22-bioc-rapid/R/site-library --timings GenomicFeatures_1.61.3.tar.gz | 
| StartedAt: 2025-06-17 20:48:08 -0400 (Tue, 17 Jun 2025) | 
| EndedAt: 2025-06-17 20:56:30 -0400 (Tue, 17 Jun 2025) | 
| EllapsedTime: 501.9 seconds | 
| RetCode: 0 | 
| Status: OK | 
| CheckDir: GenomicFeatures.Rcheck | 
| Warnings: 0 | 
##############################################################################
##############################################################################
###
### Running command:
###
###   /home/rapidbuild/bbs-3.22-bioc-rapid/R/bin/R CMD check --install=check:GenomicFeatures.install-out.txt --library=/home/rapidbuild/bbs-3.22-bioc-rapid/R/site-library --timings GenomicFeatures_1.61.3.tar.gz
###
##############################################################################
##############################################################################
* using log directory ‘/media/volume/teran2_disk/rapidbuild/bbs-3.22-bioc-rapid/meat/GenomicFeatures.Rcheck’
* using R version 4.5.0 (2025-04-11)
* using platform: x86_64-pc-linux-gnu
* R was compiled by
    gcc (Ubuntu 13.3.0-6ubuntu2~24.04) 13.3.0
    GNU Fortran (Ubuntu 13.3.0-6ubuntu2~24.04) 13.3.0
* running under: Ubuntu 24.04.2 LTS
* using session charset: UTF-8
* checking for file ‘GenomicFeatures/DESCRIPTION’ ... OK
* this is package ‘GenomicFeatures’ version ‘1.61.3’
* package encoding: UTF-8
* checking package namespace information ... OK
* checking package dependencies ... INFO
Depends: includes the non-default packages:
  'BiocGenerics', 'S4Vectors', 'IRanges', 'GenomeInfoDb',
  'GenomicRanges', 'AnnotationDbi'
Adding so many packages to the search path is excessive and importing
selectively is preferable.
* checking if this is a source package ... OK
* checking if there is a namespace ... OK
* checking for hidden files and directories ... OK
* checking for portable file names ... OK
* checking for sufficient/correct file permissions ... OK
* checking whether package ‘GenomicFeatures’ can be installed ... OK
* checking installed package size ... OK
* checking package directory ... OK
* checking ‘build’ directory ... OK
* checking DESCRIPTION meta-information ... OK
* checking top-level files ... OK
* checking for left-over files ... OK
* checking index information ... OK
* checking package subdirectories ... OK
* checking code files for non-ASCII characters ... OK
* checking R files for syntax errors ... OK
* checking whether the package can be loaded ... OK
* checking whether the package can be loaded with stated dependencies ... OK
* checking whether the package can be unloaded cleanly ... OK
* checking whether the namespace can be loaded with stated dependencies ... OK
* checking whether the namespace can be unloaded cleanly ... OK
* checking loading without being on the library search path ... OK
* checking dependencies in R code ... NOTE
Unexported objects imported by ':::' calls:
  ‘AnnotationDbi:::.getMetaValue’ ‘AnnotationDbi:::.valid.colnames’
  ‘AnnotationDbi:::.valid.metadata.table’
  ‘AnnotationDbi:::.valid.table.colnames’ ‘AnnotationDbi:::dbEasyQuery’
  ‘AnnotationDbi:::dbQuery’ ‘AnnotationDbi:::smartKeys’
  ‘BiocGenerics:::testPackage’
  ‘GenomeInfoDb:::getSeqlevelsReplacementMode’
  ‘GenomeInfoDb:::normarg_new2old’
  ‘GenomicRanges:::unsafe.transcriptLocs2refLocs’
  ‘GenomicRanges:::unsafe.transcriptWidths’
  ‘IRanges:::regroupBySupergroup’ ‘S4Vectors:::V_recycle’
  ‘S4Vectors:::decodeRle’ ‘S4Vectors:::extract_data_frame_rows’
  See the note in ?`:::` about the use of this operator.
* checking S3 generic/method consistency ... OK
* checking replacement functions ... OK
* checking foreign function calls ... OK
* checking R code for possible problems ... OK
* checking Rd files ... OK
* checking Rd metadata ... OK
* checking Rd cross-references ... NOTE
Found the following Rd file(s) with Rd \link{} targets missing package
anchors:
  FeatureDb-class.Rd: saveDb, loadDb
  extractUpstreamSeqs.Rd: mcols
  getPromoterSeq-methods.Rd: GRanges, GRangesList
  nearest-methods.Rd: GenomicRanges
Please provide package anchors for all Rd \link{} targets not in the
package itself and the base packages.
* checking for missing documentation entries ... OK
* checking for code/documentation mismatches ... OK
* checking Rd \usage sections ... OK
* checking Rd contents ... OK
* checking for unstated dependencies in examples ... OK
* checking files in ‘vignettes’ ... OK
* checking examples ... OK
Examples with CPU (user + system) or elapsed time > 5s
                             user system elapsed
coordinate-mapping-methods 53.313  3.987  69.199
coverageByTranscript       47.360  3.420  55.112
exonicParts                23.704  0.296  25.410
extractTranscriptSeqs       8.908  0.137   9.528
getPromoterSeq-methods      2.247  0.827  20.919
* checking for unstated dependencies in ‘tests’ ... OK
* checking tests ...
  Running ‘run_unitTests.R’
 OK
* checking for unstated dependencies in vignettes ... OK
* checking package vignettes ... OK
* checking re-building of vignette outputs ... OK
* checking PDF version of manual ... OK
* DONE
Status: 2 NOTEs
See
  ‘/media/volume/teran2_disk/rapidbuild/bbs-3.22-bioc-rapid/meat/GenomicFeatures.Rcheck/00check.log’
for details.
GenomicFeatures.Rcheck/00install.out
############################################################################## ############################################################################## ### ### Running command: ### ### /home/rapidbuild/bbs-3.22-bioc-rapid/R/bin/R CMD INSTALL GenomicFeatures ### ############################################################################## ############################################################################## * installing to library ‘/media/volume/teran2_disk/rapidbuild/bbs-3.22-bioc-rapid/R/site-library’ * installing *source* package ‘GenomicFeatures’ ... ** this is package ‘GenomicFeatures’ version ‘1.61.3’ ** using staged installation ** R ** inst ** byte-compile and prepare package for lazy loading ** help *** installing help indices ** building package indices ** installing vignettes ** testing if installed package can be loaded from temporary location ** testing if installed package can be loaded from final location ** testing if installed package keeps a record of temporary installation path * DONE (GenomicFeatures)
GenomicFeatures.Rcheck/tests/run_unitTests.Rout
R version 4.5.0 (2025-04-11) -- "How About a Twenty-Six"
Copyright (C) 2025 The R Foundation for Statistical Computing
Platform: x86_64-pc-linux-gnu
R is free software and comes with ABSOLUTELY NO WARRANTY.
You are welcome to redistribute it under certain conditions.
Type 'license()' or 'licence()' for distribution details.
R is a collaborative project with many contributors.
Type 'contributors()' for more information and
'citation()' on how to cite R or R packages in publications.
Type 'demo()' for some demos, 'help()' for on-line help, or
'help.start()' for an HTML browser interface to help.
Type 'q()' to quit R.
> require("GenomicFeatures") || stop("unable to load GenomicFeatures package")
Loading required package: GenomicFeatures
Loading required package: BiocGenerics
Loading required package: generics
Attaching package: 'generics'
The following objects are masked from 'package:base':
    as.difftime, as.factor, as.ordered, intersect, is.element, setdiff,
    setequal, union
Attaching package: 'BiocGenerics'
The following objects are masked from 'package:stats':
    IQR, mad, sd, var, xtabs
The following objects are masked from 'package:base':
    Filter, Find, Map, Position, Reduce, anyDuplicated, aperm, append,
    as.data.frame, basename, cbind, colnames, dirname, do.call,
    duplicated, eval, evalq, get, grep, grepl, is.unsorted, lapply,
    mapply, match, mget, order, paste, pmax, pmax.int, pmin, pmin.int,
    rank, rbind, rownames, sapply, saveRDS, table, tapply, unique,
    unsplit, which.max, which.min
Loading required package: S4Vectors
Loading required package: stats4
Attaching package: 'S4Vectors'
The following object is masked from 'package:utils':
    findMatches
The following objects are masked from 'package:base':
    I, expand.grid, unname
Loading required package: IRanges
Loading required package: GenomeInfoDb
Loading required package: GenomicRanges
Loading required package: AnnotationDbi
Loading required package: Biobase
Welcome to Bioconductor
    Vignettes contain introductory material; view with
    'browseVignettes()'. To cite Bioconductor, see
    'citation("Biobase")', and for packages 'citation("pkgname")'.
[1] TRUE
> GenomicFeatures:::.test()
Loading required package: BSgenome
Loading required package: Biostrings
Loading required package: XVector
Attaching package: 'Biostrings'
The following object is masked from 'package:base':
    strsplit
Loading required package: BiocIO
Loading required package: rtracklayer
Attaching package: 'txdbmaker'
The following objects are masked from 'package:GenomicFeatures':
    UCSCFeatureDbTableSchema, browseUCSCtrack, getChromInfoFromBiomart,
    makeFDbPackageFromUCSC, makeFeatureDbFromUCSC, makePackageName,
    makeTxDb, makeTxDbFromBiomart, makeTxDbFromEnsembl,
    makeTxDbFromGFF, makeTxDbFromGRanges, makeTxDbFromUCSC,
    makeTxDbPackage, makeTxDbPackageFromBiomart,
    makeTxDbPackageFromUCSC, supportedMiRBaseBuildValues,
    supportedUCSCFeatureDbTables, supportedUCSCFeatureDbTracks,
    supportedUCSCtables
'select()' returned 1:1 mapping between keys and columns
'select()' returned 1:many mapping between keys and columns
'select()' returned 1:many mapping between keys and columns
'select()' returned 1:1 mapping between keys and columns
'select()' returned 1:1 mapping between keys and columns
'select()' returned 1:many mapping between keys and columns
'select()' returned 1:many mapping between keys and columns
'select()' returned 1:many mapping between keys and columns
'select()' returned 1:many mapping between keys and columns
'select()' returned 1:many mapping between keys and columns
'select()' returned 1:many mapping between keys and columns
'select()' returned 1:many mapping between keys and columns
'select()' returned 1:many mapping between keys and columns
'select()' returned 1:many mapping between keys and columns
'select()' returned 1:many mapping between keys and columns
'select()' returned 1:1 mapping between keys and columns
'select()' returned 1:many mapping between keys and columns
'select()' returned 1:many mapping between keys and columns
'select()' returned 1:many mapping between keys and columns
'select()' returned 1:1 mapping between keys and columns
Import genomic features from the file as a GRanges object ... OK
Prepare the 'metadata' data frame ... OK
Make the TxDb object ... OK
Error in x$.self$finalize() : attempt to apply non-function
In addition: Warning messages:
1: In valid.GenomicRanges.seqinfo(x, suggest.trim = TRUE) :
  GRanges object contains 1 out-of-bound range located on sequence
  chrUn_gl000237. Note that ranges located on a sequence whose length is
  unknown (NA) or on a circular sequence are not considered out-of-bound (use
  seqlengths() and isCircular() to get the lengths and circularity flags of the
  underlying sequences). You can use trim() to trim these ranges. See
  ?`trim,GenomicRanges-method` for more information.
2: In valid.GenomicRanges.seqinfo(x, suggest.trim = TRUE) :
  GRanges object contains 3 out-of-bound ranges located on sequences a, b, and
  c. Note that ranges located on a sequence whose length is unknown (NA) or on
  a circular sequence are not considered out-of-bound (use seqlengths() and
  isCircular() to get the lengths and circularity flags of the underlying
  sequences). You can use trim() to trim these ranges. See
  ?`trim,GenomicRanges-method` for more information.
3: In valid.GenomicRanges.seqinfo(x, suggest.trim = TRUE) :
  GRanges object contains 1 out-of-bound range located on sequence c. Note that
  ranges located on a sequence whose length is unknown (NA) or on a circular
  sequence are not considered out-of-bound (use seqlengths() and isCircular()
  to get the lengths and circularity flags of the underlying sequences). You
  can use trim() to trim these ranges. See ?`trim,GenomicRanges-method` for
  more information.
4: In valid.GenomicRanges.seqinfo(x, suggest.trim = TRUE) :
  GRanges object contains 1 out-of-bound range located on sequence c. Note that
  ranges located on a sequence whose length is unknown (NA) or on a circular
  sequence are not considered out-of-bound (use seqlengths() and isCircular()
  to get the lengths and circularity flags of the underlying sequences). You
  can use trim() to trim these ranges. See ?`trim,GenomicRanges-method` for
  more information.
5: In valid.GenomicRanges.seqinfo(x, suggest.trim = TRUE) :
  GRanges object contains 4 out-of-bound ranges located on sequences 1, 2, 3,
  and 4. Note that ranges located on a sequence whose length is unknown (NA) or
  on a circular sequence are not considered out-of-bound (use seqlengths() and
  isCircular() to get the lengths and circularity flags of the underlying
  sequences). You can use trim() to trim these ranges. See
  ?`trim,GenomicRanges-method` for more information.
6: In .get_cds_IDX(mcols0$type, mcols0$phase) :
  The "phase" metadata column contains non-NA values for features of type
  stop_codon. This information was ignored.
7: In .makeTxDb_normarg_chrominfo(chrominfo) :
  genome version information is not available for this TxDb object
8: In .makeTxDb_normarg_chrominfo(chrominfo) :
  genome version information is not available for this TxDb object
9: In (function (seqlevels, genome, new_style)  :
  cannot switch some hg19's seqlevels from UCSC to NCBI style
Import genomic features from the file as a GRanges object ... OK
Prepare the 'metadata' data frame ... OK
Make the TxDb object ... OK
RUNIT TEST PROTOCOL -- Tue Jun 17 20:55:48 2025 
*********************************************** 
Number of test functions: 67 
Number of errors: 0 
Number of failures: 0 
 
1 Test Suite : 
GenomicFeatures RUnit Tests - 67 test functions, 0 errors, 0 failures
Number of test functions: 67 
Number of errors: 0 
Number of failures: 0 
Warning messages:
1: call dbDisconnect() when finished working with a connection 
2: In .makeTxDb_normarg_chrominfo(chrominfo) :
  genome version information is not available for this TxDb object
3: In (function (seqlevels, genome, new_style)  :
  cannot switch some hg19's seqlevels from UCSC to NCBI style
> 
> proc.time()
   user  system elapsed 
 48.197   1.188  55.004 
GenomicFeatures.Rcheck/GenomicFeatures-Ex.timings
| name | user | system | elapsed | |
| FeatureDb-class | 0.893 | 0.007 | 0.918 | |
| TxDb-class | 0.915 | 0.175 | 1.299 | |
| as-format-methods | 0.842 | 0.020 | 0.917 | |
| coordinate-mapping-methods | 53.313 | 3.987 | 69.199 | |
| coverageByTranscript | 47.360 | 3.420 | 55.112 | |
| exonicParts | 23.704 | 0.296 | 25.410 | |
| extendExonsIntoIntrons | 1.849 | 0.021 | 2.553 | |
| extractTranscriptSeqs | 8.908 | 0.137 | 9.528 | |
| extractUpstreamSeqs | 1.103 | 0.051 | 1.362 | |
| features | 0.041 | 0.001 | 0.043 | |
| getPromoterSeq-methods | 2.247 | 0.827 | 20.919 | |
| id2name | 0.129 | 0.000 | 0.129 | |
| mapIdsToRanges | 0.652 | 0.001 | 0.655 | |
| mapRangesToIds | 0.512 | 0.004 | 0.559 | |
| nearest-methods | 0.424 | 0.004 | 0.428 | |
| proteinToGenome | 1.208 | 0.003 | 1.239 | |
| select-methods | 0.144 | 0.003 | 0.207 | |
| transcriptLengths | 2.394 | 0.005 | 2.435 | |
| transcriptLocs2refLocs | 4.087 | 0.055 | 4.362 | |
| transcripts | 1.630 | 0.011 | 1.735 | |
| transcriptsBy | 0.684 | 0.006 | 0.693 | |
| transcriptsByOverlaps | 0.129 | 0.001 | 0.130 | |