| Back to Rapid builds (Linux only) of a subset of BioC 3.22 Report updated every 6 hours | 
This page was generated on 2025-06-17 22:14 -0400 (Tue, 17 Jun 2025).
| Hostname | OS | Arch (*) | R version | Installed pkgs | 
|---|---|---|---|---|
| teran2 | Linux (Ubuntu 24.04.1 LTS) | x86_64 | 4.5.0 (2025-04-11) -- "How About a Twenty-Six" | 886 | 
| Click on any hostname to see more info about the system (e.g. compilers) (*) as reported by 'uname -p', except on Windows and Mac OS X | ||||
| Package 84/221 | Hostname | OS / Arch | INSTALL | BUILD | CHECK | |||||||
| fishpond 2.15.0  (landing page) Michael Love 
 | teran2 | Linux (Ubuntu 24.04.1 LTS) / x86_64 | OK | OK | OK | |||||||
| To the developers/maintainers of the fishpond package: - Use the following Renviron settings to reproduce errors and warnings. - If 'R CMD check' started to fail recently on the Linux builder(s) over a missing dependency, add the missing dependency to 'Suggests:' in your DESCRIPTION file. See Renviron.bioc for more information. | 
| Package: fishpond | 
| Version: 2.15.0 | 
| Command: /home/rapidbuild/bbs-3.22-bioc-rapid/R/bin/R CMD build --keep-empty-dirs --no-resave-data fishpond | 
| StartedAt: 2025-06-17 18:50:37 -0400 (Tue, 17 Jun 2025) | 
| EndedAt: 2025-06-17 18:54:27 -0400 (Tue, 17 Jun 2025) | 
| EllapsedTime: 229.5 seconds | 
| RetCode: 0 | 
| Status: OK | 
| PackageFile: fishpond_2.15.0.tar.gz | 
| PackageFileSize: 3.915 MiB | 
############################################################################## ############################################################################## ### ### Running command: ### ### /home/rapidbuild/bbs-3.22-bioc-rapid/R/bin/R CMD build --keep-empty-dirs --no-resave-data fishpond ### ############################################################################## ############################################################################## * checking for file ‘fishpond/DESCRIPTION’ ... OK * preparing ‘fishpond’: * checking DESCRIPTION meta-information ... OK * installing the package to build vignettes * creating vignettes ... OK * checking for LF line-endings in source and make files and shell scripts * checking for empty or unneeded directories Omitted ‘LazyData’ from DESCRIPTION * building ‘fishpond_2.15.0.tar.gz’