| Back to Rapid builds (Linux only) of a subset of BioC 3.22 Report updated every 6 hours | 
This page was generated on 2025-06-17 22:14 -0400 (Tue, 17 Jun 2025).
| Hostname | OS | Arch (*) | R version | Installed pkgs | 
|---|---|---|---|---|
| teran2 | Linux (Ubuntu 24.04.1 LTS) | x86_64 | 4.5.0 (2025-04-11) -- "How About a Twenty-Six" | 886 | 
| Click on any hostname to see more info about the system (e.g. compilers) (*) as reported by 'uname -p', except on Windows and Mac OS X | ||||
| Package 205/221 | Hostname | OS / Arch | INSTALL | BUILD | CHECK | |||||||
| sva 3.57.0  (landing page) Jeffrey T. Leek 
 | teran2 | Linux (Ubuntu 24.04.1 LTS) / x86_64 | OK | OK | OK | |||||||
| To the developers/maintainers of the sva package: - Use the following Renviron settings to reproduce errors and warnings. - If 'R CMD check' started to fail recently on the Linux builder(s) over a missing dependency, add the missing dependency to 'Suggests:' in your DESCRIPTION file. See Renviron.bioc for more information. | 
| Package: sva | 
| Version: 3.57.0 | 
| Command: /home/rapidbuild/bbs-3.22-bioc-rapid/R/bin/R CMD check --install=check:sva.install-out.txt --library=/home/rapidbuild/bbs-3.22-bioc-rapid/R/site-library --timings sva_3.57.0.tar.gz | 
| StartedAt: 2025-06-17 21:56:13 -0400 (Tue, 17 Jun 2025) | 
| EndedAt: 2025-06-17 21:59:42 -0400 (Tue, 17 Jun 2025) | 
| EllapsedTime: 209.1 seconds | 
| RetCode: 0 | 
| Status: OK | 
| CheckDir: sva.Rcheck | 
| Warnings: 0 | 
##############################################################################
##############################################################################
###
### Running command:
###
###   /home/rapidbuild/bbs-3.22-bioc-rapid/R/bin/R CMD check --install=check:sva.install-out.txt --library=/home/rapidbuild/bbs-3.22-bioc-rapid/R/site-library --timings sva_3.57.0.tar.gz
###
##############################################################################
##############################################################################
* using log directory ‘/media/volume/teran2_disk/rapidbuild/bbs-3.22-bioc-rapid/meat/sva.Rcheck’
* using R version 4.5.0 (2025-04-11)
* using platform: x86_64-pc-linux-gnu
* R was compiled by
    gcc (Ubuntu 13.3.0-6ubuntu2~24.04) 13.3.0
    GNU Fortran (Ubuntu 13.3.0-6ubuntu2~24.04) 13.3.0
* running under: Ubuntu 24.04.2 LTS
* using session charset: UTF-8
* checking for file ‘sva/DESCRIPTION’ ... OK
* this is package ‘sva’ version ‘3.57.0’
* checking package namespace information ... OK
* checking package dependencies ... OK
* checking if this is a source package ... OK
* checking if there is a namespace ... OK
* checking for hidden files and directories ... OK
* checking for portable file names ... OK
* checking for sufficient/correct file permissions ... OK
* checking whether package ‘sva’ can be installed ... OK
* used C compiler: ‘gcc (Ubuntu 13.3.0-6ubuntu2~24.04) 13.3.0’
* checking installed package size ... OK
* checking package directory ... OK
* checking ‘build’ directory ... OK
* checking DESCRIPTION meta-information ... OK
* checking top-level files ... OK
* checking for left-over files ... OK
* checking index information ... OK
* checking package subdirectories ... OK
* checking code files for non-ASCII characters ... OK
* checking R files for syntax errors ... OK
* checking whether the package can be loaded ... OK
* checking whether the package can be loaded with stated dependencies ... OK
* checking whether the package can be unloaded cleanly ... OK
* checking whether the namespace can be loaded with stated dependencies ... OK
* checking whether the namespace can be unloaded cleanly ... OK
* checking loading without being on the library search path ... OK
* checking dependencies in R code ... OK
* checking S3 generic/method consistency ... OK
* checking replacement functions ... OK
* checking foreign function calls ... OK
* checking R code for possible problems ... OK
* checking Rd files ... OK
* checking Rd metadata ... OK
* checking Rd cross-references ... OK
* checking for missing documentation entries ... OK
* checking for code/documentation mismatches ... OK
* checking Rd \usage sections ... OK
* checking Rd contents ... OK
* checking for unstated dependencies in examples ... OK
* checking line endings in C/C++/Fortran sources/headers ... OK
* checking compiled code ... OK
* checking files in ‘vignettes’ ... OK
* checking examples ... OK
Examples with CPU (user + system) or elapsed time > 5s
             user system elapsed
sva_network 5.762  0.125   6.203
* checking for unstated dependencies in ‘tests’ ... OK
* checking tests ...
  Running ‘testthat.R’
 OK
* checking for unstated dependencies in vignettes ... OK
* checking package vignettes ... OK
* checking re-building of vignette outputs ... OK
* checking PDF version of manual ... OK
* DONE
Status: OK
sva.Rcheck/00install.out
##############################################################################
##############################################################################
###
### Running command:
###
###   /home/rapidbuild/bbs-3.22-bioc-rapid/R/bin/R CMD INSTALL sva
###
##############################################################################
##############################################################################
* installing to library ‘/media/volume/teran2_disk/rapidbuild/bbs-3.22-bioc-rapid/R/site-library’
* installing *source* package ‘sva’ ...
** this is package ‘sva’ version ‘3.57.0’
** using staged installation
** libs
using C compiler: ‘gcc (Ubuntu 13.3.0-6ubuntu2~24.04) 13.3.0’
gcc -std=gnu2x -I"/home/rapidbuild/bbs-3.22-bioc-rapid/R/include" -DNDEBUG   -I/usr/local/include    -fpic  -g -O2  -Wall -Werror=format-security -c sva.c -o sva.o
sva.c:27:34: warning: missing braces around initializer [-Wmissing-braces]
   27 | R_CallMethodDef callMethods[]  = {
      |                                  ^
gcc -std=gnu2x -shared -L/usr/local/lib -o sva.so sva.o
installing to /media/volume/teran2_disk/rapidbuild/bbs-3.22-bioc-rapid/R/site-library/00LOCK-sva/00new/sva/libs
** R
** inst
** byte-compile and prepare package for lazy loading
** help
*** installing help indices
** building package indices
** installing vignettes
** testing if installed package can be loaded from temporary location
** checking absolute paths in shared objects and dynamic libraries
** testing if installed package can be loaded from final location
** testing if installed package keeps a record of temporary installation path
* DONE (sva)
sva.Rcheck/tests/testthat.Rout
R version 4.5.0 (2025-04-11) -- "How About a Twenty-Six"
Copyright (C) 2025 The R Foundation for Statistical Computing
Platform: x86_64-pc-linux-gnu
R is free software and comes with ABSOLUTELY NO WARRANTY.
You are welcome to redistribute it under certain conditions.
Type 'license()' or 'licence()' for distribution details.
R is a collaborative project with many contributors.
Type 'contributors()' for more information and
'citation()' on how to cite R or R packages in publications.
Type 'demo()' for some demos, 'help()' for on-line help, or
'help.start()' for an HTML browser interface to help.
Type 'q()' to quit R.
> library(testthat)
> library(sva)
Loading required package: mgcv
Loading required package: nlme
This is mgcv 1.9-3. For overview type 'help("mgcv-package")'.
Loading required package: genefilter
Loading required package: BiocParallel
> 
> test_check("sva")
Found 2 batches
Using full model in ComBat-seq.
Adjusting for 1 covariate(s) or covariate level(s)
[ FAIL 0 | WARN 0 | SKIP 0 | PASS 33 ]
> 
> proc.time()
   user  system elapsed 
 33.986   3.137  41.190 
sva.Rcheck/sva-Ex.timings
| name | user | system | elapsed | |
| ComBat | 2.701 | 0.027 | 3.404 | |
| ComBat_seq | 0.089 | 0.001 | 0.090 | |
| empirical.controls | 1.136 | 0.063 | 1.207 | |
| f.pvalue | 0.156 | 0.004 | 0.160 | |
| fstats | 0.160 | 0.003 | 0.197 | |
| fsva | 0.268 | 0.008 | 0.447 | |
| irwsva.build | 0.646 | 0.003 | 0.746 | |
| num.sv | 0.771 | 0.009 | 0.850 | |
| psva | 0.214 | 0.007 | 0.222 | |
| qsva | 0.219 | 0.239 | 0.377 | |
| read.degradation.matrix | 0.293 | 0.551 | 0.637 | |
| ssva | 0.347 | 0.058 | 0.433 | |
| sva | 0.649 | 0.018 | 0.736 | |
| sva.check | 1.160 | 0.122 | 1.522 | |
| sva_network | 5.762 | 0.125 | 6.203 | |
| svaseq | 0.326 | 0.042 | 0.388 | |
| twostepsva.build | 1.828 | 0.093 | 2.014 | |