| Back to Rapid builds (Linux only) of a subset of BioC 3.22 Report updated every 6 hours | 
This page was generated on 2025-06-17 22:14 -0400 (Tue, 17 Jun 2025).
| Hostname | OS | Arch (*) | R version | Installed pkgs | 
|---|---|---|---|---|
| teran2 | Linux (Ubuntu 24.04.1 LTS) | x86_64 | 4.5.0 (2025-04-11) -- "How About a Twenty-Six" | 886 | 
| Click on any hostname to see more info about the system (e.g. compilers) (*) as reported by 'uname -p', except on Windows and Mac OS X | ||||
| Package 42/221 | Hostname | OS / Arch | INSTALL | BUILD | CHECK | |||||||
| biomformat 1.37.0  (landing page) Paul J. McMurdie 
 | teran2 | Linux (Ubuntu 24.04.1 LTS) / x86_64 | OK | OK | OK | |||||||
| To the developers/maintainers of the biomformat package: - Use the following Renviron settings to reproduce errors and warnings. - If 'R CMD check' started to fail recently on the Linux builder(s) over a missing dependency, add the missing dependency to 'Suggests:' in your DESCRIPTION file. See Renviron.bioc for more information. | 
| Package: biomformat | 
| Version: 1.37.0 | 
| Command: /home/rapidbuild/bbs-3.22-bioc-rapid/R/bin/R CMD check --install=check:biomformat.install-out.txt --library=/home/rapidbuild/bbs-3.22-bioc-rapid/R/site-library --timings biomformat_1.37.0.tar.gz | 
| StartedAt: 2025-06-17 20:05:30 -0400 (Tue, 17 Jun 2025) | 
| EndedAt: 2025-06-17 20:06:11 -0400 (Tue, 17 Jun 2025) | 
| EllapsedTime: 41.7 seconds | 
| RetCode: 0 | 
| Status: OK | 
| CheckDir: biomformat.Rcheck | 
| Warnings: 0 | 
##############################################################################
##############################################################################
###
### Running command:
###
###   /home/rapidbuild/bbs-3.22-bioc-rapid/R/bin/R CMD check --install=check:biomformat.install-out.txt --library=/home/rapidbuild/bbs-3.22-bioc-rapid/R/site-library --timings biomformat_1.37.0.tar.gz
###
##############################################################################
##############################################################################
* using log directory ‘/media/volume/teran2_disk/rapidbuild/bbs-3.22-bioc-rapid/meat/biomformat.Rcheck’
* using R version 4.5.0 (2025-04-11)
* using platform: x86_64-pc-linux-gnu
* R was compiled by
    gcc (Ubuntu 13.3.0-6ubuntu2~24.04) 13.3.0
    GNU Fortran (Ubuntu 13.3.0-6ubuntu2~24.04) 13.3.0
* running under: Ubuntu 24.04.2 LTS
* using session charset: UTF-8
* checking for file ‘biomformat/DESCRIPTION’ ... OK
* checking extension type ... Package
* this is package ‘biomformat’ version ‘1.37.0’
* checking package namespace information ... OK
* checking package dependencies ... OK
* checking if this is a source package ... OK
* checking if there is a namespace ... OK
* checking for hidden files and directories ... OK
* checking for portable file names ... OK
* checking for sufficient/correct file permissions ... OK
* checking whether package ‘biomformat’ can be installed ... OK
* checking installed package size ... OK
* checking package directory ... OK
* checking ‘build’ directory ... OK
* checking DESCRIPTION meta-information ... OK
* checking top-level files ... OK
* checking for left-over files ... OK
* checking index information ... OK
* checking package subdirectories ... OK
* checking code files for non-ASCII characters ... OK
* checking R files for syntax errors ... OK
* checking whether the package can be loaded ... OK
* checking whether the package can be loaded with stated dependencies ... OK
* checking whether the package can be unloaded cleanly ... OK
* checking whether the namespace can be loaded with stated dependencies ... OK
* checking whether the namespace can be unloaded cleanly ... OK
* checking loading without being on the library search path ... OK
* checking dependencies in R code ... OK
* checking S3 generic/method consistency ... OK
* checking replacement functions ... OK
* checking foreign function calls ... OK
* checking R code for possible problems ... NOTE
make_biom: no visible global function definition for ‘packageVersion’
namedList: no visible global function definition for ‘setNames’
Undefined global functions or variables:
  packageVersion setNames
Consider adding
  importFrom("stats", "setNames")
  importFrom("utils", "packageVersion")
to your NAMESPACE file.
* checking Rd files ... OK
* checking Rd metadata ... NOTE
Invalid package aliases in Rd file 'biom-package.Rd':
  ‘biom-package’
* checking Rd cross-references ... NOTE
Found the following Rd file(s) with Rd \link{} targets missing package
anchors:
  biom-methods.Rd: fromJSON
  biom_data-methods.Rd: plyr-package, Matrix-class
  observation_metadata-methods.Rd: plyr-package
  sample_metadata-methods.Rd: plyr-package
Please provide package anchors for all Rd \link{} targets not in the
package itself and the base packages.
* checking for missing documentation entries ... OK
* checking for code/documentation mismatches ... OK
* checking Rd \usage sections ... OK
* checking Rd contents ... OK
* checking for unstated dependencies in examples ... OK
* checking files in ‘vignettes’ ... OK
* checking examples ... OK
* checking for unstated dependencies in ‘tests’ ... OK
* checking tests ...
  Running ‘testthat-biomformat.R’
 OK
* checking for unstated dependencies in vignettes ... OK
* checking package vignettes ... OK
* checking re-building of vignette outputs ... OK
* checking PDF version of manual ... OK
* DONE
Status: 3 NOTEs
See
  ‘/media/volume/teran2_disk/rapidbuild/bbs-3.22-bioc-rapid/meat/biomformat.Rcheck/00check.log’
for details.
biomformat.Rcheck/00install.out
############################################################################## ############################################################################## ### ### Running command: ### ### /home/rapidbuild/bbs-3.22-bioc-rapid/R/bin/R CMD INSTALL biomformat ### ############################################################################## ############################################################################## * installing to library ‘/media/volume/teran2_disk/rapidbuild/bbs-3.22-bioc-rapid/R/site-library’ * installing *source* package ‘biomformat’ ... ** this is package ‘biomformat’ version ‘1.37.0’ ** using staged installation ** R ** inst ** byte-compile and prepare package for lazy loading Creating a generic function for ‘nrow’ from package ‘base’ in package ‘biomformat’ Creating a generic function for ‘ncol’ from package ‘base’ in package ‘biomformat’ Creating a generic function for ‘rownames’ from package ‘base’ in package ‘biomformat’ Creating a generic function for ‘colnames’ from package ‘base’ in package ‘biomformat’ ** help *** installing help indices ** building package indices ** installing vignettes ** testing if installed package can be loaded from temporary location ** testing if installed package can be loaded from final location ** testing if installed package keeps a record of temporary installation path * DONE (biomformat)
biomformat.Rcheck/tests/testthat-biomformat.Rout
R version 4.5.0 (2025-04-11) -- "How About a Twenty-Six"
Copyright (C) 2025 The R Foundation for Statistical Computing
Platform: x86_64-pc-linux-gnu
R is free software and comes with ABSOLUTELY NO WARRANTY.
You are welcome to redistribute it under certain conditions.
Type 'license()' or 'licence()' for distribution details.
R is a collaborative project with many contributors.
Type 'contributors()' for more information and
'citation()' on how to cite R or R packages in publications.
Type 'demo()' for some demos, 'help()' for on-line help, or
'help.start()' for an HTML browser interface to help.
Type 'q()' to quit R.
> library("testthat")
> # As suggested for opt-out option on testing by users, recommended by CRAN
> # http://adv-r.had.co.nz/Testing.html
> # Previously, best practice was to put all test files in inst/tests and ensure that R CMD check ran them by putting the following code in tests/test-all.R:  
> # library(testthat)
> # library(yourpackage)
> # test_package("yourpackage")
> # Now, recommended practice is to put your tests in tests/testthat, and ensure R CMD check runs them by putting the following code in tests/test-all.R:
> # library(testthat)
> # test_check("yourpackage")
> # The advantage of this new structure is that the user has control over whether or not tests are installed using the –install-tests parameter to R CMD install, or INSTALL_opts = c(“–install-tests”) argument to install.packages(). I’m not sure why you wouldn’t want to install the tests, but now you have the flexibility as requested by CRAN maintainers.
> test_check("biomformat")
Loading required package: biomformat
[ FAIL 0 | WARN 4 | SKIP 0 | PASS 136 ]
[ FAIL 0 | WARN 4 | SKIP 0 | PASS 136 ]
> 
> proc.time()
   user  system elapsed 
  1.523   0.169   1.838 
biomformat.Rcheck/biomformat-Ex.timings
| name | user | system | elapsed | |
| biom-class | 0.025 | 0.001 | 0.050 | |
| biom-methods | 0.020 | 0.001 | 0.020 | |
| biom_data-methods | 0.026 | 0.001 | 0.032 | |
| biom_shape-methods | 0.002 | 0.001 | 0.002 | |
| colnames-methods | 0.002 | 0.000 | 0.002 | |
| header-methods | 0.002 | 0.000 | 0.002 | |
| make_biom | 0.022 | 0.000 | 0.022 | |
| matrix_element_type-methods | 0.002 | 0.000 | 0.002 | |
| ncol-methods | 0.002 | 0.000 | 0.002 | |
| nrow-methods | 0.001 | 0.000 | 0.002 | |
| observation_metadata-methods | 0.023 | 0.000 | 0.024 | |
| read_biom | 0.003 | 0.000 | 0.004 | |
| read_hdf5_biom | 0.033 | 0.000 | 0.034 | |
| rownames-methods | 0.001 | 0.000 | 0.002 | |
| sample_metadata-methods | 0.014 | 0.000 | 0.014 | |
| show-methods | 0.001 | 0.000 | 0.002 | |
| write_biom | 0.006 | 0.000 | 0.006 | |