This page was generated on 2025-07-24 09:37 -0400 (Thu, 24 Jul 2025).
| |
| See this page for all the Bioconductor builds and their schedule. |
| Hostname | OS | Arch (*) | R version | Installed pkgs |
|---|---|---|---|---|
| teran2 | Linux (Ubuntu 24.04.1 LTS) | x86_64 | 4.5.0 (2025-04-11) -- "How About a Twenty-Six" | 914 |
| Click on any hostname to see more info about the system (e.g. compilers) (*) as reported by 'uname -p', except on Windows and Mac OS X | ||||
| QUICK STATS | OS / Arch | INSTALL | BUILD | CHECK | |||||||||||||
| teran2 | Linux (Ubuntu 24.04.1 LTS) / x86_64 |
|
|
| |||||||||||||
| Package | Maintainer | INSTALL | BUILD | CHECK | |||||||||||||
| 1/229 | affxparser 1.81.0 (landing page) | Kasper Daniel Hansen | OK | OK | WARNINGS | ||||||||||||
| 2/229 | affy 1.87.0 (landing page) | Robert D. Shear | OK | OK | WARNINGS | ||||||||||||
| 3/229 | affyio 1.79.0 (landing page) | Ben Bolstad | OK | OK | WARNINGS | ||||||||||||
| 4/229 | affyPLM 1.85.0 (landing page) | Ben Bolstad | OK | OK | WARNINGS | ||||||||||||
| 5/229 | alabaster.base 1.9.4 (landing page) | Aaron Lun | OK | OK | WARNINGS | ||||||||||||
| 6/229 | alabaster.matrix 1.9.0 (landing page) | Aaron Lun | OK | OK | OK | ||||||||||||
| 7/229 | alabaster.ranges 1.9.1 (landing page) | Aaron Lun | OK | OK | OK | ||||||||||||
| 8/229 | alabaster.sce 1.9.0 (landing page) | Aaron Lun | OK | OK | OK | ||||||||||||
| 9/229 | alabaster.schemas 1.9.0 (landing page) | Aaron Lun | OK | OK | OK | ||||||||||||
| 10/229 | alabaster.se 1.9.0 (landing page) | Aaron Lun | OK | OK | OK | ||||||||||||
| 11/229 | annotate 1.87.0 (landing page) | Bioconductor Package Maintainer | OK | OK | ERROR | ||||||||||||
| 12/229 | AnnotationDbi 1.71.0 (landing page) | Bioconductor Package Maintainer | OK | OK | OK | ||||||||||||
| 13/229 | AnnotationFilter 1.33.0 (landing page) | Bioconductor Package Maintainer | OK | OK | OK | ||||||||||||
| 14/229 | AnnotationForge 1.51.0 (landing page) | Bioconductor Package Maintainer | OK | OK | OK | ||||||||||||
| 15/229 | AnnotationHub 3.99.6 (landing page) | Bioconductor Package Maintainer | OK | OK | OK | ||||||||||||
| 16/229 | AnnotationHubData 1.39.2 (landing page) | Bioconductor Package Maintainer | OK | OK | WARNINGS | ||||||||||||
| 17/229 | apeglm 1.31.0 (landing page) | Anqi Zhu | OK | OK | OK | ||||||||||||
| 18/229 | aroma.light 3.39.0 (landing page) | Henrik Bengtsson | OK | OK | OK | ||||||||||||
| 19/229 | assorthead 1.3.5 (landing page) | Aaron Lun | OK | OK | OK | ||||||||||||
| 20/229 | bamsignals 1.41.2 (landing page) | Johannes Helmuth | OK | OK | OK | ||||||||||||
| 21/229 | basilisk 1.21.5 (landing page) | Aaron Lun | OK | OK | OK | ||||||||||||
| 22/229 | basilisk.utils 1.21.2 (landing page) | Aaron Lun | OK | OK | OK | ||||||||||||
| 23/229 | batchelor 1.25.0 (landing page) | Aaron Lun | OK | OK | OK | ||||||||||||
| 24/229 | beachmat 2.25.3 (landing page) | Aaron Lun | OK | OK | OK | ||||||||||||
| 25/229 | beachmat.hdf5 1.7.1 (landing page) | Aaron Lun | OK | OK | WARNINGS | ||||||||||||
| 26/229 | Biobase 2.69.0 (landing page) | Bioconductor Package Maintainer | OK | OK | OK | ||||||||||||
| 27/229 | BiocBaseUtils 1.11.2 (landing page) | Marcel Ramos | OK | OK | OK | ||||||||||||
| 28/229 | BiocCheck 1.45.11 (landing page) | Marcel Ramos | OK | OK | OK | ||||||||||||
| 29/229 | BiocFileCache 2.99.5 (landing page) | Lori Shepherd | OK | OK | OK | ||||||||||||
| 30/229 | BiocGenerics 0.55.0 (landing page) | Hervé Pagès | OK | OK | WARNINGS | ||||||||||||
| 31/229 | BiocIO 1.19.0 (landing page) | Marcel Ramos | OK | OK | OK | ||||||||||||
| 32/229 | biocmake 1.1.3 (landing page) | Aaron Lun | OK | OK | OK | ||||||||||||
| 33/229 | BiocNeighbors 2.3.1 (landing page) | Aaron Lun | OK | OK | OK | ||||||||||||
| 34/229 | BiocParallel 1.43.4 (landing page) | Jiefei Wang | OK | OK | OK | ||||||||||||
| 35/229 | BiocPkgTools 1.27.9 (landing page) | Sean Davis | OK | OK | OK | ||||||||||||
| 36/229 | BiocSingular 1.25.0 (landing page) | Aaron Lun | OK | OK | WARNINGS | ||||||||||||
| 37/229 | BiocStyle 2.37.0 (landing page) | Bioconductor Package Maintainer | OK | OK | OK | ||||||||||||
| 38/229 | biocthis 1.19.0 (landing page) | Leonardo Collado-Torres | OK | OK | OK | ||||||||||||
| 39/229 | BiocVersion 3.22.0 (landing page) | Bioconductor Package Maintainer | OK | OK | OK | ||||||||||||
| 40/229 | biocViews 1.77.2 (landing page) | Bioconductor Package Maintainer | OK | OK | OK | ||||||||||||
| 41/229 | biomaRt 2.65.0 (landing page) | Mike Smith | OK | OK | OK | ||||||||||||
| 42/229 | biomformat 1.37.0 (landing page) | Paul J. McMurdie | OK | OK | OK | ||||||||||||
| 43/229 | Biostrings 2.77.2 (landing page) | Hervé Pagès | OK | OK | WARNINGS | ||||||||||||
| 44/229 | biovizBase 1.57.1 (landing page) | Michael Lawrence | OK | OK | WARNINGS | ||||||||||||
| 45/229 | bluster 1.19.0 (landing page) | Aaron Lun | OK | OK | OK | ||||||||||||
| 46/229 | BSgenome 1.77.1 (landing page) | Hervé Pagès | OK | OK | WARNINGS | ||||||||||||
| 47/229 | BSgenomeForge 1.9.1 (landing page) | Hervé Pagès | OK | OK | OK | ||||||||||||
| 48/229 | bsseq 1.45.2 (landing page) | Kasper Daniel Hansen | OK | OK | OK | ||||||||||||
| 49/229 | bumphunter 1.51.1 (landing page) | Tamilselvi Guharaj | OK | OK | OK | ||||||||||||
| 50/229 | BumpyMatrix 1.17.0 (landing page) | Aaron Lun | OK | OK | OK | ||||||||||||
| 51/229 | Category 2.75.0 (landing page) | Bioconductor Package Maintainer | OK | OK | OK | ||||||||||||
| 52/229 | ChemmineOB 1.47.4 (landing page) | Thomas Girke | OK | OK | WARNINGS | ||||||||||||
| 53/229 | ChemmineR 3.61.1 (landing page) | Thomas Girke | OK | OK | ERROR | ||||||||||||
| 54/229 | chihaya 1.9.0 (landing page) | Aaron Lun | OK | OK | WARNINGS | ||||||||||||
| 55/229 | clusterProfiler 4.17.0 (landing page) | Guangchuang Yu | OK | OK | OK | ||||||||||||
| 56/229 | CNEr 1.45.0 (landing page) | Ge Tan | ERROR | ERROR | skipped | ||||||||||||
| 57/229 | ComplexHeatmap 2.25.2 (landing page) | Zuguang Gu | OK | OK | OK | ||||||||||||
| 58/229 | CompoundDb 1.13.0 (landing page) | Johannes Rainer | OK | OK | OK | ||||||||||||
| 59/229 | ConsensusClusterPlus 1.73.0 (landing page) | Matt Wilkerson | OK | OK | OK | ||||||||||||
| 60/229 | csaw 1.43.1 (landing page) | Aaron Lun | OK | OK | OK | ||||||||||||
| 61/229 | cytolib 2.21.0 (landing page) | Mike Jiang | OK | OK | WARNINGS | ||||||||||||
| 62/229 | CytoML 2.21.0 (landing page) | Mike Jiang | OK | ERROR | skipped | ||||||||||||
| 63/229 | DECIPHER 3.5.0 (landing page) | Erik Wright | OK | OK | OK | ||||||||||||
| 64/229 | DelayedArray 0.35.2 (landing page) | Hervé Pagès | OK | OK | WARNINGS | ||||||||||||
| 65/229 | DelayedMatrixStats 1.31.0 (landing page) | Peter Hickey | OK | OK | OK | ||||||||||||
| 66/229 | densvis 1.19.0 (landing page) | Alan O'Callaghan | OK | OK | OK | ||||||||||||
| 67/229 | DESeq2 1.49.2 (landing page) | Michael Love | OK | OK | OK | ||||||||||||
| 68/229 | DEXSeq 1.55.1 (landing page) | Alejandro Reyes | OK | OK | OK | ||||||||||||
| 69/229 | dir.expiry 1.17.0 (landing page) | Aaron Lun | OK | OK | OK | ||||||||||||
| 70/229 | DirichletMultinomial 1.51.0 (landing page) | Martin Morgan | OK | OK | WARNINGS | ||||||||||||
| 71/229 | DNAcopy 1.83.0 (landing page) | Venkatraman E. Seshan | OK | OK | OK | ||||||||||||
| 72/229 | DOSE 4.3.0 (landing page) | Guangchuang Yu | OK | OK | OK | ||||||||||||
| 73/229 | DropletUtils 1.29.4 (landing page) | Jonathan Griffiths | OK | OK | WARNINGS | ||||||||||||
| 74/229 | DynDoc 1.87.0 (landing page) | Bioconductor Package Maintainer | OK | OK | WARNINGS | ||||||||||||
| 75/229 | EBarrays 2.73.0 (landing page) | Ming Yuan | OK | OK | OK | ||||||||||||
| 76/229 | EBImage 4.51.0 (landing page) | Andrzej Oleś | OK | OK | OK | ||||||||||||
| 77/229 | EDASeq 2.43.0 (landing page) | Davide Risso | OK | OK | OK | ||||||||||||
| 78/229 | edgeR 4.7.3 (landing page) | Yunshun Chen | OK | OK | OK | ||||||||||||
| 79/229 | eds 1.11.0 (landing page) | Avi Srivastava | OK | OK | OK | ||||||||||||
| 80/229 | EnhancedVolcano 1.27.0 (landing page) | Kevin Blighe | OK | OK | OK | ||||||||||||
| 81/229 | EnrichedHeatmap 1.39.1 (landing page) | Zuguang Gu | OK | OK | OK | ||||||||||||
| 82/229 | enrichplot 1.29.2 (landing page) | Guangchuang Yu | OK | OK | WARNINGS | ||||||||||||
| 83/229 | ensembldb 2.33.1 (landing page) | Johannes Rainer | OK | OK | OK | ||||||||||||
| 84/229 | ExperimentHub 2.99.5 (landing page) | Bioconductor Package Maintainer | OK | OK | WARNINGS | ||||||||||||
| 85/229 | ExperimentHubData 1.35.0 (landing page) | Bioconductor Package Maintainer | OK | OK | WARNINGS | ||||||||||||
| 86/229 | fgsea 1.35.6 (landing page) | Alexey Sergushichev | OK | OK | OK | ||||||||||||
| 87/229 | fishpond 2.15.0 (landing page) | Michael Love | OK | OK | OK | ||||||||||||
| 88/229 | flowClust 3.47.0 (landing page) | Greg Finak | OK | OK | WARNINGS | ||||||||||||
| 89/229 | flowCore 2.21.0 (landing page) | Mike Jiang | OK | ERROR | skipped | ||||||||||||
| 90/229 | flowStats 4.21.0 (landing page) | Greg Finak | OK | ERROR | skipped | ||||||||||||
| 91/229 | flowViz 1.73.0 (landing page) | Mike Jiang | OK | OK | OK | ||||||||||||
| 92/229 | flowWorkspace 4.21.0 (landing page) | Greg Finak | OK | ERROR | skipped | ||||||||||||
| 93/229 | fmcsR 1.51.0 (landing page) | Thomas Girke | OK | OK | WARNINGS | ||||||||||||
| 94/229 | gage 2.59.0 (landing page) | Weijun Luo | OK | OK | WARNINGS | ||||||||||||
| 95/229 | gcrma 2.81.0 (landing page) | Z. Wu | OK | OK | OK | ||||||||||||
| 96/229 | gdsfmt 1.45.1 (landing page) | Xiuwen Zheng | OK | OK | OK | ||||||||||||
| 97/229 | genefilter 1.91.0 (landing page) | Bioconductor Package Maintainer | OK | OK | WARNINGS | ||||||||||||
| 98/229 | geneplotter 1.87.0 (landing page) | Bioconductor Package Maintainer | OK | OK | OK | ||||||||||||
| 99/229 | GenomeInfoDb 1.45.9 (landing page) | Hervé Pagès | OK | OK | OK | ||||||||||||
| 100/229 | GenomicAlignments 1.45.1 (landing page) | Hervé Pagès | OK | OK | OK | ||||||||||||
| 101/229 | GenomicFeatures 1.61.5 (landing page) | H. Pagès | OK | OK | OK | ||||||||||||
| 102/229 | GenomicRanges 1.61.1 (landing page) | Hervé Pagès | OK | OK | OK | ||||||||||||
| 103/229 | GEOquery 2.77.1 (landing page) | Sean Davis | OK | OK | OK | ||||||||||||
| 104/229 | ggbio 1.57.1 (landing page) | Michael Lawrence | OK | ERROR | skipped | ||||||||||||
| 105/229 | ggcyto 1.37.0 (landing page) | Mike Jiang | OK | ERROR | skipped | ||||||||||||
| 106/229 | ggtree 3.17.1 (landing page) | Guangchuang Yu | OK | OK | OK | ||||||||||||
| 107/229 | ggtreeExtra 1.19.0 (landing page) | Shuangbin Xu | OK | ERROR | skipped | ||||||||||||
| 108/229 | glmGamPoi 1.21.0 (landing page) | Constantin Ahlmann-Eltze | OK | OK | WARNINGS | ||||||||||||
| 109/229 | GOSemSim 2.35.0 (landing page) | Guangchuang Yu | OK | OK | OK | ||||||||||||
| 110/229 | GOstats 2.75.0 (landing page) | Bioconductor Package Maintainer | OK | OK | OK | ||||||||||||
| 111/229 | gpls 1.81.0 (landing page) | Bioconductor Package Maintainer | OK | OK | WARNINGS | ||||||||||||
| 112/229 | graph 1.87.0 (landing page) | Bioconductor Package Maintainer | OK | OK | OK | ||||||||||||
| 113/229 | GSEABase 1.71.0 (landing page) | Bioconductor Package Maintainer | OK | OK | OK | ||||||||||||
| 114/229 | GSVA 2.3.1 (landing page) | Robert Castelo | OK | OK | OK | ||||||||||||
| 115/229 | Gviz 1.53.1 (landing page) | Robert Ivanek | OK | OK | OK | ||||||||||||
| 116/229 | gwascat 2.41.1 (landing page) | VJ Carey | OK | ERROR | skipped | ||||||||||||
| 117/229 | gypsum 1.5.0 (landing page) | Aaron Lun | OK | OK | OK | ||||||||||||
| 118/229 | h5mread 1.1.1 (landing page) | Hervé Pagès | OK | OK | WARNINGS | ||||||||||||
| 119/229 | HDF5Array 1.37.0 (landing page) | Hervé Pagès | OK | OK | OK | ||||||||||||
| 120/229 | hpar 1.51.0 (landing page) | Laurent Gatto | OK | OK | OK | ||||||||||||
| 121/229 | HubPub 1.17.1 (landing page) | Kayla Interdonato | OK | OK | OK | ||||||||||||
| 122/229 | IHW 1.37.0 (landing page) | Nikos Ignatiadis | OK | OK | OK | ||||||||||||
| 123/229 | illuminaio 0.51.0 (landing page) | Kasper Daniel Hansen | OK | OK | OK | ||||||||||||
| 124/229 | impute 1.83.0 (landing page) | Balasubramanian Narasimhan | OK | OK | WARNINGS | ||||||||||||
| 125/229 | Bioconductor Package Maintainer | OK | OK | OK | |||||||||||||
| 126/229 | Bioconductor Package Maintainer | OK | OK | OK | |||||||||||||
| 127/229 | IRanges 2.43.0 (landing page) | Hervé Pagès | OK | OK | WARNINGS | ||||||||||||
| 128/229 | karyoploteR 1.35.3 (landing page) | Bernat Gel | OK | OK | OK | ||||||||||||
| 129/229 | KEGGgraph 1.69.0 (landing page) | Jitao David Zhang | OK | OK | OK | ||||||||||||
| 130/229 | keggorthology 2.61.0 (landing page) | VJ Carey | OK | OK | OK | ||||||||||||
| 131/229 | KEGGREST 1.49.1 (landing page) | Bioconductor Package Maintainer | OK | OK | OK | ||||||||||||
| 132/229 | limma 3.65.1 (landing page) | Gordon Smyth | OK | OK | OK | ||||||||||||
| 133/229 | LoomExperiment 1.27.0 (landing page) | Bioconductor Package Maintainer | OK | OK | OK | ||||||||||||
| 134/229 | lpsymphony 1.37.0 (landing page) | Vladislav Kim | OK | OK | WARNINGS | ||||||||||||
| 135/229 | maftools 2.25.10 (landing page) | Anand Mayakonda | OK | OK | WARNINGS | ||||||||||||
| 136/229 | MassSpecWavelet 1.75.1 (landing page) | Sergio Oller Moreno | OK | OK | OK | ||||||||||||
| 137/229 | MatrixGenerics 1.21.0 (landing page) | Peter Hickey | OK | OK | OK | ||||||||||||
| 138/229 | mbkmeans 1.25.0 (landing page) | Davide Risso | OK | OK | OK | ||||||||||||
| 139/229 | MetaboCoreUtils 1.17.1 (landing page) | Johannes Rainer | OK | OK | OK | ||||||||||||
| 140/229 | metagenomeSeq 1.51.0 (landing page) | Joseph N. Paulson | OK | OK | OK | ||||||||||||
| 141/229 | metapod 1.17.0 (landing page) | Aaron Lun | OK | OK | OK | ||||||||||||
| 142/229 | microRNA 1.67.0 (landing page) | "Michael Lawrence" | OK | OK | OK | ||||||||||||
| 143/229 | minet 3.67.0 (landing page) | Patrick E. Meyer | OK | OK | OK | ||||||||||||
| 144/229 | minfi 1.55.1 (landing page) | Kasper Daniel Hansen | OK | OK | OK | ||||||||||||
| 145/229 | MLInterfaces 1.89.0 (landing page) | Vincent Carey | OK | OK | WARNINGS | ||||||||||||
| 146/229 | MsBackendMgf 1.17.0 (landing page) | RforMassSpectrometry Package Maintainer | OK | OK | OK | ||||||||||||
| 147/229 | MsBackendSql 1.9.0 (landing page) | Johannes Rainer | OK | OK | OK | ||||||||||||
| 148/229 | MsCoreUtils 1.21.0 (landing page) | RforMassSpectrometry Package Maintainer | OK | OK | OK | ||||||||||||
| 149/229 | MsDataHub 1.9.0 (landing page) | Laurent Gatto | OK | OK | OK | ||||||||||||
| 150/229 | MsExperiment 1.11.1 (landing page) | Laurent Gatto | OK | OK | OK | ||||||||||||
| 151/229 | MsFeatures 1.17.1 (landing page) | Johannes Rainer | OK | OK | OK | ||||||||||||
| 152/229 | MSnbase 2.35.0 (landing page) | Laurent Gatto | OK | OK | OK | ||||||||||||
| 153/229 | MultiAssayExperiment 1.35.6 (landing page) | Marcel Ramos | OK | OK | OK | ||||||||||||
| 154/229 | multtest 2.65.0 (landing page) | Katherine S. Pollard | OK | OK | WARNINGS | ||||||||||||
| 155/229 | mzID 1.47.0 (landing page) | Laurent Gatto | OK | OK | OK | ||||||||||||
| 156/229 | mzR 2.43.0 (landing page) | Steffen Neumann | OK | OK | WARNINGS | ||||||||||||
| 157/229 | ncdfFlow 2.55.0 (landing page) | Mike Jiang | OK | OK | WARNINGS | ||||||||||||
| 158/229 | openCyto 2.21.0 (landing page) | Mike Jiang | OK | ERROR | skipped | ||||||||||||
| 159/229 | OrganismDbi 1.51.4 (landing page) | Bioconductor Package Maintainer | OK | OK | OK | ||||||||||||
| 160/229 | pathview 1.49.0 (landing page) | Weijun Luo | OK | OK | WARNINGS | ||||||||||||
| 161/229 | pcaMethods 2.1.0 (landing page) | Henning Redestig | OK | OK | OK | ||||||||||||
| 162/229 | phyloseq 1.53.0 (landing page) | Paul J. McMurdie | OK | OK | WARNINGS | ||||||||||||
| 163/229 | preprocessCore 1.71.2 (landing page) | Ben Bolstad | OK | OK | WARNINGS | ||||||||||||
| 164/229 | pRoloc 1.49.0 (landing page) | Lisa Breckels | OK | OK | WARNINGS | ||||||||||||
| 165/229 | ProtGenerics 1.41.0 (landing page) | Laurent Gatto | OK | OK | OK | ||||||||||||
| 166/229 | PSMatch 1.13.1 (landing page) | Laurent Gatto | OK | OK | OK | ||||||||||||
| 167/229 | pwalign 1.5.0 (landing page) | Hervé Pagès | OK | OK | OK | ||||||||||||
| 168/229 | QFeatures 1.19.2 (landing page) | Laurent Gatto | OK | OK | OK | ||||||||||||
| 169/229 | qvalue 2.41.0 (landing page) | John D. Storey | OK | OK | OK | ||||||||||||
| 170/229 | RaggedExperiment 1.33.7 (landing page) | Marcel Ramos | OK | OK | OK | ||||||||||||
| 171/229 | RBGL 1.85.0 (landing page) | Bioconductor Package Maintainer | OK | OK | WARNINGS | ||||||||||||
| 172/229 | rBiopaxParser 2.49.0 (landing page) | Frank Kramer | OK | OK | OK | ||||||||||||
| 173/229 | Rdisop 1.69.2 (landing page) | Steffen Neumann | OK | OK | OK | ||||||||||||
| 174/229 | regioneR 1.41.3 (landing page) | Bernat Gel | OK | OK | OK | ||||||||||||
| 175/229 | ReportingTools 2.49.0 (landing page) | Jason A. Hackney | OK | OK | OK | ||||||||||||
| 176/229 | ResidualMatrix 1.19.0 (landing page) | Aaron Lun | OK | OK | OK | ||||||||||||
| 177/229 | Rgraphviz 2.53.0 (landing page) | Kasper Daniel Hansen | OK | OK | WARNINGS | ||||||||||||
| 178/229 | rhdf5 2.53.3 (landing page) | Mike Smith | OK | OK | WARNINGS | ||||||||||||
| 179/229 | rhdf5filters 1.21.0 (landing page) | Mike Smith | OK | OK | OK | ||||||||||||
| 180/229 | Rhdf5lib 1.31.0 (landing page) | Mike Smith | OK | OK | WARNINGS | ||||||||||||
| 181/229 | Rhtslib 3.5.0 (landing page) | Hervé Pagès | OK | OK | OK | ||||||||||||
| 182/229 | Rigraphlib 1.1.1 (landing page) | Aaron Lun | OK | OK | WARNINGS | ||||||||||||
| 183/229 | ROC 1.85.0 (landing page) | Vince Carey | OK | OK | OK | ||||||||||||
| 184/229 | rols 3.5.0 (landing page) | Laurent Gatto | OK | OK | OK | ||||||||||||
| 185/229 | RProtoBufLib 2.21.0 (landing page) | Mike Jiang | OK | OK | WARNINGS | ||||||||||||
| 186/229 | rpx 2.17.0 (landing page) | Laurent Gatto | OK | OK | OK | ||||||||||||
| 187/229 | Rsamtools 2.25.1 (landing page) | Bioconductor Package Maintainer | OK | OK | WARNINGS | ||||||||||||
| 188/229 | Rsubread 2.23.2 (landing page) | Wei Shi | OK | ERROR | skipped | ||||||||||||
| 189/229 | rtracklayer 1.69.1 (landing page) | Michael Lawrence | OK | OK | WARNINGS | ||||||||||||
| 190/229 | S4Arrays 1.9.1 (landing page) | Hervé Pagès | OK | OK | OK | ||||||||||||
| 191/229 | S4Vectors 0.47.0 (landing page) | Hervé Pagès | OK | OK | WARNINGS | ||||||||||||
| 192/229 | ScaledMatrix 1.17.0 (landing page) | Aaron Lun | OK | OK | OK | ||||||||||||
| 193/229 | scater 1.37.0 (landing page) | Alan O'Callaghan | OK | OK | OK | ||||||||||||
| 194/229 | scran 1.37.0 (landing page) | Aaron Lun | OK | OK | WARNINGS | ||||||||||||
| 195/229 | scrapper 1.3.5 (landing page) | Aaron Lun | OK | OK | WARNINGS | ||||||||||||
| 196/229 | scuttle 1.19.0 (landing page) | Aaron Lun | OK | OK | OK | ||||||||||||
| 197/229 | Seqinfo 0.99.2 (landing page) | Hervé Pagès | OK | OK | OK | ||||||||||||
| 198/229 | seqLogo 1.75.0 (landing page) | Robert Ivanek | OK | OK | OK | ||||||||||||
| 199/229 | sesame 1.27.1 (landing page) | Wanding Zhou | OK | OK | OK | ||||||||||||
| 200/229 | ShortRead 1.67.0 (landing page) | Bioconductor Package Maintainer | OK | OK | WARNINGS | ||||||||||||
| 201/229 | siggenes 1.83.0 (landing page) | Holger Schwender | OK | OK | OK | ||||||||||||
| 202/229 | SingleCellExperiment 1.31.1 (landing page) | Davide Risso | OK | OK | OK | ||||||||||||
| 203/229 | SingleR 2.11.3 (landing page) | Aaron Lun | OK | OK | OK | ||||||||||||
| 204/229 | snifter 1.19.3 (landing page) | Alan O'Callaghan | OK | OK | OK | ||||||||||||
| 205/229 | snpStats 1.59.2 (landing page) | David Clayton | OK | OK | WARNINGS | ||||||||||||
| 206/229 | SparseArray 1.9.1 (landing page) | Hervé Pagès | OK | OK | OK | ||||||||||||
| 207/229 | sparseMatrixStats 1.21.0 (landing page) | Constantin Ahlmann-Eltze | OK | OK | OK | ||||||||||||
| 208/229 | SpatialExperiment 1.19.1 (landing page) | Dario Righelli | OK | OK | OK | ||||||||||||
| 209/229 | Spectra 1.19.4 (landing page) | RforMassSpectrometry Package Maintainer | OK | OK | OK | ||||||||||||
| 210/229 | SPIA 2.61.0 (landing page) | Adi Laurentiu Tarca | OK | OK | OK | ||||||||||||
| 211/229 | SummarizedExperiment 1.39.1 (landing page) | Hervé Pagès | OK | OK | OK | ||||||||||||
| 212/229 | sva 3.57.0 (landing page) | Jeffrey T. Leek | OK | OK | OK | ||||||||||||
| 213/229 | TCGAbiolinks 2.37.1 (landing page) | Tiago Chedraoui Silva | OK | OK | ERROR | ||||||||||||
| 214/229 | TENxIO 1.11.5 (landing page) | Marcel Ramos | OK | OK | OK | ||||||||||||
| 215/229 | TFBSTools 1.47.1 (landing page) | Ge Tan | OK | OK | OK | ||||||||||||
| 216/229 | tkWidgets 1.87.0 (landing page) | J. Zhang | OK | OK | OK | ||||||||||||
| 217/229 | treeio 1.33.0 (landing page) | Guangchuang Yu | OK | OK | OK | ||||||||||||
| 218/229 | txdbmaker 1.5.6 (landing page) | H. Pagès | OK | OK | OK | ||||||||||||
| 219/229 | tximeta 1.27.2 (landing page) | Michael Love | OK | OK | OK | ||||||||||||
| 220/229 | tximport 1.37.1 (landing page) | Michael Love | OK | OK | OK | ||||||||||||
| 221/229 | UCSC.utils 1.5.0 (landing page) | Hervé Pagès | OK | OK | OK | ||||||||||||
| 222/229 | VariantAnnotation 1.55.1 (landing page) | Bioconductor Package Maintainer | OK | OK | WARNINGS | ||||||||||||
| 223/229 | VisiumIO 1.5.6 (landing page) | Marcel Ramos | OK | OK | OK | ||||||||||||
| 224/229 | vsn 3.77.0 (landing page) | Wolfgang Huber | OK | OK | OK | ||||||||||||
| 225/229 | widgetTools 1.87.0 (landing page) | Jianhua Zhang | OK | OK | OK | ||||||||||||
| 226/229 | Wrench 1.27.0 (landing page) | Hector Corrada Bravo | OK | OK | OK | ||||||||||||
| 227/229 | xcms 4.7.2 (landing page) | Steffen Neumann | OK | OK | OK | ||||||||||||
| 228/229 | XVector 0.49.0 (landing page) | Hervé Pagès | OK | OK | WARNINGS | ||||||||||||
| 229/229 | zellkonverter 1.19.2 (landing page) | Luke Zappia | OK | OK | OK | ||||||||||||