| Back to Rapid builds (Linux only) of a subset of BioC 3.22 Report updated every 6 hours | 
This page was generated on 2025-07-24 09:37 -0400 (Thu, 24 Jul 2025).
| Hostname | OS | Arch (*) | R version | Installed pkgs | 
|---|---|---|---|---|
| teran2 | Linux (Ubuntu 24.04.1 LTS) | x86_64 | 4.5.0 (2025-04-11) -- "How About a Twenty-Six" | 914 | 
| Click on any hostname to see more info about the system (e.g. compilers) (*) as reported by 'uname -p', except on Windows and Mac OS X | ||||
| Package 150/229 | Hostname | OS / Arch | INSTALL | BUILD | CHECK | |||||||
| MsExperiment 1.11.1  (landing page) Laurent Gatto 
 | teran2 | Linux (Ubuntu 24.04.1 LTS) / x86_64 | OK | OK | OK | |||||||
| To the developers/maintainers of the MsExperiment package: - Use the following Renviron settings to reproduce errors and warnings. - If 'R CMD check' started to fail recently on the Linux builder(s) over a missing dependency, add the missing dependency to 'Suggests:' in your DESCRIPTION file. See Renviron.bioc for more information. | 
| Package: MsExperiment | 
| Version: 1.11.1 | 
| Command: /home/rapidbuild/bbs-3.22-bioc-rapid/R/bin/R CMD check --install=check:MsExperiment.install-out.txt --library=/home/rapidbuild/bbs-3.22-bioc-rapid/R/site-library --timings MsExperiment_1.11.1.tar.gz | 
| StartedAt: 2025-07-24 08:38:53 -0400 (Thu, 24 Jul 2025) | 
| EndedAt: 2025-07-24 08:42:13 -0400 (Thu, 24 Jul 2025) | 
| EllapsedTime: 199.6 seconds | 
| RetCode: 0 | 
| Status: OK | 
| CheckDir: MsExperiment.Rcheck | 
| Warnings: 0 | 
##############################################################################
##############################################################################
###
### Running command:
###
###   /home/rapidbuild/bbs-3.22-bioc-rapid/R/bin/R CMD check --install=check:MsExperiment.install-out.txt --library=/home/rapidbuild/bbs-3.22-bioc-rapid/R/site-library --timings MsExperiment_1.11.1.tar.gz
###
##############################################################################
##############################################################################
* using log directory ‘/media/volume/teran2_disk/rapidbuild/bbs-3.22-bioc-rapid/meat/MsExperiment.Rcheck’
* using R version 4.5.0 (2025-04-11)
* using platform: x86_64-pc-linux-gnu
* R was compiled by
    gcc (Ubuntu 13.3.0-6ubuntu2~24.04) 13.3.0
    GNU Fortran (Ubuntu 13.3.0-6ubuntu2~24.04) 13.3.0
* running under: Ubuntu 24.04.2 LTS
* using session charset: UTF-8
* checking for file ‘MsExperiment/DESCRIPTION’ ... OK
* this is package ‘MsExperiment’ version ‘1.11.1’
* package encoding: UTF-8
* checking package namespace information ... OK
* checking package dependencies ... OK
* checking if this is a source package ... OK
* checking if there is a namespace ... OK
* checking for hidden files and directories ... OK
* checking for portable file names ... OK
* checking for sufficient/correct file permissions ... OK
* checking whether package ‘MsExperiment’ can be installed ... OK
* checking installed package size ... OK
* checking package directory ... OK
* checking ‘build’ directory ... OK
* checking DESCRIPTION meta-information ... OK
* checking top-level files ... OK
* checking for left-over files ... OK
* checking index information ... OK
* checking package subdirectories ... OK
* checking code files for non-ASCII characters ... OK
* checking R files for syntax errors ... OK
* checking whether the package can be loaded ... OK
* checking whether the package can be loaded with stated dependencies ... OK
* checking whether the package can be unloaded cleanly ... OK
* checking whether the namespace can be loaded with stated dependencies ... OK
* checking whether the namespace can be unloaded cleanly ... OK
* checking loading without being on the library search path ... OK
* checking dependencies in R code ... NOTE
Unexported object imported by a ':::' call: ‘IRanges:::.showAtomicList’
  See the note in ?`:::` about the use of this operator.
* checking S3 generic/method consistency ... OK
* checking replacement functions ... OK
* checking foreign function calls ... OK
* checking R code for possible problems ... OK
* checking Rd files ... OK
* checking Rd metadata ... OK
* checking Rd cross-references ... OK
* checking for missing documentation entries ... OK
* checking for code/documentation mismatches ... OK
* checking Rd \usage sections ... OK
* checking Rd contents ... OK
* checking for unstated dependencies in examples ... OK
* checking files in ‘vignettes’ ... OK
* checking examples ... OK
Examples with CPU (user + system) or elapsed time > 5s
                   user system elapsed
dbWriteSampleData 4.545  2.604   5.067
* checking for unstated dependencies in ‘tests’ ... OK
* checking tests ...
  Running ‘testthat.R’
 OK
* checking for unstated dependencies in vignettes ... OK
* checking package vignettes ... OK
* checking re-building of vignette outputs ... OK
* checking PDF version of manual ... OK
* DONE
Status: 1 NOTE
See
  ‘/media/volume/teran2_disk/rapidbuild/bbs-3.22-bioc-rapid/meat/MsExperiment.Rcheck/00check.log’
for details.
MsExperiment.Rcheck/00install.out
############################################################################## ############################################################################## ### ### Running command: ### ### /home/rapidbuild/bbs-3.22-bioc-rapid/R/bin/R CMD INSTALL MsExperiment ### ############################################################################## ############################################################################## * installing to library ‘/media/volume/teran2_disk/rapidbuild/bbs-3.22-bioc-rapid/R/site-library’ * installing *source* package ‘MsExperiment’ ... ** this is package ‘MsExperiment’ version ‘1.11.1’ ** using staged installation ** R ** byte-compile and prepare package for lazy loading ** help *** installing help indices *** copying figures ** building package indices ** installing vignettes ** testing if installed package can be loaded from temporary location ** testing if installed package can be loaded from final location ** testing if installed package keeps a record of temporary installation path * DONE (MsExperiment)
MsExperiment.Rcheck/tests/testthat.Rout
R version 4.5.0 (2025-04-11) -- "How About a Twenty-Six"
Copyright (C) 2025 The R Foundation for Statistical Computing
Platform: x86_64-pc-linux-gnu
R is free software and comes with ABSOLUTELY NO WARRANTY.
You are welcome to redistribute it under certain conditions.
Type 'license()' or 'licence()' for distribution details.
R is a collaborative project with many contributors.
Type 'contributors()' for more information and
'citation()' on how to cite R or R packages in publications.
Type 'demo()' for some demos, 'help()' for on-line help, or
'help.start()' for an HTML browser interface to help.
Type 'q()' to quit R.
> library("testthat")
> library("MsExperiment")
Loading required package: ProtGenerics
Attaching package: 'ProtGenerics'
The following object is masked from 'package:stats':
    smooth
> library("msdata")
> library("S4Vectors")
Loading required package: stats4
Loading required package: BiocGenerics
Loading required package: generics
Attaching package: 'generics'
The following objects are masked from 'package:base':
    as.difftime, as.factor, as.ordered, intersect, is.element, setdiff,
    setequal, union
Attaching package: 'BiocGenerics'
The following objects are masked from 'package:stats':
    IQR, mad, sd, var, xtabs
The following objects are masked from 'package:base':
    Filter, Find, Map, Position, Reduce, anyDuplicated, aperm, append,
    as.data.frame, basename, cbind, colnames, dirname, do.call,
    duplicated, eval, evalq, get, grep, grepl, is.unsorted, lapply,
    mapply, match, mget, order, paste, pmax, pmax.int, pmin, pmin.int,
    rank, rbind, rownames, sapply, saveRDS, table, tapply, unique,
    unsplit, which.max, which.min
Attaching package: 'S4Vectors'
The following object is masked from 'package:utils':
    findMatches
The following objects are masked from 'package:base':
    I, expand.grid, unname
> library("Spectra")
Loading required package: BiocParallel
> 
> fls <- dir(system.file("sciex", package = "msdata"), pattern = "mzML",
+            full.names = TRUE)
> 
> mse <- MsExperiment()
> df <- data.frame(sample = c("QC1", "QC2"),
+                  time = c(1, 2),
+                  mzML_file = basename(fls))
> sampleData(mse) <- DataFrame(df)
> experimentFiles(mse) <- MsExperimentFiles(mzML_file = fls,
+                                           other_file = "other_file.txt")
> spectra(mse) <- Spectra(fls)
> 
> test_check("MsExperiment")
[ FAIL 0 | WARN 1 | SKIP 0 | PASS 258 ]
[ FAIL 0 | WARN 1 | SKIP 0 | PASS 258 ]
> 
> proc.time()
   user  system elapsed 
 19.792   3.630  21.951 
MsExperiment.Rcheck/MsExperiment-Ex.timings
| name | user | system | elapsed | |
| MsExperiment | 3.788 | 0.340 | 3.952 | |
| MsExperimentFiles | 0.014 | 0.004 | 0.019 | |
| dbWriteSampleData | 4.545 | 2.604 | 5.067 | |
| readMsExperiment | 0.500 | 0.738 | 0.844 | |