| Back to Rapid builds (Linux only) of a subset of BioC 3.22 Report updated every 6 hours | 
This page was generated on 2025-07-24 09:37 -0400 (Thu, 24 Jul 2025).
| Hostname | OS | Arch (*) | R version | Installed pkgs | 
|---|---|---|---|---|
| teran2 | Linux (Ubuntu 24.04.1 LTS) | x86_64 | 4.5.0 (2025-04-11) -- "How About a Twenty-Six" | 914 | 
| Click on any hostname to see more info about the system (e.g. compilers) (*) as reported by 'uname -p', except on Windows and Mac OS X | ||||
| Package 101/229 | Hostname | OS / Arch | INSTALL | BUILD | CHECK | |||||||
| GenomicFeatures 1.61.5  (landing page) H. Pagès 
 | teran2 | Linux (Ubuntu 24.04.1 LTS) / x86_64 | OK | OK | OK | |||||||
| To the developers/maintainers of the GenomicFeatures package: - Use the following Renviron settings to reproduce errors and warnings. - If 'R CMD check' started to fail recently on the Linux builder(s) over a missing dependency, add the missing dependency to 'Suggests:' in your DESCRIPTION file. See Renviron.bioc for more information. | 
| Package: GenomicFeatures | 
| Version: 1.61.5 | 
| Command: /home/rapidbuild/bbs-3.22-bioc-rapid/R/bin/R CMD build --keep-empty-dirs --no-resave-data GenomicFeatures | 
| StartedAt: 2025-07-24 06:48:50 -0400 (Thu, 24 Jul 2025) | 
| EndedAt: 2025-07-24 06:49:46 -0400 (Thu, 24 Jul 2025) | 
| EllapsedTime: 56.3 seconds | 
| RetCode: 0 | 
| Status: OK | 
| PackageFile: GenomicFeatures_1.61.5.tar.gz | 
| PackageFileSize: 555.5 KiB | 
##############################################################################
##############################################################################
###
### Running command:
###
###   /home/rapidbuild/bbs-3.22-bioc-rapid/R/bin/R CMD build --keep-empty-dirs --no-resave-data GenomicFeatures
###
##############################################################################
##############################################################################
* checking for file ‘GenomicFeatures/DESCRIPTION’ ... OK
* preparing ‘GenomicFeatures’:
* checking DESCRIPTION meta-information ... OK
* installing the package to build vignettes
* creating vignettes ... OK
* checking for LF line-endings in source and make files and shell scripts
* checking for empty or unneeded directories
  NB: this package now depends on R (>= 3.5.0)
  WARNING: Added dependency on R >= 3.5.0 because serialized objects in
  serialize/load version 3 cannot be read in older versions of R.
  File(s) containing such objects:
    ‘GenomicFeatures/inst/extdata/sample_ranges.rds’
* building ‘GenomicFeatures_1.61.5.tar.gz’