| Back to Rapid builds (Linux only) of a subset of BioC 3.22 Report updated every 6 hours | 
This page was generated on 2025-07-24 09:37 -0400 (Thu, 24 Jul 2025).
| Hostname | OS | Arch (*) | R version | Installed pkgs | 
|---|---|---|---|---|
| teran2 | Linux (Ubuntu 24.04.1 LTS) | x86_64 | 4.5.0 (2025-04-11) -- "How About a Twenty-Six" | 914 | 
| Click on any hostname to see more info about the system (e.g. compilers) (*) as reported by 'uname -p', except on Windows and Mac OS X | ||||
| Package 86/229 | Hostname | OS / Arch | INSTALL | BUILD | CHECK | |||||||
| fgsea 1.35.6  (landing page) Alexey Sergushichev 
 | teran2 | Linux (Ubuntu 24.04.1 LTS) / x86_64 | OK | OK | OK | |||||||
| To the developers/maintainers of the fgsea package: - Use the following Renviron settings to reproduce errors and warnings. - If 'R CMD check' started to fail recently on the Linux builder(s) over a missing dependency, add the missing dependency to 'Suggests:' in your DESCRIPTION file. See Renviron.bioc for more information. | 
| Package: fgsea | 
| Version: 1.35.6 | 
| Command: /home/rapidbuild/bbs-3.22-bioc-rapid/R/bin/R CMD build --keep-empty-dirs --no-resave-data fgsea | 
| StartedAt: 2025-07-24 06:42:40 -0400 (Thu, 24 Jul 2025) | 
| EndedAt: 2025-07-24 06:48:08 -0400 (Thu, 24 Jul 2025) | 
| EllapsedTime: 327.8 seconds | 
| RetCode: 0 | 
| Status: OK | 
| PackageFile: fgsea_1.35.6.tar.gz | 
| PackageFileSize: 5.878 MiB | 
############################################################################## ############################################################################## ### ### Running command: ### ### /home/rapidbuild/bbs-3.22-bioc-rapid/R/bin/R CMD build --keep-empty-dirs --no-resave-data fgsea ### ############################################################################## ############################################################################## * checking for file ‘fgsea/DESCRIPTION’ ... OK * preparing ‘fgsea’: * checking DESCRIPTION meta-information ... OK * cleaning src * installing the package to build vignettes * creating vignettes ... OK * cleaning src * checking for LF line-endings in source and make files and shell scripts * checking for empty or unneeded directories * building ‘fgsea_1.35.6.tar.gz’