| Back to Rapid builds (Linux only) of a subset of BioC 3.22 Report updated every 6 hours | 
This page was generated on 2025-07-24 09:37 -0400 (Thu, 24 Jul 2025).
| Hostname | OS | Arch (*) | R version | Installed pkgs | 
|---|---|---|---|---|
| teran2 | Linux (Ubuntu 24.04.1 LTS) | x86_64 | 4.5.0 (2025-04-11) -- "How About a Twenty-Six" | 914 | 
| Click on any hostname to see more info about the system (e.g. compilers) (*) as reported by 'uname -p', except on Windows and Mac OS X | ||||
| Package 108/229 | Hostname | OS / Arch | INSTALL | BUILD | CHECK | |||||||
| glmGamPoi 1.21.0  (landing page) Constantin Ahlmann-Eltze 
 | teran2 | Linux (Ubuntu 24.04.1 LTS) / x86_64 | OK | OK | WARNINGS | |||||||
| To the developers/maintainers of the glmGamPoi package: - Use the following Renviron settings to reproduce errors and warnings. - If 'R CMD check' started to fail recently on the Linux builder(s) over a missing dependency, add the missing dependency to 'Suggests:' in your DESCRIPTION file. See Renviron.bioc for more information. | 
| Package: glmGamPoi | 
| Version: 1.21.0 | 
| Command: /home/rapidbuild/bbs-3.22-bioc-rapid/R/bin/R CMD INSTALL glmGamPoi | 
| StartedAt: 2025-07-24 06:15:46 -0400 (Thu, 24 Jul 2025) | 
| EndedAt: 2025-07-24 06:16:30 -0400 (Thu, 24 Jul 2025) | 
| EllapsedTime: 44.1 seconds | 
| RetCode: 0 | 
| Status: OK | 
##############################################################################
##############################################################################
###
### Running command:
###
###   /home/rapidbuild/bbs-3.22-bioc-rapid/R/bin/R CMD INSTALL glmGamPoi
###
##############################################################################
##############################################################################
* installing to library ‘/media/volume/teran2_disk/rapidbuild/bbs-3.22-bioc-rapid/R/site-library’
* installing *source* package ‘glmGamPoi’ ...
** this is package ‘glmGamPoi’ version ‘1.21.0’
** using staged installation
** libs
using C++ compiler: ‘g++ (Ubuntu 13.3.0-6ubuntu2~24.04) 13.3.0’
using C++17
g++ -std=gnu++17 -I"/home/rapidbuild/bbs-3.22-bioc-rapid/R/include" -DNDEBUG -I../inst/include/ -I'/media/volume/teran2_disk/rapidbuild/bbs-3.22-bioc-rapid/R/site-library/Rcpp/include' -I'/media/volume/teran2_disk/rapidbuild/bbs-3.22-bioc-rapid/R/site-library/RcppArmadillo/include' -I'/media/volume/teran2_disk/rapidbuild/bbs-3.22-bioc-rapid/R/site-library/beachmat/include' -I'/media/volume/teran2_disk/rapidbuild/bbs-3.22-bioc-rapid/R/site-library/assorthead/include' -I/usr/local/include    -fpic  -g -O2  -Wall -Werror=format-security  -c RcppExports.cpp -o RcppExports.o
g++ -std=gnu++17 -I"/home/rapidbuild/bbs-3.22-bioc-rapid/R/include" -DNDEBUG -I../inst/include/ -I'/media/volume/teran2_disk/rapidbuild/bbs-3.22-bioc-rapid/R/site-library/Rcpp/include' -I'/media/volume/teran2_disk/rapidbuild/bbs-3.22-bioc-rapid/R/site-library/RcppArmadillo/include' -I'/media/volume/teran2_disk/rapidbuild/bbs-3.22-bioc-rapid/R/site-library/beachmat/include' -I'/media/volume/teran2_disk/rapidbuild/bbs-3.22-bioc-rapid/R/site-library/assorthead/include' -I/usr/local/include    -fpic  -g -O2  -Wall -Werror=format-security  -c beta_estimation.cpp -o beta_estimation.o
beta_estimation.cpp: In function ‘bool lte_n_equal_rows(const Rcpp::NumericMatrix&, int, double)’:
beta_estimation.cpp:31:35: warning: comparison of integer expressions of different signedness: ‘size_t’ {aka ‘long unsigned int’} and ‘int’ [-Wsign-compare]
   31 |   for(size_t row_idx = 0; row_idx < matrix.nrow(); row_idx++){
      |                           ~~~~~~~~^~~~~~~~~~~~~~~
beta_estimation.cpp:43:20: warning: comparison of integer expressions of different signedness: ‘size_t’ {aka ‘long unsigned int’} and ‘int’ [-Wsign-compare]
   43 |       if(n_matches > n){
      |          ~~~~~~~~~~^~~
beta_estimation.cpp: In function ‘Rcpp::IntegerVector get_row_groups(const Rcpp::NumericMatrix&, int, double)’:
beta_estimation.cpp:57:35: warning: comparison of integer expressions of different signedness: ‘size_t’ {aka ‘long unsigned int’} and ‘int’ [-Wsign-compare]
   57 |   for(size_t row_idx = 0; row_idx < matrix.nrow(); row_idx++){
      |                           ~~~~~~~~^~~~~~~~~~~~~~~
In file included from beta_estimation.cpp:5:
../inst/include/deviance.h: In instantiation of ‘arma::Mat<double> compute_gp_deviance_residuals_matrix_impl(arma::Mat<eT>, arma::Mat<double>, Rcpp::NumericVector) [with NumericType = int; Rcpp::NumericVector = Rcpp::Vector<14, Rcpp::PreserveStorage>]’:
../inst/include/deviance.h:88:58:   required from here
../inst/include/deviance.h:76:20: warning: comparison of integer expressions of different signedness: ‘int’ and ‘const arma::uword’ {aka ‘const unsigned int’} [-Wsign-compare]
   76 |   for(int i = 0; i < Y.n_elem; i++){
      |                  ~~^~~~~~~~~~
../inst/include/deviance.h: In instantiation of ‘arma::Mat<double> compute_gp_deviance_residuals_matrix_impl(arma::Mat<eT>, arma::Mat<double>, Rcpp::NumericVector) [with NumericType = double; Rcpp::NumericVector = Rcpp::Vector<14, Rcpp::PreserveStorage>]’:
../inst/include/deviance.h:91:61:   required from here
../inst/include/deviance.h:76:20: warning: comparison of integer expressions of different signedness: ‘int’ and ‘const arma::uword’ {aka ‘const unsigned int’} [-Wsign-compare]
beta_estimation.cpp: In instantiation of ‘void clamp_inplace(arma::Mat<eT>&, double, double) [with NumericType = double]’:
beta_estimation.cpp:80:16:   required from here
beta_estimation.cpp:14:20: warning: comparison of integer expressions of different signedness: ‘int’ and ‘const arma::uword’ {aka ‘const unsigned int’} [-Wsign-compare]
   14 |   for(int i = 0; i < v.n_elem; i++){
      |                  ~~^~~~~~~~~~
../inst/include/deviance.h: In instantiation of ‘double compute_gp_deviance_sum(const arma::Mat<eT>&, const arma::Mat<double>&, double) [with NumericType = double]’:
beta_estimation.cpp:256:40:   required from here
../inst/include/deviance.h:53:21: warning: comparison of integer expressions of different signedness: ‘int’ and ‘const arma::uword’ {aka ‘const unsigned int’} [-Wsign-compare]
   53 |   for (int i = 0; i < Y.n_elem; i++) {
      |                   ~~^~~~~~~~~~
g++ -std=gnu++17 -I"/home/rapidbuild/bbs-3.22-bioc-rapid/R/include" -DNDEBUG -I../inst/include/ -I'/media/volume/teran2_disk/rapidbuild/bbs-3.22-bioc-rapid/R/site-library/Rcpp/include' -I'/media/volume/teran2_disk/rapidbuild/bbs-3.22-bioc-rapid/R/site-library/RcppArmadillo/include' -I'/media/volume/teran2_disk/rapidbuild/bbs-3.22-bioc-rapid/R/site-library/beachmat/include' -I'/media/volume/teran2_disk/rapidbuild/bbs-3.22-bioc-rapid/R/site-library/assorthead/include' -I/usr/local/include    -fpic  -g -O2  -Wall -Werror=format-security  -c deviance.cpp -o deviance.o
In file included from deviance.cpp:3:
../inst/include/deviance.h: In instantiation of ‘arma::Mat<double> compute_gp_deviance_residuals_matrix_impl(arma::Mat<eT>, arma::Mat<double>, Rcpp::NumericVector) [with NumericType = int; Rcpp::NumericVector = Rcpp::Vector<14, Rcpp::PreserveStorage>]’:
../inst/include/deviance.h:88:58:   required from here
../inst/include/deviance.h:76:20: warning: comparison of integer expressions of different signedness: ‘int’ and ‘const arma::uword’ {aka ‘const unsigned int’} [-Wsign-compare]
   76 |   for(int i = 0; i < Y.n_elem; i++){
      |                  ~~^~~~~~~~~~
../inst/include/deviance.h: In instantiation of ‘arma::Mat<double> compute_gp_deviance_residuals_matrix_impl(arma::Mat<eT>, arma::Mat<double>, Rcpp::NumericVector) [with NumericType = double; Rcpp::NumericVector = Rcpp::Vector<14, Rcpp::PreserveStorage>]’:
../inst/include/deviance.h:91:61:   required from here
../inst/include/deviance.h:76:20: warning: comparison of integer expressions of different signedness: ‘int’ and ‘const arma::uword’ {aka ‘const unsigned int’} [-Wsign-compare]
g++ -std=gnu++17 -I"/home/rapidbuild/bbs-3.22-bioc-rapid/R/include" -DNDEBUG -I../inst/include/ -I'/media/volume/teran2_disk/rapidbuild/bbs-3.22-bioc-rapid/R/site-library/Rcpp/include' -I'/media/volume/teran2_disk/rapidbuild/bbs-3.22-bioc-rapid/R/site-library/RcppArmadillo/include' -I'/media/volume/teran2_disk/rapidbuild/bbs-3.22-bioc-rapid/R/site-library/beachmat/include' -I'/media/volume/teran2_disk/rapidbuild/bbs-3.22-bioc-rapid/R/site-library/assorthead/include' -I/usr/local/include    -fpic  -g -O2  -Wall -Werror=format-security  -c overdispersion.cpp -o overdispersion.o
overdispersion.cpp: In function ‘Rcpp::List make_table_if_small(const Rcpp::NumericVector&, int)’:
overdispersion.cpp:25:22: warning: comparison of integer expressions of different signedness: ‘std::unordered_map<long int, long unsigned int>::size_type’ {aka ‘long unsigned int’} and ‘int’ [-Wsign-compare]
   25 |     if(counts.size() > stop_if_larger){
      |        ~~~~~~~~~~~~~~^~~~~~~~~~~~~~~~
overdispersion.cpp: In function ‘double conventional_loglikelihood_fast(Rcpp::NumericVector, Rcpp::NumericVector, double, const arma::mat&, bool, Rcpp::NumericVector, Rcpp::NumericVector)’:
overdispersion.cpp:92:31: warning: comparison of integer expressions of different signedness: ‘size_t’ {aka ‘long unsigned int’} and ‘R_xlen_t’ {aka ‘long int’} [-Wsign-compare]
   92 |     for(size_t iter = 0; iter < count_frequencies.size(); ++iter){
      |                          ~~~~~^~~~~~~~~~~~~~~~~~~~~~~~~~
overdispersion.cpp:100:23: warning: comparison of integer expressions of different signedness: ‘size_t’ {aka ‘long unsigned int’} and ‘R_xlen_t’ {aka ‘long int’} [-Wsign-compare]
  100 |   for(size_t i = 0; i < y.size(); ++i){
      |                     ~~^~~~~~~~~~
overdispersion.cpp: In function ‘double conventional_score_function_fast(Rcpp::NumericVector, Rcpp::NumericVector, double, const arma::mat&, bool, Rcpp::NumericVector, Rcpp::NumericVector)’:
overdispersion.cpp:136:31: warning: comparison of integer expressions of different signedness: ‘size_t’ {aka ‘long unsigned int’} and ‘R_xlen_t’ {aka ‘long int’} [-Wsign-compare]
  136 |     for(size_t iter = 0; iter < count_frequencies.size(); ++iter){
      |                          ~~~~~^~~~~~~~~~~~~~~~~~~~~~~~~~
overdispersion.cpp:159:31: warning: comparison of integer expressions of different signedness: ‘size_t’ {aka ‘long unsigned int’} and ‘R_xlen_t’ {aka ‘long int’} [-Wsign-compare]
  159 |     for(size_t iter = 0; iter < y.size(); ++iter){
      |                          ~~~~~^~~~~~~~~~
overdispersion.cpp:177:23: warning: comparison of integer expressions of different signedness: ‘size_t’ {aka ‘long unsigned int’} and ‘R_xlen_t’ {aka ‘long int’} [-Wsign-compare]
  177 |   for(size_t i = 0; i < y.size(); ++i){
      |                     ~~^~~~~~~~~~
overdispersion.cpp: In function ‘double conventional_deriv_score_function_fast(Rcpp::NumericVector, Rcpp::NumericVector, double, const arma::mat&, bool, Rcpp::NumericVector, Rcpp::NumericVector)’:
overdispersion.cpp:233:31: warning: comparison of integer expressions of different signedness: ‘size_t’ {aka ‘long unsigned int’} and ‘R_xlen_t’ {aka ‘long int’} [-Wsign-compare]
  233 |     for(size_t iter = 0; iter < count_frequencies.size(); ++iter){
      |                          ~~~~~^~~~~~~~~~~~~~~~~~~~~~~~~~
overdispersion.cpp:251:23: warning: comparison of integer expressions of different signedness: ‘size_t’ {aka ‘long unsigned int’} and ‘R_xlen_t’ {aka ‘long int’} [-Wsign-compare]
  251 |   for(size_t i = 0; i < y.size(); ++i){
      |                     ~~^~~~~~~~~~
g++ -std=gnu++17 -I"/home/rapidbuild/bbs-3.22-bioc-rapid/R/include" -DNDEBUG -I../inst/include/ -I'/media/volume/teran2_disk/rapidbuild/bbs-3.22-bioc-rapid/R/site-library/Rcpp/include' -I'/media/volume/teran2_disk/rapidbuild/bbs-3.22-bioc-rapid/R/site-library/RcppArmadillo/include' -I'/media/volume/teran2_disk/rapidbuild/bbs-3.22-bioc-rapid/R/site-library/beachmat/include' -I'/media/volume/teran2_disk/rapidbuild/bbs-3.22-bioc-rapid/R/site-library/assorthead/include' -I/usr/local/include    -fpic  -g -O2  -Wall -Werror=format-security  -c utils.cpp -o utils.o
g++ -std=gnu++17 -shared -L/usr/local/lib -o glmGamPoi.so RcppExports.o beta_estimation.o deviance.o overdispersion.o utils.o -llapack -L/home/rapidbuild/bbs-3.22-bioc-rapid/R/lib -lRblas -lgfortran -lm -lquadmath
installing to /media/volume/teran2_disk/rapidbuild/bbs-3.22-bioc-rapid/R/site-library/00LOCK-glmGamPoi/00new/glmGamPoi/libs
** R
** inst
** byte-compile and prepare package for lazy loading
** help
*** installing help indices
*** copying figures
** building package indices
** installing vignettes
** testing if installed package can be loaded from temporary location
** checking absolute paths in shared objects and dynamic libraries
** testing if installed package can be loaded from final location
** testing if installed package keeps a record of temporary installation path
* DONE (glmGamPoi)