| Back to Rapid builds (Linux only) of a subset of BioC 3.22 Report updated every 6 hours | 
This page was generated on 2025-07-24 09:37 -0400 (Thu, 24 Jul 2025).
| Hostname | OS | Arch (*) | R version | Installed pkgs | 
|---|---|---|---|---|
| teran2 | Linux (Ubuntu 24.04.1 LTS) | x86_64 | 4.5.0 (2025-04-11) -- "How About a Twenty-Six" | 914 | 
| Click on any hostname to see more info about the system (e.g. compilers) (*) as reported by 'uname -p', except on Windows and Mac OS X | ||||
| Package 199/229 | Hostname | OS / Arch | INSTALL | BUILD | CHECK | |||||||
| sesame 1.27.1  (landing page) Wanding Zhou 
 | teran2 | Linux (Ubuntu 24.04.1 LTS) / x86_64 | OK | OK | OK | |||||||
| To the developers/maintainers of the sesame package: - Use the following Renviron settings to reproduce errors and warnings. - If 'R CMD check' started to fail recently on the Linux builder(s) over a missing dependency, add the missing dependency to 'Suggests:' in your DESCRIPTION file. See Renviron.bioc for more information. | 
| Package: sesame | 
| Version: 1.27.1 | 
| Command: /home/rapidbuild/bbs-3.22-bioc-rapid/R/bin/R CMD check --install=check:sesame.install-out.txt --library=/home/rapidbuild/bbs-3.22-bioc-rapid/R/site-library --timings sesame_1.27.1.tar.gz | 
| StartedAt: 2025-07-24 09:00:32 -0400 (Thu, 24 Jul 2025) | 
| EndedAt: 2025-07-24 09:11:54 -0400 (Thu, 24 Jul 2025) | 
| EllapsedTime: 682.1 seconds | 
| RetCode: 0 | 
| Status: OK | 
| CheckDir: sesame.Rcheck | 
| Warnings: 0 | 
##############################################################################
##############################################################################
###
### Running command:
###
###   /home/rapidbuild/bbs-3.22-bioc-rapid/R/bin/R CMD check --install=check:sesame.install-out.txt --library=/home/rapidbuild/bbs-3.22-bioc-rapid/R/site-library --timings sesame_1.27.1.tar.gz
###
##############################################################################
##############################################################################
* using log directory ‘/media/volume/teran2_disk/rapidbuild/bbs-3.22-bioc-rapid/meat/sesame.Rcheck’
* using R version 4.5.0 (2025-04-11)
* using platform: x86_64-pc-linux-gnu
* R was compiled by
    gcc (Ubuntu 13.3.0-6ubuntu2~24.04) 13.3.0
    GNU Fortran (Ubuntu 13.3.0-6ubuntu2~24.04) 13.3.0
* running under: Ubuntu 24.04.2 LTS
* using session charset: UTF-8
* checking for file ‘sesame/DESCRIPTION’ ... OK
* checking extension type ... Package
* this is package ‘sesame’ version ‘1.27.1’
* package encoding: UTF-8
* checking package namespace information ... OK
* checking package dependencies ... OK
* checking if this is a source package ... OK
* checking if there is a namespace ... OK
* checking for hidden files and directories ... OK
* checking for portable file names ... OK
* checking for sufficient/correct file permissions ... OK
* checking whether package ‘sesame’ can be installed ... OK
* checking installed package size ... OK
* checking package directory ... OK
* checking ‘build’ directory ... OK
* checking DESCRIPTION meta-information ... OK
* checking top-level files ... OK
* checking for left-over files ... OK
* checking index information ... OK
* checking package subdirectories ... OK
* checking code files for non-ASCII characters ... OK
* checking R files for syntax errors ... OK
* checking whether the package can be loaded ... OK
* checking whether the package can be loaded with stated dependencies ... OK
* checking whether the package can be unloaded cleanly ... OK
* checking whether the namespace can be loaded with stated dependencies ... OK
* checking whether the namespace can be unloaded cleanly ... OK
* checking loading without being on the library search path ... OK
* checking whether startup messages can be suppressed ... OK
* checking dependencies in R code ... OK
* checking S3 generic/method consistency ... OK
* checking replacement functions ... OK
* checking foreign function calls ... OK
* checking R code for possible problems ... OK
* checking Rd files ... OK
* checking Rd metadata ... OK
* checking Rd cross-references ... OK
* checking for missing documentation entries ... OK
* checking for code/documentation mismatches ... OK
* checking Rd \usage sections ... OK
* checking Rd contents ... OK
* checking for unstated dependencies in examples ... OK
* checking files in ‘vignettes’ ... OK
* checking examples ... OK
Examples with CPU (user + system) or elapsed time > 5s
                                user system elapsed
imputeBetasByGenomicNeighbors 22.251  0.585  22.913
inferSex                      13.373  0.176  13.555
sesameQC_calcStats            12.123  0.019  12.151
sesameQC_plotHeatSNPs         11.911  0.028  11.944
inferSpecies                   9.954  0.648  10.609
imputeBetas                   10.181  0.390  11.587
ELBAR                          9.471  0.159   9.634
diffRefSet                     8.686  0.206   8.909
sesameQC_plotBar               8.383  0.097   8.604
compareMouseStrainReference    8.067  0.094   8.168
compareReference               7.584  0.159   7.749
matchDesign                    7.462  0.058   7.530
getRefSet                      6.877  0.075   6.955
sesameQC_plotBetaByDesign      6.207  0.004   6.220
DMR                            5.563  0.115   5.679
visualizeGene                  5.329  0.105   5.453
inferStrain                    4.588  0.510   5.100
inferTissue                    4.967  0.113   5.081
* checking for unstated dependencies in ‘tests’ ... OK
* checking tests ...
  Running ‘testthat.R’
 OK
* checking for unstated dependencies in vignettes ... OK
* checking package vignettes ... OK
* checking re-building of vignette outputs ... OK
* checking PDF version of manual ... OK
* DONE
Status: OK
sesame.Rcheck/00install.out
############################################################################## ############################################################################## ### ### Running command: ### ### /home/rapidbuild/bbs-3.22-bioc-rapid/R/bin/R CMD INSTALL sesame ### ############################################################################## ############################################################################## * installing to library ‘/media/volume/teran2_disk/rapidbuild/bbs-3.22-bioc-rapid/R/site-library’ * installing *source* package ‘sesame’ ... ** this is package ‘sesame’ version ‘1.27.1’ ** using staged installation ** R ** inst ** byte-compile and prepare package for lazy loading ** help *** installing help indices ** building package indices ** installing vignettes ** testing if installed package can be loaded from temporary location ** testing if installed package can be loaded from final location ** testing if installed package keeps a record of temporary installation path * DONE (sesame)
sesame.Rcheck/tests/testthat.Rout
R version 4.5.0 (2025-04-11) -- "How About a Twenty-Six"
Copyright (C) 2025 The R Foundation for Statistical Computing
Platform: x86_64-pc-linux-gnu
R is free software and comes with ABSOLUTELY NO WARRANTY.
You are welcome to redistribute it under certain conditions.
Type 'license()' or 'licence()' for distribution details.
R is a collaborative project with many contributors.
Type 'contributors()' for more information and
'citation()' on how to cite R or R packages in publications.
Type 'demo()' for some demos, 'help()' for on-line help, or
'help.start()' for an HTML browser interface to help.
Type 'q()' to quit R.
> library(testthat)
> library(sesame)
Loading required package: sesameData
Loading required package: ExperimentHub
Loading required package: BiocGenerics
Loading required package: generics
Attaching package: 'generics'
The following objects are masked from 'package:base':
    as.difftime, as.factor, as.ordered, intersect, is.element, setdiff,
    setequal, union
Attaching package: 'BiocGenerics'
The following objects are masked from 'package:stats':
    IQR, mad, sd, var, xtabs
The following objects are masked from 'package:base':
    Filter, Find, Map, Position, Reduce, anyDuplicated, aperm, append,
    as.data.frame, basename, cbind, colnames, dirname, do.call,
    duplicated, eval, evalq, get, grep, grepl, is.unsorted, lapply,
    mapply, match, mget, order, paste, pmax, pmax.int, pmin, pmin.int,
    rank, rbind, rownames, sapply, saveRDS, table, tapply, unique,
    unsplit, which.max, which.min
Loading required package: AnnotationHub
Loading required package: BiocFileCache
Loading required package: dbplyr
Loading sesameData.
----------------------------------------------------------
| SEnsible Step-wise Analysis of DNA MEthylation (SeSAMe)
| --------------------------------------------------------
| Please cache auxiliary data by "sesameDataCache()".
| This needs to be done only once per SeSAMe installation.
----------------------------------------------------------
> 
> test_check("sesame")
[ FAIL 0 | WARN 0 | SKIP 0 | PASS 5 ]
> 
> proc.time()
   user  system elapsed 
 12.867   0.746  13.600 
sesame.Rcheck/sesame-Ex.timings
| name | user | system | elapsed | |
| BetaValueToMValue | 0.001 | 0.001 | 0.000 | |
| DML | 4.493 | 0.216 | 4.711 | |
| DMLpredict | 0.680 | 0.021 | 0.700 | |
| DMR | 5.563 | 0.115 | 5.679 | |
| ELBAR | 9.471 | 0.159 | 9.634 | |
| MValueToBetaValue | 0 | 0 | 0 | |
| SigDF | 0.179 | 0.009 | 0.187 | |
| addMask | 0.086 | 0.000 | 0.086 | |
| betasCollapseToPfx | 0.009 | 0.000 | 0.010 | |
| bisConversionControl | 3.549 | 0.056 | 3.634 | |
| calcEffectSize | 0.594 | 0.025 | 0.619 | |
| checkLevels | 2.047 | 0.042 | 2.120 | |
| cnSegmentation | 0.159 | 0.010 | 0.169 | |
| compareMouseStrainReference | 8.067 | 0.094 | 8.168 | |
| compareMouseTissueReference | 0 | 0 | 0 | |
| compareReference | 7.584 | 0.159 | 7.749 | |
| controls | 1.150 | 0.047 | 1.198 | |
| createUCSCtrack | 3.092 | 0.133 | 3.226 | |
| deIdentify | 3.507 | 0.065 | 3.584 | |
| detectionPnegEcdf | 0.576 | 0.021 | 0.598 | |
| diffRefSet | 8.686 | 0.206 | 8.909 | |
| dmContrasts | 1.204 | 0.033 | 1.238 | |
| dyeBiasCorr | 1.560 | 0.044 | 1.609 | |
| dyeBiasCorrMostBalanced | 4.360 | 0.096 | 4.538 | |
| dyeBiasL | 1.510 | 0.062 | 1.571 | |
| dyeBiasNL | 4.531 | 0.086 | 4.621 | |
| estimateLeukocyte | 4.083 | 0.107 | 4.331 | |
| formatVCF | 1.152 | 0.035 | 1.188 | |
| getAFTypeIbySumAlleles | 0.891 | 0.035 | 0.930 | |
| getAFs | 0.547 | 0.019 | 0.567 | |
| getBetas | 0.440 | 0.018 | 0.458 | |
| getMask | 3.386 | 0.118 | 3.509 | |
| getRefSet | 6.877 | 0.075 | 6.955 | |
| imputeBetas | 10.181 | 0.390 | 11.587 | |
| imputeBetasByGenomicNeighbors | 22.251 | 0.585 | 22.913 | |
| imputeBetasMatrixByMean | 0.001 | 0.000 | 0.001 | |
| inferEthnicity | 0.000 | 0.000 | 0.001 | |
| inferInfiniumIChannel | 0.168 | 0.129 | 0.298 | |
| inferSex | 13.373 | 0.176 | 13.555 | |
| inferSpecies | 9.954 | 0.648 | 10.609 | |
| inferStrain | 4.588 | 0.510 | 5.100 | |
| inferTissue | 4.967 | 0.113 | 5.081 | |
| initFileSet | 0.677 | 0.027 | 0.705 | |
| listAvailableMasks | 0.773 | 0.035 | 0.809 | |
| mLiftOver | 0 | 0 | 0 | |
| mapFileSet | 0.023 | 0.002 | 0.026 | |
| mapToMammal40 | 1.664 | 0.062 | 1.728 | |
| matchDesign | 7.462 | 0.058 | 7.530 | |
| meanIntensity | 1.782 | 0.063 | 1.847 | |
| medianTotalIntensity | 0.577 | 0.017 | 0.594 | |
| noMasked | 2.485 | 0.063 | 2.550 | |
| noob | 1.644 | 0.038 | 1.682 | |
| openSesame | 3.260 | 0.071 | 3.352 | |
| openSesameToFile | 1.139 | 0.005 | 1.146 | |
| pOOBAH | 0.992 | 0.000 | 0.992 | |
| palgen | 0.025 | 0.004 | 0.037 | |
| parseGEOsignalMU | 2.133 | 0.052 | 2.205 | |
| predictAge | 1.723 | 0.045 | 1.768 | |
| predictAgeHorvath353 | 0 | 0 | 0 | |
| predictAgeSkinBlood | 0 | 0 | 0 | |
| predictMouseAgeInMonth | 0.000 | 0.001 | 0.000 | |
| prefixMask | 0.226 | 0.000 | 0.226 | |
| prefixMaskButC | 0.066 | 0.000 | 0.065 | |
| prefixMaskButCG | 0.027 | 0.000 | 0.027 | |
| prepSesame | 2.505 | 0.041 | 2.546 | |
| prepSesameList | 0.001 | 0.000 | 0.002 | |
| print.DMLSummary | 1.889 | 0.043 | 1.933 | |
| print.fileSet | 0.592 | 0.030 | 0.622 | |
| probeID_designType | 0 | 0 | 0 | |
| probeSuccessRate | 2.869 | 0.070 | 2.940 | |
| qualityMask | 1.256 | 0.051 | 1.307 | |
| reIdentify | 2.838 | 0.032 | 2.870 | |
| readFileSet | 0.044 | 0.000 | 0.045 | |
| readIDATpair | 0.060 | 0.000 | 0.062 | |
| recommendedMaskNames | 0 | 0 | 0 | |
| resetMask | 0.203 | 0.017 | 0.220 | |
| scrub | 1.469 | 0.000 | 1.469 | |
| scrubSoft | 2.326 | 0.000 | 2.327 | |
| sdfPlatform | 0.165 | 0.015 | 0.180 | |
| sdf_read_table | 4.577 | 0.098 | 4.676 | |
| sdf_write_table | 1.141 | 0.072 | 1.221 | |
| searchIDATprefixes | 0.004 | 0.000 | 0.005 | |
| sesame-package | 1.656 | 0.031 | 1.689 | |
| sesameAnno_attachManifest | 0 | 0 | 0 | |
| sesameAnno_buildAddressFile | 0 | 0 | 0 | |
| sesameAnno_buildManifestGRanges | 0 | 0 | 0 | |
| sesameAnno_download | 0 | 0 | 0 | |
| sesameAnno_readManifestTSV | 0 | 0 | 0 | |
| sesameQC_calcStats | 12.123 | 0.019 | 12.151 | |
| sesameQC_getStats | 1.282 | 0.000 | 1.282 | |
| sesameQC_plotBar | 8.383 | 0.097 | 8.604 | |
| sesameQC_plotBetaByDesign | 6.207 | 0.004 | 6.220 | |
| sesameQC_plotHeatSNPs | 11.911 | 0.028 | 11.944 | |
| sesameQC_plotIntensVsBetas | 1.046 | 0.021 | 1.067 | |
| sesameQC_plotRedGrnQQ | 0.829 | 0.034 | 0.864 | |
| sesameQC_rankStats | 3.171 | 0.057 | 3.232 | |
| sesameQCtoDF | 1.145 | 0.000 | 1.146 | |
| sesame_checkVersion | 0.003 | 0.000 | 0.003 | |
| sesamize | 0 | 0 | 0 | |
| setMask | 0.050 | 0.001 | 0.051 | |
| signalMU | 0.454 | 0.017 | 0.472 | |
| sliceFileSet | 0.025 | 0.000 | 0.026 | |
| summaryExtractTest | 1.828 | 0.050 | 1.879 | |
| totalIntensities | 1.361 | 0.046 | 1.407 | |
| updateSigDF | 1.686 | 0.055 | 1.747 | |
| visualizeGene | 5.329 | 0.105 | 5.453 | |
| visualizeProbes | 0.741 | 0.000 | 0.741 | |
| visualizeRegion | 0.211 | 0.001 | 0.212 | |
| visualizeSegments | 1.390 | 0.015 | 1.405 | |