| Back to Rapid builds (Linux only) of a subset of BioC 3.22 Report updated every 6 hours | 
This page was generated on 2025-07-24 09:37 -0400 (Thu, 24 Jul 2025).
| Hostname | OS | Arch (*) | R version | Installed pkgs | 
|---|---|---|---|---|
| teran2 | Linux (Ubuntu 24.04.1 LTS) | x86_64 | 4.5.0 (2025-04-11) -- "How About a Twenty-Six" | 914 | 
| Click on any hostname to see more info about the system (e.g. compilers) (*) as reported by 'uname -p', except on Windows and Mac OS X | ||||
| Package 184/229 | Hostname | OS / Arch | INSTALL | BUILD | CHECK | |||||||
| rols 3.5.0  (landing page) Laurent Gatto 
 | teran2 | Linux (Ubuntu 24.04.1 LTS) / x86_64 | OK | OK | OK | |||||||
| To the developers/maintainers of the rols package: - Use the following Renviron settings to reproduce errors and warnings. - If 'R CMD check' started to fail recently on the Linux builder(s) over a missing dependency, add the missing dependency to 'Suggests:' in your DESCRIPTION file. See Renviron.bioc for more information. | 
| Package: rols | 
| Version: 3.5.0 | 
| Command: /home/rapidbuild/bbs-3.22-bioc-rapid/R/bin/R CMD check --install=check:rols.install-out.txt --library=/home/rapidbuild/bbs-3.22-bioc-rapid/R/site-library --timings rols_3.5.0.tar.gz | 
| StartedAt: 2025-07-24 08:54:20 -0400 (Thu, 24 Jul 2025) | 
| EndedAt: 2025-07-24 08:55:57 -0400 (Thu, 24 Jul 2025) | 
| EllapsedTime: 97.3 seconds | 
| RetCode: 0 | 
| Status: OK | 
| CheckDir: rols.Rcheck | 
| Warnings: 0 | 
##############################################################################
##############################################################################
###
### Running command:
###
###   /home/rapidbuild/bbs-3.22-bioc-rapid/R/bin/R CMD check --install=check:rols.install-out.txt --library=/home/rapidbuild/bbs-3.22-bioc-rapid/R/site-library --timings rols_3.5.0.tar.gz
###
##############################################################################
##############################################################################
* using log directory ‘/media/volume/teran2_disk/rapidbuild/bbs-3.22-bioc-rapid/meat/rols.Rcheck’
* using R version 4.5.0 (2025-04-11)
* using platform: x86_64-pc-linux-gnu
* R was compiled by
    gcc (Ubuntu 13.3.0-6ubuntu2~24.04) 13.3.0
    GNU Fortran (Ubuntu 13.3.0-6ubuntu2~24.04) 13.3.0
* running under: Ubuntu 24.04.2 LTS
* using session charset: UTF-8
* checking for file ‘rols/DESCRIPTION’ ... OK
* checking extension type ... Package
* this is package ‘rols’ version ‘3.5.0’
* package encoding: UTF-8
* checking package namespace information ... OK
* checking package dependencies ... OK
* checking if this is a source package ... OK
* checking if there is a namespace ... OK
* checking for hidden files and directories ... OK
* checking for portable file names ... OK
* checking for sufficient/correct file permissions ... OK
* checking whether package ‘rols’ can be installed ... OK
* checking installed package size ... OK
* checking package directory ... OK
* checking ‘build’ directory ... OK
* checking DESCRIPTION meta-information ... OK
* checking top-level files ... OK
* checking for left-over files ... OK
* checking index information ... OK
* checking package subdirectories ... OK
* checking code files for non-ASCII characters ... OK
* checking R files for syntax errors ... OK
* checking whether the package can be loaded ... OK
* checking whether the package can be loaded with stated dependencies ... OK
* checking whether the package can be unloaded cleanly ... OK
* checking whether the namespace can be loaded with stated dependencies ... OK
* checking whether the namespace can be unloaded cleanly ... OK
* checking loading without being on the library search path ... OK
* checking whether startup messages can be suppressed ... OK
* checking dependencies in R code ... OK
* checking S3 generic/method consistency ... OK
* checking replacement functions ... OK
* checking foreign function calls ... OK
* checking R code for possible problems ... OK
* checking Rd files ... OK
* checking Rd metadata ... OK
* checking Rd cross-references ... OK
* checking for missing documentation entries ... OK
* checking for code/documentation mismatches ... OK
* checking Rd \usage sections ... OK
* checking Rd contents ... OK
* checking for unstated dependencies in examples ... OK
* checking files in ‘vignettes’ ... OK
* checking examples ... OK
* checking for unstated dependencies in ‘tests’ ... OK
* checking tests ...
  Running ‘testthat.R’
 OK
* checking for unstated dependencies in vignettes ... OK
* checking package vignettes ... OK
* checking re-building of vignette outputs ... OK
* checking PDF version of manual ... OK
* DONE
Status: OK
rols.Rcheck/00install.out
############################################################################## ############################################################################## ### ### Running command: ### ### /home/rapidbuild/bbs-3.22-bioc-rapid/R/bin/R CMD INSTALL rols ### ############################################################################## ############################################################################## * installing to library ‘/media/volume/teran2_disk/rapidbuild/bbs-3.22-bioc-rapid/R/site-library’ * installing *source* package ‘rols’ ... ** this is package ‘rols’ version ‘3.5.0’ ** using staged installation ** R ** inst ** byte-compile and prepare package for lazy loading Creating a generic function for ‘lapply’ from package ‘base’ in package ‘rols’ ** help *** installing help indices ** building package indices ** installing vignettes ** testing if installed package can be loaded from temporary location ** testing if installed package can be loaded from final location ** testing if installed package keeps a record of temporary installation path * DONE (rols)
rols.Rcheck/tests/testthat.Rout
R version 4.5.0 (2025-04-11) -- "How About a Twenty-Six"
Copyright (C) 2025 The R Foundation for Statistical Computing
Platform: x86_64-pc-linux-gnu
R is free software and comes with ABSOLUTELY NO WARRANTY.
You are welcome to redistribute it under certain conditions.
Type 'license()' or 'licence()' for distribution details.
R is a collaborative project with many contributors.
Type 'contributors()' for more information and
'citation()' on how to cite R or R packages in publications.
Type 'demo()' for some demos, 'help()' for on-line help, or
'help.start()' for an HTML browser interface to help.
Type 'q()' to quit R.
> # setting R_TESTS to empty string because of 
> # https://github.com/hadley/testthat/issues/144
> # revert this when that issue in R is fixed.
> Sys.setenv("R_TESTS" = "")
> library("testthat")
> library("rols")
This is 'rols' version 3.5.0 
> 
> test_check("rols")
[, , Hello, World] 
Object of class 'OlsSearch':
  ontolgy: GO 
  query: cell 
  requested: 20 (out of 10602)
  response(s): 0 
Object of class 'Ontologies' with 268 entries
   ADO, AfPO ... credit, mesh 
Object of class 'Ontologies' with 1 entries
ADO 
Object of class 'Ontologies' with 2 entries
ADO, AfPO 
Object of class 'Ontologies' with 3 entries
ADO, AfPO, AGRO 
Object of class 'Ontologies' with 4 entries
ADO, AfPO, AGRO, AISM 
Object of class 'Ontologies' with 5 entries
   ADO, AfPO ... AISM, AMPHX 
Ontology: Gene Ontology (go)  
  The Gene Ontology (GO) provides a framework and set of concepts for
  describing the functions of gene products from all organisms.
   Loaded: 2025-07-20 Updated: 2025-07-20 Version: 2025-06-01 
   84270 terms  474 properties  9 individuals
Object of class 'Properties' with 92 entries
 From the SO ontology
  definition, IAO_0000231 ... label, deprecated 
Object of class 'Properties' with 160 entries
 From the UBERON ontology
  digestive system, hepatobiliary system ... liver left lateral lobe, hepatic portal fibroblast 
A Property from the UBERON ontology: UBERON:0001007 
 Label: digestive system
Object of class 'Terms' with 2736 entries
 From the SO ontology
  SO:0001125, SO:0001126 ... SO:0001123, SO:0001124 
A Term from the GO ontology: GO:0032801 
 Label: receptor catabolic process
  The chemical reactions and pathways resulting in the breakdown of a
  receptor molecule, a macromolecule that undergoes combination with a
  hormone, neurotransmitter, drug or intracellular messenger to initiate
  a change in cell function.
[ FAIL 0 | WARN 0 | SKIP 0 | PASS 121 ]
> 
> proc.time()
   user  system elapsed 
  8.565   0.224  39.834 
rols.Rcheck/rols-Ex.timings
| name | user | system | elapsed | |
| CVParam | 0.107 | 0.008 | 2.000 | |
| OlsSearch | 0.123 | 0.003 | 4.825 | |
| Ontologies | 0.263 | 0.005 | 2.633 | |
| Properties | 0.444 | 0.010 | 2.664 | |
| Terms | 2.323 | 0.057 | 4.558 | |