Build/check report for BioC 3.23 experimental data

This page was generated on 2025-10-30 15:01 -0400 (Thu, 30 Oct 2025).

Approx. Package Snapshot Date/Time (git pull): 2025-10-30 07:00 -0400 (Thu, 30 Oct 2025)
See this page for all the Bioconductor builds and their schedule.

HostnameOSArch (*)R versionInstalled pkgs
nebbiolo1Linux (Ubuntu 24.04.3 LTS)x86_64R Under development (unstable) (2025-10-20 r88955) -- "Unsuffered Consequences" 4428
Click on any hostname to see more info about the system (e.g. compilers)      (*) as reported by 'uname -p', except on Windows and Mac OS X

Package status is indicated by one of the following glyphs
  TIMEOUT  
INSTALL, BUILD or CHECK of package took more than 40, 80 or 80 minutes, respectively
  ERROR  
Bad DESCRIPTION file, or INSTALL or BUILD of package failed, or CHECK produced errors
  WARNINGS  
CHECK of package produced warnings
  OK  
INSTALL, BUILD or CHECK of package went OK
  NA  
INSTALL, BUILD or CHECK result is not available because of an anomaly in the Build System
skipped
CHECK of package was skipped because the BUILD step failed
Click on any glyph in the report below to access the detailed report.
Package propagation status is indicated by one of the following LEDs
YES YES: Package was propagated because it didn't previously exist or version was bumped
NO NO: Package was not propagated because of a problem (impossible dependencies, or version lower than what is already propagated)
UNNEEDED UNNEEDED: Package was not propagated because it is already in the repository with this version. A version bump is required in order to propagate it

A crossed-out package name indicates that the package is deprecated


QUICK STATSOS / ArchINSTALLBUILDCHECK
nebbiolo1Linux (Ubuntu 24.04.3 LTS) / x86_64
016414
026404
027107270
A
ABCDEFGHIJKLMNOPQRSTUVWXYZ
PackageMaintainerINSTALLBUILDCHECK
1/430adductData 1.27.0  (landing page)Josie Hayes  OK    OK    OK  NO, package depends on 'ExperimentHub' which is not available
2/430affycompData 1.49.0  (landing page)Robert D Shear  OK    OK    OK  YES
3/430affydata 1.59.0  (landing page)Robert D Shear  OK    ERROR  skipped
4/430Affyhgu133A2Expr 1.47.0  (landing page)Zhicheng Ji  OK    OK    OK  YES
5/430Affyhgu133aExpr 1.49.0  (landing page)Zhicheng Ji  OK    OK    OK  YES
6/430Affyhgu133Plus2Expr 1.45.0  (landing page)Zhicheng Ji  OK    OK    OK  YES
7/430AffymetrixDataTestFiles 0.49.0  (landing page)Henrik Bengtsson  OK    OK    OK  YES
8/430Affymoe4302Expr 1.49.0  (landing page)Zhicheng Ji  OK    OK    OK  YES
9/430airway 1.31.0  (landing page)Michael Love  OK    OK    WARNINGS  NO, package depends on 'SummarizedExperiment' which is not available
10/430ALL 1.53.0  (landing page)Robert Gentleman  OK    OK    OK  YES
11/430ALLMLL 1.51.0  (landing page)B. M. Bolstad  OK    OK    OK  NO, package depends on 'affy' which is not available
12/430AmpAffyExample 1.51.0  (landing page)Robert D Shear  OK    OK    ERROR  
13/430antiProfilesData 1.47.0  (landing page)Hector Corrada Bravo  OK    OK    OK  YES
14/430aracne.networks 1.37.0  (landing page)Federico M. Giorgi , Mariano Alvarez  OK    OK    WARNINGS  YES
15/430ARRmData 1.47.0  (landing page)Jean-Philippe Fortin  OK    OK    OK  YES
16/430AshkenazimSonChr21 1.41.0  (landing page)Who to complain to  OK    OK    OK  YES
17/430ASICSdata 1.31.0  (landing page)Gaëlle Lefort  OK    OK    OK  YES
18/430AssessORFData 1.29.0  (landing page)Nicholas Cooley  OK    OK    OK  NO, package depends on 'DECIPHER' which is not available
19/430AWAggregatorData 1.1.0  (landing page)Jiahua Tan  OK    OK    OK  NO, package depends on 'ExperimentHub' which is not available
B
ABCDEFGHIJKLMNOPQRSTUVWXYZ
PackageMaintainerINSTALLBUILDCHECK
20/430bcellViper 1.47.0  (landing page)Mariano Javier Alvarez  OK    OK    OK  YES
21/430beadarrayExampleData 1.49.0  (landing page)Mark Dunning  OK    OK    OK  NO, package depends on 'beadarray' which is not available
22/430BeadArrayUseCases 1.49.0  (landing page)Mike Smith  OK    ERROR  skipped
23/430BeadSorted.Saliva.EPIC 1.19.0  (landing page)Jonah Fisher  OK    OK    OK  NO, package depends on 'minfi' which is not available
24/430beta7 1.49.0  (landing page)Jean Yang  OK    OK    WARNINGS  NO, package depends on 'marray' which is not available
25/430BioImageDbs 1.19.0  (landing page)Satoshi Kume  OK    OK    OK  NO, package depends on 'ExperimentHub' which is not available
26/430BioPlex 1.17.0  (landing page)Ludwig Geistlinger  OK    ERROR  skipped
27/430biotmleData 1.35.0  (landing page)Nima Hejazi  OK    OK    WARNINGS  YES
28/430biscuiteerData 1.25.0  (landing page)"Jacob Morrison"  OK    OK    OK  NO, package depends on 'ExperimentHub' which is not available
29/430bladderbatch 1.49.0  (landing page)Jeffrey T. Leek  OK    OK    WARNINGS  YES
30/430blimaTestingData 1.31.0  (landing page)Vojtech Kulvait  OK    OK    ERROR  
31/430BloodCancerMultiOmics2017 1.31.0  (landing page)Małgorzata Oleś  OK    OK    ERROR  
32/430bodymapRat 1.27.0  (landing page)Stephanie Hicks  OK    OK    OK  NO, package depends on 'SummarizedExperiment' which is not available
33/430breakpointRdata 1.29.0  (landing page)David Porubsky  OK    OK    OK  YES
34/430breastCancerMAINZ 1.49.0  (landing page)Markus Schroeder , Benjamin Haibe-Kains  OK    OK    WARNINGS  YES
35/430breastCancerNKI 1.49.0  (landing page)Markus Schroeder , Benjamin Haibe-Kains  OK    OK    WARNINGS  YES
36/430breastCancerTRANSBIG 1.49.0  (landing page)Markus Schroeder , Benjamin Haibe-Kains  OK    OK    WARNINGS  YES
37/430breastCancerUNT 1.49.0  (landing page)Markus Schroeder , Benjamin Haibe-Kains  OK    OK    WARNINGS  YES
38/430breastCancerUPP 1.49.0  (landing page)Markus Schroeder , Benjamin Haibe-Kains  OK    OK    WARNINGS  YES
39/430breastCancerVDX 1.49.0  (landing page)Markus Schroeder , Benjamin Haibe-Kains  OK    OK    WARNINGS  YES
40/430brgedata 1.33.0  (landing page)Dolors Pelegri-Siso  OK    OK    WARNINGS  NO, package depends on 'SummarizedExperiment' which is not available
41/430bronchialIL13 1.49.0  (landing page)Vince Carey  OK    OK    OK  NO, package depends on 'affy' which is not available
42/430bsseqData 0.49.0  (landing page)Kasper Daniel Hansen  OK    OK    WARNINGS  NO, package depends on 'bsseq' which is not available
43/430bugphyzz 1.5.0  (landing page)Samuel Gamboa  OK    OK    OK  NO, package depends on 'BiocFileCache' which is not available
C
ABCDEFGHIJKLMNOPQRSTUVWXYZ
PackageMaintainerINSTALLBUILDCHECK
44/430cancerdata 1.49.0  (landing page)Daniel Kosztyla  OK    OK    OK  YES
45/430CardinalWorkflows 1.43.0  (landing page)Kylie A. Bemis  OK    OK    OK  NO, package depends on 'Cardinal' which is not available
46/430ccdata 1.37.0  (landing page)Alex Pickering  OK    OK    WARNINGS  YES
47/430CCl4 1.49.0  (landing page)Audrey Kauffmann  OK    OK    WARNINGS  NO, package depends on 'limma' which is not available
48/430celarefData 1.29.0  (landing page)Sarah Williams  OK    OK    OK  YES
49/430celldex 1.21.0  (landing page)Aaron Lun  OK    OK    OK  NO, package depends on 'SummarizedExperiment' which is not available
50/430CellMapperData 1.37.0  (landing page)Brad Nelms  OK    OK    OK  NO, package depends on 'ExperimentHub' which is not available
51/430CENTREprecomputed 1.1.0  (landing page)Sara Lopez Ruiz de Vargas  OK    OK    OK  NO, package depends on 'ExperimentHub' which is not available
52/430cfToolsData 1.9.0  (landing page)Ran Hu  OK    OK    OK  NO, package depends on 'ExperimentHub' which is not available
53/430ChAMPdata 2.43.0  (landing page)Yuan Tian  OK    OK    WARNINGS  NO, package depends on 'GenomicRanges' which is not available
54/430ChimpHumanBrainData 1.49.0  (landing page)Sean Davis  OK    ERROR  skipped
55/430ChIPDBData 1.1.0  (landing page)Yosra Berrouayel  OK    ERROR  skipped
56/430chipenrich.data 2.35.0  (landing page)Kai Wang  OK    OK    ERROR  
57/430ChIPexoQualExample 1.35.0  (landing page)Rene Welch  OK    OK    OK  YES
58/430chipseqDBData 1.27.0  (landing page)Aaron Lun  OK    OK    OK  NO, package depends on 'AnnotationHub' which is not available
59/430ChIPXpressData 1.49.0  (landing page)George Wu  OK    OK    WARNINGS  YES
60/430CLL 1.51.0  (landing page)Robert Gentleman  OK    OK    OK  NO, package depends on 'affy' which is not available
61/430CLLmethylation 1.31.0  (landing page)Malgorzata Oles , Andreas Mock  OK    OK    OK  NO, package depends on 'SummarizedExperiment' which is not available
62/430CluMSIDdata 1.27.0  (landing page)Tobias Depke  OK    OK    OK  YES
63/430clustifyrdatahub 1.21.0  (landing page)Kent Riemondy  OK    OK    OK  NO, package depends on 'ExperimentHub' which is not available
64/430cMap2data 1.47.0  (landing page)J. Saez-Rodriguez  OK    OK    WARNINGS  YES
65/430cnvGSAdata 1.47.0  (landing page)Joseph Lugo  OK    OK    WARNINGS  NO, package depends on 'cnvGSA' which is not available
66/430COHCAPanno 1.47.0  (landing page)Charles Warden  OK    OK    OK  YES
67/430colonCA 1.53.0  (landing page)W Sylvia Merk  OK    OK    WARNINGS  YES
68/430CONFESSdata 1.39.0  (landing page)Diana LOW  OK    OK    OK  YES
69/430ConnectivityMap 1.47.0  (landing page)Paul Shannon  OK    OK    OK  YES
70/430COPDSexualDimorphism.data 1.47.0  (landing page)J Fah Sathirapongsasuti  OK    OK    WARNINGS  YES
71/430CopyhelpeR 1.43.0  (landing page)Oscar Krijgsman  OK    OK    OK  YES
72/430CopyNeutralIMA 1.29.0  (landing page)Xavier Pastor Hostench  OK    ERROR  skipped
73/430CoSIAdata 1.11.0  (landing page)Amanda D. Clark  OK    OK    OK  NO, package depends on 'ExperimentHub' which is not available
74/430COSMIC.67 1.47.0  (landing page)Julian Gehring  OK    OK    OK  NO, package depends on 'GenomicRanges' which is not available
75/430CRCL18 1.31.0  (landing page)Claudio Isella  OK    OK    OK  YES
76/430crisprScoreData 1.15.0  (landing page)Jean-Philippe Fortin  OK    OK    OK  NO, package depends on 'ExperimentHub' which is not available
77/430curatedAdipoArray 1.23.0  (landing page)Mahmoud Ahmed  OK    OK    OK  YES
78/430curatedAdipoChIP 1.27.0  (landing page)Mahmoud Ahmed  OK    OK    OK  NO, package depends on 'SummarizedExperiment' which is not available
79/430curatedAdipoRNA 1.27.0  (landing page)Mahmoud Ahmed  OK    OK    WARNINGS  NO, package depends on 'SummarizedExperiment' which is not available
80/430curatedBladderData 1.47.0  (landing page)Markus Riester  OK    OK    OK  NO, package depends on 'affy' which is not available
81/430curatedBreastData 2.39.0  (landing page)Katie Planey  OK    OK    OK  YES
82/430curatedMetagenomicData 3.19.0  (landing page)Lucas schiffer  OK    OK    OK  NO, package depends on 'SummarizedExperiment' which is not available
83/430curatedOvarianData 1.49.0  (landing page)Levi Waldron  OK    OK    OK  YES
84/430curatedPCaData 1.7.0  (landing page)Teemu Daniel Laajala  OK    OK    OK  NO, package depends on 'MultiAssayExperiment' which is not available
85/430curatedTBData 2.7.0  (landing page)Xutao Wang  OK    OK    WARNINGS  NO, package depends on 'AnnotationHub' which is not available
86/430curatedTCGAData 1.33.0  (landing page)Marcel Ramos  OK    OK    OK  NO, package depends on 'MultiAssayExperiment' which is not available
87/430CytoMethIC 1.7.0  (landing page)Jacob Fanale  OK    OK    OK  NO, package depends on 'ExperimentHub' which is not available
D
ABCDEFGHIJKLMNOPQRSTUVWXYZ
PackageMaintainerINSTALLBUILDCHECK
88/430DAPARdata 1.41.0  (landing page)Samuel Wieczorek  OK    OK    OK  NO, package depends on 'MSnbase' which is not available
89/430davidTiling 1.51.0  (landing page)Wolfgang Huber  OK    OK    WARNINGS  NO, package depends on 'tilingArray' which is not available
90/430depmap 1.25.0  (landing page)Laurent Gatto  OK    OK    OK  NO, package depends on 'ExperimentHub' which is not available
91/430derfinderData 2.29.0  (landing page)Leonardo Collado-Torres  OK    OK    OK  YES
92/430DeSousa2013 1.47.0  (landing page)Xin Wang  ERROR    ERROR  skipped
93/430DExMAdata 1.19.0  (landing page)Juan Antonio Villatoro-García  OK    OK    OK  YES
94/430diffloopdata 1.39.0  (landing page)Caleb Lareau  OK    OK    OK  YES
95/430diggitdata 1.43.0  (landing page)Mariano Javier Alvarez  OK    OK    OK  YES
96/430DLBCL 1.51.0  (landing page)Marcus Dittrich  OK    OK    WARNINGS  YES
97/430DMRcatedata 2.29.0  (landing page)Tim Peters  ERROR    ERROR  skipped
98/430DNAZooData 1.11.0  (landing page)Jacques Serizay  OK    OK    OK  NO, package depends on 'HiCExperiment' which is not available
99/430DonaPLLP2013 1.49.0  (landing page)Joseph D. Barry  OK    OK    OK  YES
100/430DoReMiTra 1.1.0  (landing page)Ahmed Salah  OK    OK    OK  NO, package depends on 'ExperimentHub' which is not available
101/430dorothea 1.23.0  (landing page)Pau Badia-i-Mompel  OK    OK    OK  NO, package depends on 'decoupleR' which is not available
102/430dressCheck 0.49.0  (landing page)Vincent Carey  OK    OK    OK  YES
103/430DropletTestFiles 1.21.0  (landing page)Aaron Lun  OK    OK    OK  NO, package depends on 'ExperimentHub' which is not available
104/430DrugVsDiseasedata 1.47.0  (landing page)J. Saez-Rodriguez  OK    OK    OK  YES
105/430DuoClustering2018 1.29.0  (landing page)Angelo Duò  OK    OK    OK  NO, package depends on 'ExperimentHub' which is not available
106/430DvDdata 1.47.0  (landing page)J. Saez-Rodriguez  OK    OK    WARNINGS  YES
107/430dyebiasexamples 1.51.0  (landing page)Philip Lijnzaad  OK    OK    WARNINGS  NO, package depends on 'marray' which is not available
E
ABCDEFGHIJKLMNOPQRSTUVWXYZ
PackageMaintainerINSTALLBUILDCHECK
108/430easierData 1.17.0  (landing page)Oscar Lapuente-Santana  OK    OK    OK  NO, package depends on 'ExperimentHub' which is not available
109/430EatonEtAlChIPseq 0.49.0  (landing page)Patrick Aboyoun  OK    OK    WARNINGS  NO, package depends on 'GenomicRanges' which is not available
110/430ecoliLeucine 1.51.0  (landing page)Laurent Gautier  ERROR    OK    ERROR  
111/430EGSEAdata 1.39.0  (landing page)Monther Alhamdoosh  OK    OK    ERROR  
112/430ELMER.data 2.35.0  (landing page)Tiago Chedraoui Silva  OK    OK    WARNINGS  NO, package depends on 'GenomicRanges' which is not available
113/430emtdata 1.19.0  (landing page)Malvika D. Kharbanda  OK    ERROR  skipped
114/430eoPredData 1.5.0  (landing page)Victor Yuan  OK    OK    OK  NO, package depends on 'ExperimentHub' which is not available
115/430EpiMix.data 1.13.0  (landing page)Yuanning Zheng  OK    OK    WARNINGS  NO, package depends on 'ExperimentHub' which is not available
116/430epimutacionsData 1.15.0  (landing page)Leire Abarrategui  OK    OK    OK  YES
117/430EpipwR.data 1.5.0  (landing page)Jackson Barth  OK    OK    OK  NO, package depends on 'ExperimentHub' which is not available
118/430estrogen 1.57.0  (landing page)Wolfgang Huber  OK    ERROR  skipped
119/430etec16s 1.39.0  (landing page)Joseph N. Paulson  OK    OK    OK  NO, package depends on 'metagenomeSeq' which is not available
120/430ewceData 1.19.0  (landing page)Hiranyamaya Dash  OK    OK    OK  NO, package depends on 'ExperimentHub' which is not available
F
ABCDEFGHIJKLMNOPQRSTUVWXYZ
PackageMaintainerINSTALLBUILDCHECK
121/430faahKO 1.51.0  (landing page)Steffen Neumann  OK    OK    OK  NO, package depends on 'xcms' which is not available
122/430fabiaData 1.49.0  (landing page)Sepp Hochreiter  OK    OK    OK  YES
123/430FANTOM3and4CAGE 1.47.0  (landing page)Vanja Haberle  OK    OK    OK  YES
124/430ffpeExampleData 1.49.0  (landing page)Levi Waldron  ERROR    OK    ERROR  
125/430fibroEset 1.53.0  (landing page)Sylvia Merk  OK    OK    WARNINGS  YES
126/430FieldEffectCrc 1.21.0  (landing page)Christopher Dampier  OK    OK    OK  NO, package depends on 'SummarizedExperiment' which is not available
127/430FIs 1.39.0  (landing page)Herbert Braselmann , Martin Selmansberger  OK    OK    OK  YES
128/430fission 1.31.0  (landing page)Michael Love  OK    OK    OK  NO, package depends on 'SummarizedExperiment' which is not available
129/430Fletcher2013a 1.47.0  (landing page)Mauro Castro  OK    OK    OK  NO, package depends on 'limma' which is not available
130/430Fletcher2013b 1.47.0  (landing page)Mauro Castro  OK    OK    WARNINGS  NO, package depends on 'RTN' which is not available
131/430flowPloidyData 1.37.0  (landing page)Tyler Smith  OK    OK    OK  YES
132/430FlowSorted.Blood.450k 1.49.0  (landing page)Andrew E Jaffe  OK    OK    WARNINGS  NO, package depends on 'minfi' which is not available
133/430FlowSorted.Blood.EPIC 2.15.0  (landing page)Lucas A. Salas  OK    ERROR  skipped
134/430FlowSorted.CordBlood.450k 1.39.0  (landing page)Shan V. Andrews  OK    OK    WARNINGS  NO, package depends on 'minfi' which is not available
135/430FlowSorted.CordBloodCombined.450k 1.27.0  (landing page)Lucas A. Salas  ERROR    ERROR  skipped
136/430FlowSorted.CordBloodNorway.450k 1.37.0  (landing page)kristina gervin  OK    OK    WARNINGS  NO, package depends on 'minfi' which is not available
137/430FlowSorted.DLPFC.450k 1.47.0  (landing page)Andrew E Jaffe  OK    OK    WARNINGS  NO, package depends on 'minfi' which is not available
138/430flowWorkspaceData 3.23.0  (landing page)Mike Jiang  OK    OK    OK  YES
139/430fourDNData 1.11.0  (landing page)Jacques Serizay  OK    OK    OK  NO, package depends on 'BiocFileCache' which is not available
140/430frmaExampleData 1.47.0  (landing page)Matthew N. McCall  OK    OK    WARNINGS  YES
141/430furrowSeg 1.39.0  (landing page)Joseph Barry  OK    OK    WARNINGS  YES
G
ABCDEFGHIJKLMNOPQRSTUVWXYZ
PackageMaintainerINSTALLBUILDCHECK
142/430gageData 2.49.0  (landing page)Weijun Luo  OK    OK    OK  YES
143/430gaschYHS 1.49.0  (landing page)Vince Carey  OK    OK    OK  YES
144/430gcspikelite 1.49.0  (landing page)Mark Robinson  OK    OK    WARNINGS  YES
145/430gDNAinRNAseqData 1.11.0  (landing page)Robert Castelo  OK    OK    OK  NO, package depends on 'ExperimentHub' which is not available
146/430gDRtestData 1.9.1  (landing page)Arkadiusz Gladki  OK    OK    OK  YES
147/430geneLenDataBase 1.47.0  (landing page)Federico Marini  OK    OK    OK  NO, package depends on 'rtracklayer' which is not available
148/430genomationData 1.43.0  (landing page)Vedran Franke  OK    OK    OK  YES
149/430GenomicDistributionsData 1.19.0  (landing page)Kristyna Kupkova  OK    OK    OK  NO, package depends on 'ExperimentHub' which is not available
150/430GeuvadisTranscriptExpr 1.39.0  (landing page)Malgorzata Nowicka  OK    OK    OK  YES
151/430GIGSEAdata 1.29.0  (landing page)Shijia Zhu  OK    OK    WARNINGS  YES
152/430golubEsets 1.53.0  (landing page)Vince Carey  OK    OK    OK  YES
153/430gpaExample 1.23.0  (landing page)Dongjun Chung  OK    OK    OK  YES
154/430grndata 1.43.0  (landing page)Pau Bellot  OK    OK    WARNINGS  YES
155/430GSBenchMark 1.31.0  (landing page)Bahman Afsari  OK    OK    OK  YES
156/430GSE103322 1.17.0  (landing page)Mariano Alvarez  OK    OK    OK  NO, package depends on 'GEOquery' which is not available
157/430GSE13015 1.19.0  (landing page)Darawan Rinchai  OK    OK    OK  NO, package depends on 'GEOquery' which is not available
158/430GSE159526 1.17.0  (landing page)Victor Yuan  OK    OK    OK  YES
159/430GSE62944 1.39.0  (landing page)Bioconductor Package Maintainer  OK    OK    OK  NO, package depends on 'GEOquery' which is not available
160/430GSVAdata 1.47.0  (landing page)Robert Castelo  ERROR    OK    ERROR  
161/430GWASdata 1.49.0  (landing page)Stephanie Gogarten  OK    OK    OK  YES
H
ABCDEFGHIJKLMNOPQRSTUVWXYZ
PackageMaintainerINSTALLBUILDCHECK
162/430h5vcData 2.31.0  (landing page)Paul Theodor Pyl  OK    OK    OK  YES
163/430hapmap100khind 1.53.0  (landing page)Benilton Carvalho  OK    OK    OK  YES
164/430hapmap100kxba 1.53.0  (landing page)Benilton Carvalho  OK    OK    OK  YES
165/430hapmap500knsp 1.53.0  (landing page)Benilton Carvalho  OK    OK    OK  YES
166/430hapmap500ksty 1.53.0  (landing page)Benilton Carvalho  OK    OK    OK  YES
167/430hapmapsnp5 1.53.0  (landing page)Benilton Carvalho  OK    OK    OK  YES
168/430hapmapsnp6 1.53.0  (landing page)Benilton Carvalho  OK    OK    OK  YES
169/430harbChIP 1.49.0  (landing page)VJ Carey  OK    OK    OK  NO, package depends on 'IRanges' which is not available
170/430HarmanData 1.39.0  (landing page)Jason Ross  OK    OK    OK  YES
171/430HarmonizedTCGAData 1.33.0  (landing page)Tianle Ma  OK    OK    OK  NO, package depends on 'ExperimentHub' which is not available
172/430HCAData 1.27.0  (landing page)Federico Marini  OK    OK    OK  NO, package depends on 'SingleCellExperiment' which is not available
173/430HCATonsilData 1.9.0  (landing page)Ramon Massoni-Badosa  OK    OK    OK  NO, package depends on 'ExperimentHub' which is not available
174/430HD2013SGI 1.51.0  (landing page)Mike Smith  OK    OK    OK  NO, package depends on 'geneplotter' which is not available
175/430HDCytoData 1.31.0  (landing page)Lukas M. Weber  OK    OK    OK  NO, package depends on 'ExperimentHub' which is not available
176/430healthyControlsPresenceChecker 1.15.0  (landing page)Davide Chicco  OK    OK    OK  NO, package depends on 'GEOquery' which is not available
177/430healthyFlowData 1.49.0  (landing page)Ariful Azad  OK    OK    OK  YES
178/430HEEBOdata 1.49.0  (landing page)Agnes Paquet  OK    OK    WARNINGS  YES
179/430HelloRangesData 1.37.0  (landing page)Michael Lawrence  OK    OK    OK  YES
180/430hgu133abarcodevecs 1.49.0  (landing page)Matthew N. McCall  OK    OK    OK  YES
181/430hgu133plus2barcodevecs 1.49.0  (landing page)Matthew N. McCall  OK    OK    OK  YES
182/430hgu133plus2CellScore 1.31.0  (landing page)Nancy Mah  OK    OK    WARNINGS  YES
183/430hgu2beta7 1.51.0  (landing page)Bioconductor Package Maintainer  OK    OK    WARNINGS  YES
184/430HiBED 1.9.0  (landing page)Ze Zhang  OK    ERROR  skipped
185/430HiCDataHumanIMR90 1.31.0  (landing page)Nicolas Servant  OK    OK    WARNINGS  YES
186/430HiCDataLymphoblast 1.47.0  (landing page)Borbala Mifsud  OK    OK    OK  YES
187/430HiContactsData 1.13.0  (landing page)Jacques Serizay  OK    OK    OK  NO, package depends on 'ExperimentHub' which is not available
188/430HighlyReplicatedRNASeq 1.23.0  (landing page)Constantin Ahlmann-Eltze  OK    OK    OK  NO, package depends on 'SummarizedExperiment' which is not available
189/430Hiiragi2013 1.47.0  (landing page)Wolfgang Huber  ERROR    ERROR  skipped
190/430HIVcDNAvantWout03 1.51.0  (landing page)Chris Fraley  OK    OK    WARNINGS  YES
191/430HMP16SData 1.31.0  (landing page)Lucas schiffer  OK    OK    OK  NO, package depends on 'SummarizedExperiment' which is not available
192/430HMP2Data 1.25.0  (landing page)John Stansfield , Ekaterina Smirnova  OK    OK    OK  NO, package depends on 'AnnotationHub' which is not available
193/430homosapienDEE2CellScore 1.7.0  (landing page)Justin Marsh  OK    ERROR  skipped
194/430HSMMSingleCell 1.31.0  (landing page)Cole Trapnell  OK    OK    WARNINGS  YES
195/430HumanAffyData 1.37.0  (landing page)Brad Nelms  OK    OK    OK  NO, package depends on 'ExperimentHub' which is not available
196/430humanHippocampus2024 1.3.0  (landing page)Christine Hou  OK    OK    OK  NO, package depends on 'ExperimentHub' which is not available
197/430humanStemCell 0.51.0  (landing page)R. Gentleman  ERROR    OK    ERROR  
I
ABCDEFGHIJKLMNOPQRSTUVWXYZ
PackageMaintainerINSTALLBUILDCHECK
198/430IHWpaper 1.39.0  (landing page)Nikos Ignatiadis  OK    OK    OK  NO, package depends on 'DESeq2' which is not available
199/430Illumina450ProbeVariants.db 1.47.0  (landing page)Tiffany Morris  OK    OK    OK  YES
200/430IlluminaDataTestFiles 1.49.0  (landing page)Kasper Daniel Hansen  OK    OK    OK  YES
201/430imcdatasets 1.19.0  (landing page)Nicolas Damond  OK    OK    OK  NO, package depends on 'SingleCellExperiment' which is not available
202/430iModMixData 1.1.0  (landing page)Isis Narvaez-Bandera  OK    OK    OK  NO, package depends on 'ExperimentHub' which is not available
203/430ITALICSData 2.49.0  (landing page)Guillem Rigaill  OK    OK    WARNINGS  YES
204/430Iyer517 1.53.0  (landing page)Vince Carey  OK    OK    OK  YES
J
ABCDEFGHIJKLMNOPQRSTUVWXYZ
PackageMaintainerINSTALLBUILDCHECK
205/430JASPAR2014 1.47.0  (landing page)Ge Tan  OK    OK    WARNINGS  NO, package depends on 'Biostrings' which is not available
206/430JASPAR2016 1.39.0  (landing page)Ge Tan  OK    OK    OK  YES
207/430JohnsonKinaseData 1.7.0  (landing page)Florian Geier  OK    OK    OK  NO, package depends on 'ExperimentHub' which is not available
K
ABCDEFGHIJKLMNOPQRSTUVWXYZ
PackageMaintainerINSTALLBUILDCHECK
208/430KEGGandMetacoreDzPathwaysGEO 1.31.0  (landing page)Gaurav Bhatti  OK    OK    OK  YES
209/430KEGGdzPathwaysGEO 1.49.0  (landing page)Gaurav Bhatti  OK    OK    OK  YES
210/430kidpack 1.53.0  (landing page)Wolfgang Huber  OK    OK    WARNINGS  YES
211/430KOdata 1.37.0  (landing page)Shana White  OK    OK    WARNINGS  YES
L
ABCDEFGHIJKLMNOPQRSTUVWXYZ
PackageMaintainerINSTALLBUILDCHECK
212/430leeBamViews 1.47.0  (landing page)VJ Carey  OK    ERROR  skipped
213/430LegATo 1.5.0  (landing page)Aubrey Odom  OK    OK    OK  NO, package depends on 'animalcules' which is not available
214/430leukemiasEset 1.47.0  (landing page)Sara Aibar  OK    OK    OK  YES
215/430LiebermanAidenHiC2009 0.49.0  (landing page)Felix Klein  OK    OK    WARNINGS  NO, package depends on 'IRanges' which is not available
216/430ListerEtAlBSseq 1.43.0  (landing page)Mattia Furlan  OK    OK    ERROR  
217/430LRcellTypeMarkers 1.19.0  (landing page)Wenjing Ma  OK    OK    OK  NO, package depends on 'ExperimentHub' which is not available
218/430lumiBarnes 1.51.0  (landing page)Pan Du  ERROR    OK    ERROR  
219/430LungCancerACvsSCCGEO 1.47.0  (landing page)Adi Laurentiu Tarca  OK    OK    OK  YES
220/430LungCancerLines 0.49.0  (landing page)Michael Lawrence  OK    OK    OK  NO, package depends on 'Rsamtools' which is not available
221/430lungExpression 0.49.0  (landing page)Robert Scharpf  OK    OK    OK  YES
222/430lydata 1.37.0  (landing page)Alex Pickering  OK    OK    OK  YES
M
ABCDEFGHIJKLMNOPQRSTUVWXYZ
PackageMaintainerINSTALLBUILDCHECK
223/430M3DExampleData 1.37.0  (landing page)Tallulah Andrews  OK    OK    WARNINGS  YES
224/430macrophage 1.27.0  (landing page)Michael Love  OK    OK    WARNINGS  YES
225/430MACSdata 1.19.0  (landing page)Qiang Hu  OK    OK    OK  YES
226/430mammaPrintData 1.47.0  (landing page)Luigi Marchionni  OK    OK    OK  YES
227/430maqcExpression4plex 1.55.0  (landing page)Benilton Carvalho  OK    OK    OK  YES
228/430MAQCsubset 1.49.0  (landing page)VJ Carey  ERROR    ERROR  skipped
229/430marinerData 1.11.0  (landing page)Eric Davis  OK    OK    OK  NO, package depends on 'ExperimentHub' which is not available
230/430mCSEAdata 1.31.0  (landing page)Jordi Martorell Marugán  OK    OK    WARNINGS  NO, package depends on 'GenomicRanges' which is not available
231/430mcsurvdata 1.29.0  (landing page)Adria Caballe Mestres  OK    OK    OK  NO, package depends on 'ExperimentHub' which is not available
232/430MEDIPSData 1.47.0  (landing page)Lukas Chavez  OK    OK    WARNINGS  YES
233/430MEEBOdata 1.49.0  (landing page)Agnes Paquet  OK    OK    WARNINGS  YES
234/430MerfishData 1.13.0  (landing page)Ludwig Geistlinger  OK    OK    OK  NO, package depends on 'SpatialExperiment' which is not available
235/430MetaGxBreast 1.31.0  (landing page)Benjamin Haibe-Kains  OK    OK    OK  NO, package depends on 'AnnotationHub' which is not available
236/430MetaGxOvarian 1.31.0  (landing page)Benjamin Haibe-Kains  OK    ERROR  skipped
237/430MetaGxPancreas 1.31.0  (landing page)Benjamin Haibe-Kains  OK    OK    OK  NO, package depends on 'SummarizedExperiment' which is not available
238/430metaMSdata 1.47.0  (landing page)Yann Guitton  OK    OK    OK  YES
239/430MetaScope 1.11.0  (landing page)Sean Lu  OK    OK    OK  NO, package depends on 'BiocFileCache' which is not available
240/430MethylAidData 1.43.0  (landing page)M. van Iterson  OK    OK    ERROR  
241/430methylclockData 1.19.0  (landing page)Dolors Pelegri-Siso  OK    OK    OK  NO, package depends on 'ExperimentHubData' which is not available
242/430MethylSeqData 1.21.0  (landing page)Peter Hickey  OK    OK    OK  NO, package depends on 'SummarizedExperiment' which is not available
243/430MicrobiomeBenchmarkData 1.13.0  (landing page)Samuel Gamboa  OK    OK    OK  NO, package depends on 'SummarizedExperiment' which is not available
244/430microbiomeDataSets 1.19.0  (landing page)Leo Lahti  OK    OK    OK  NO, package depends on 'SummarizedExperiment' which is not available
245/430microRNAome 1.33.0  (landing page)Matthew N. McCall  OK    OK    WARNINGS  NO, package depends on 'SummarizedExperiment' which is not available
246/430minfiData 0.57.0  (landing page)Kasper Daniel Hansen  ERROR    OK    ERROR  
247/430minfiDataEPIC 1.37.0  (landing page)Kasper Daniel Hansen  ERROR    OK    ERROR  
248/430minionSummaryData 1.41.0  (landing page)Mike Smith  OK    OK    WARNINGS  YES
249/430miRcompData 1.41.0  (landing page)Matthew N. McCall  OK    OK    OK  YES
250/430miRNATarget 1.49.0  (landing page)Y-h. Taguchi  OK    OK    OK  YES
251/430MMDiffBamSubset 1.47.0  (landing page)Gabriele Schweikert  OK    OK    OK  YES
252/430MOFAdata 1.27.0  (landing page)Britta Velten  OK    OK    OK  YES
253/430mosaicsExample 1.49.0  (landing page)Dongjun Chung  OK    OK    WARNINGS  YES
254/430mouse4302barcodevecs 1.49.0  (landing page)Matthew N. McCall  OK    OK    OK  YES
255/430MouseAgingData 1.7.0  (landing page)Tram Nguyen  OK    OK    OK  NO, package depends on 'SingleCellExperiment' which is not available
256/430MouseGastrulationData 1.25.0  (landing page)Jonathan Griffiths  OK    OK    OK  NO, package depends on 'SingleCellExperiment' which is not available
257/430MouseThymusAgeing 1.19.0  (landing page)Mike Morgan  OK    OK    OK  NO, package depends on 'SingleCellExperiment' which is not available
258/430msd16s 1.31.0  (landing page)Joseph N. Paulson  OK    OK    OK  NO, package depends on 'metagenomeSeq' which is not available
259/430msdata 0.51.0  (landing page)Steffen Neumann , Laurent Gatto  OK    OK    OK  YES
260/430msigdb 1.19.0  (landing page)Dharmesh D. Bhuva  ERROR    ERROR  skipped
261/430MSMB 1.29.0  (landing page)Wolfgang Huber  OK    OK    OK  YES
262/430msPurityData 1.39.0  (landing page)Thomas N. Lawson  OK    OK    OK  YES
263/430msqc1 1.39.0  (landing page)Christian Panse  OK    OK    OK  YES
264/430mtbls2 1.41.0  (landing page)Steffen Neumann  OK    OK    WARNINGS  YES
265/430MUGAExampleData 1.31.0  (landing page)Daniel Gatti  OK    OK    OK  YES
266/430muleaData 1.7.0  (landing page)Eszter Ari  OK    OK    WARNINGS  YES
267/430multiWGCNAdata 1.9.0  (landing page)Dario Tommasini  OK    OK    OK  NO, package depends on 'ExperimentHub' which is not available
268/430muscData 1.25.0  (landing page)Helena L. Crowell  OK    OK    WARNINGS  NO, package depends on 'ExperimentHub' which is not available
269/430muSpaData 1.3.0  (landing page)Peiying Cai  OK    OK    OK  NO, package depends on 'ExperimentHub' which is not available
270/430mvoutData 1.47.0  (landing page)VJ Carey  ERROR    OK    ERROR  
N
ABCDEFGHIJKLMNOPQRSTUVWXYZ
PackageMaintainerINSTALLBUILDCHECK
271/430NanoporeRNASeq 1.21.0  (landing page)Ying Chen  OK    ERROR  skipped
272/430nanotubes 1.27.0  (landing page)Malte Thodberg  OK    OK    OK  YES
273/430NCIgraphData 1.47.0  (landing page)Laurent Jacob  OK    OK    WARNINGS  YES
274/430NestLink 1.27.0  (landing page)Lennart Opitz  OK    OK    OK  NO, package depends on 'AnnotationHub' which is not available
275/430NetActivityData 1.13.0  (landing page)Carlos Ruiz-Arenas  OK    OK    OK  YES
276/430Neve2006 0.49.0  (landing page)VJ Carey  ERROR    ERROR  skipped
277/430NGScopyData 1.31.0  (landing page)Xiaobei Zhao  OK    OK    WARNINGS  YES
278/430nmrdata 1.1.0  (landing page)Torben Kimhofer  OK    OK    OK  NO, package depends on 'ExperimentHub' which is not available
279/430nullrangesData 1.17.0  (landing page)Michael Love  OK    OK    OK  NO, package depends on 'ExperimentHub' which is not available
280/430NxtIRFdata 1.17.0  (landing page)Alex Chit Hei Wong  OK    OK    OK  NO, package depends on 'ExperimentHub' which is not available
O
ABCDEFGHIJKLMNOPQRSTUVWXYZ
PackageMaintainerINSTALLBUILDCHECK
281/430ObMiTi 1.19.0  (landing page)Omar Elashkar  OK    OK    OK  NO, package depends on 'SummarizedExperiment' which is not available
282/430oct4 1.27.0  (landing page)Michael Love  OK    OK    OK  YES
283/430octad.db 1.13.0  (landing page)E. Chekalin  OK    OK    OK  NO, package depends on 'ExperimentHub' which is not available
284/430OMICsPCAdata 1.29.0  (landing page)Subhadeep Das  OK    OK    WARNINGS  NO, package depends on 'MultiAssayExperiment' which is not available
285/430OnassisJavaLibs 1.33.0  (landing page)Eugenia Galeota  OK    OK    OK  YES
286/430optimalFlowData 1.23.0  (landing page)Hristo Inouzhe  OK    OK    WARNINGS  YES
287/430orthosData 1.9.0  (landing page)Panagiotis Papasaikas  OK    OK    OK  NO, package depends on 'AnnotationHub' which is not available
P
ABCDEFGHIJKLMNOPQRSTUVWXYZ
PackageMaintainerINSTALLBUILDCHECK
288/430pasilla 1.39.0  (landing page)Alejandro Reyes  OK    OK    OK  NO, package depends on 'DEXSeq' which is not available
289/430pasillaBamSubset 0.49.0  (landing page)Hervé Pagès  OK    OK    OK  YES
290/430PasillaTranscriptExpr 1.39.0  (landing page)Malgorzata Nowicka  OK    OK    OK  YES
291/430PathNetData 1.47.0  (landing page)Ludwig Geistlinger  OK    OK    OK  YES
292/430PCHiCdata 1.39.0  (landing page)Mikhail Spivakov  OK    OK    WARNINGS  YES
293/430pd.atdschip.tiling 0.49.0  (landing page)Kristof De Beuf  OK    OK    WARNINGS  NO, package depends on 'oligoClasses' which is not available
294/430pepDat 1.31.0  (landing page)Renan Sauteraud  OK    OK    OK  NO, package depends on 'GenomicRanges' which is not available
295/430PepsNMRData 1.29.0  (landing page)Manon Martin  OK    OK    WARNINGS  YES
296/430PhyloProfileData 1.25.0  (landing page)Vinh Tran  OK    OK    OK  NO, package depends on 'ExperimentHub' which is not available
297/430plotgardenerData 1.17.0  (landing page)Nicole Kramer  OK    OK    WARNINGS  YES
298/430prebsdata 1.47.0  (landing page)Karolis Uziela  OK    OK    OK  YES
299/430preciseTADhub 1.19.0  (landing page)Mikhail Dozmorov  OK    ERROR  skipped
300/430PREDAsampledata 0.51.0  (landing page)Francesco Ferrari  OK    OK    ERROR  
301/430ProData 1.49.0  (landing page)Xiaochun Li  OK    OK    OK  YES
302/430pRolocdata 1.49.0  (landing page)Lisa Breckels  OK    OK    OK  NO, package depends on 'MSnbase' which is not available
303/430prostateCancerCamcap 1.39.0  (landing page)Mark Dunning  OK    OK    WARNINGS  YES
304/430prostateCancerGrasso 1.39.0  (landing page)Mark Dunning  OK    OK    WARNINGS  YES
305/430prostateCancerStockholm 1.39.0  (landing page)Mark Dunning  OK    OK    WARNINGS  YES
306/430prostateCancerTaylor 1.39.0  (landing page)Mark Dunning  OK    OK    WARNINGS  YES
307/430prostateCancerVarambally 1.39.0  (landing page)Mark Dunning  OK    OK    WARNINGS  YES
308/430ProteinGymR 1.5.0  (landing page)Tram Nguyen  OK    OK    OK  NO, package depends on 'ExperimentHub' which is not available
309/430ptairData 1.19.0  (landing page)camille Roquencourt  OK    OK    OK  YES
310/430PtH2O2lipids 1.37.0  (landing page)James Collins  OK    OK    WARNINGS  NO, package depends on 'xcms' which is not available
311/430pumadata 2.47.0  (landing page)Xuejun liu  OK    OK    OK  NO, package depends on 'puma' which is not available
312/430PWMEnrich.Dmelanogaster.background 4.45.0  (landing page)Diego Diez  OK    OK    OK  NO, package depends on 'PWMEnrich' which is not available
313/430PWMEnrich.Hsapiens.background 4.45.0  (landing page)Diego Diez  OK    OK    OK  NO, package depends on 'PWMEnrich' which is not available
314/430PWMEnrich.Mmusculus.background 4.45.0  (landing page)Diego Diez  OK    OK    OK  NO, package depends on 'PWMEnrich' which is not available
Q
ABCDEFGHIJKLMNOPQRSTUVWXYZ
PackageMaintainerINSTALLBUILDCHECK
315/430QDNAseq.hg19 1.41.0  (landing page)Daoud Sie  OK    OK    OK  NO, package depends on 'QDNAseq' which is not available
316/430QDNAseq.mm10 1.41.0  (landing page)Daoud Sie  OK    OK    OK  NO, package depends on 'QDNAseq' which is not available
317/430qPLEXdata 1.29.0  (landing page)Kamal Kishore Developer  OK    ERROR  skipped
318/430QUBICdata 1.39.0  (landing page)Yu Zhang  OK    OK    OK  YES
R
ABCDEFGHIJKLMNOPQRSTUVWXYZ
PackageMaintainerINSTALLBUILDCHECK
319/430raerdata 1.9.0  (landing page)Kent Riemondy  OK    OK    OK  NO, package depends on 'ExperimentHub' which is not available
320/430rcellminerData 2.33.0  (landing page)Augustin Luna , Vinodh Rajapakse  OK    OK    WARNINGS  YES
321/430RcisTarget.hg19.motifDBs.cisbpOnly.500bp 1.31.0  (landing page)Sara Aibar  OK    OK    WARNINGS  YES
322/430ReactomeGSA.data 1.25.0  (landing page)Johannes Griss  OK    OK    WARNINGS  NO, package depends on 'limma' which is not available
323/430RegParallel 1.29.0  (landing page)Kevin Blighe  OK    OK    OK  YES
324/430RforProteomics 1.49.0  (landing page)Laurent Gatto  OK    OK    WARNINGS  NO, package depends on 'MSnbase' which is not available
325/430rheumaticConditionWOLLBOLD 1.49.0  (landing page)Alejandro Quiroz-Zarate  OK    OK    ERROR  
326/430RITANdata 1.35.0  (landing page)Michael Zimmermann  OK    OK    OK  YES
327/430RMassBankData 1.49.0  (landing page)Michael Stravs, Emma Schymanski  OK    OK    OK  YES
328/430RNAmodR.Data 1.25.0  (landing page)Felix G.M. Ernst  OK    OK    OK  NO, package depends on 'ExperimentHub' which is not available
329/430RNAseqData.HNRNPC.bam.chr14 0.49.0  (landing page)Hervé Pagès  OK    OK    OK  YES
330/430RnaSeqSampleSizeData 1.43.0  (landing page)Shilin Zhao  OK    OK    OK  NO, package depends on 'edgeR' which is not available
331/430RnBeads.hg19 1.43.0  (landing page)RnBeadsAnnotationCreator  OK    OK    ERROR  
332/430RnBeads.hg38 1.43.0  (landing page)RnBeads Team  OK    OK    ERROR  
333/430RnBeads.mm10 2.19.0  (landing page)RnBeads Team  OK    OK    ERROR  
334/430RnBeads.mm9 1.43.0  (landing page)RnBeadsAnnotationCreator  OK    OK    ERROR  
335/430RnBeads.rn5 1.43.0  (landing page)RnBeadsAnnotationCreator  OK    OK    ERROR  
336/430RRBSdata 1.31.0  (landing page)Katja Hebestreit  OK    OK    OK  NO, package depends on 'BiSeq' which is not available
337/430RTCGA.clinical 20151101.41.0  (landing page)Marcin Kosinski  OK    OK    WARNINGS  YES
338/430RTCGA.CNV 1.39.0  (landing page)Marcin Kosinski  OK    OK    WARNINGS  YES
339/430RTCGA.methylation 1.39.0  (landing page)Marcin Kosinski  OK    OK    WARNINGS  YES
340/430RTCGA.miRNASeq 1.39.0  (landing page)Marcin Kosinski  OK    OK    WARNINGS  YES
341/430RTCGA.mRNA 1.39.0  (landing page)Marcin Kosinski  OK    OK    WARNINGS  YES
342/430RTCGA.mutations 20151101.41.0  (landing page)Marcin Kosinski  OK    OK    WARNINGS  YES
343/430RTCGA.PANCAN12 1.39.0  (landing page)Marcin Kosinski  OK    OK    OK  YES
344/430RTCGA.rnaseq 20151101.41.0  (landing page)Marcin Kosinski  OK    OK    WARNINGS  YES
345/430RTCGA.RPPA 1.39.0  (landing page)Marcin Kosinski  OK    OK    WARNINGS  YES
346/430RUVnormalizeData 1.31.0  (landing page)Laurent Jacob  OK    OK    OK  YES
S
ABCDEFGHIJKLMNOPQRSTUVWXYZ
PackageMaintainerINSTALLBUILDCHECK
347/430sampleClassifierData 1.35.0  (landing page)Khadija El Amrani  OK    OK    OK  NO, package depends on 'SummarizedExperiment' which is not available
348/430SBGNview.data 1.25.0  (landing page)Weijun Luo  OK    OK    OK  YES
349/430scaeData 1.7.0  (landing page)Ahmad Al Ajami  OK    OK    OK  NO, package depends on 'ExperimentHub' which is not available
350/430scanMiRData 1.17.0  (landing page)Pierre-Luc Germain  OK    OK    OK  NO, package depends on 'scanMiR' which is not available
351/430scATAC.Explorer 1.17.0  (landing page)Jonathan Wang  OK    OK    OK  NO, package depends on 'SingleCellExperiment' which is not available
352/430SCLCBam 1.43.0  (landing page)Oscar Krijgsman  OK    OK    OK  YES
353/430scMultiome 1.11.0  (landing page)Xiaosai Yao  OK    OK    OK  NO, package depends on 'AnnotationHub' which is not available
354/430scpdata 1.19.0  (landing page)Christophe Vanderaa  OK    OK    OK  NO, package depends on 'QFeatures' which is not available
355/430scRNAseq 2.25.0  (landing page)Aaron Lun  OK    OK    OK  NO, package depends on 'SingleCellExperiment' which is not available
356/430scTHI.data 1.23.0  (landing page)Michele Ceccarelli  OK    OK    OK  YES
357/430seq2pathway.data 1.43.0  (landing page)Arjun Kinstlick  OK    OK    WARNINGS  YES
358/430seqc 1.45.0  (landing page)Yang Liao and Wei Shi  OK    OK    WARNINGS  YES
359/430serumStimulation 1.47.0  (landing page)Morten Hansen,  OK    OK    OK  YES
360/430sesameData 1.29.0  (landing page)Wanding Zhou  OK    OK    OK  NO, package depends on 'ExperimentHub' which is not available
361/430seventyGeneData 1.47.0  (landing page)Luigi Marchionni  OK    OK    OK  YES
362/430SFEData 1.13.0  (landing page)Lambda Moses  OK    OK    OK  NO, package depends on 'BiocFileCache' which is not available
363/430shinyMethylData 1.31.0  (landing page)Jean-Philippe Fortin  OK    OK    WARNINGS  YES
364/430signatureSearchData 1.25.0  (landing page)Brendan Gongol  OK    OK    OK  NO, package depends on 'ExperimentHub' which is not available
365/430SimBenchData 1.19.0  (landing page)Yue Cao  OK    OK    OK  NO, package depends on 'ExperimentHub' which is not available
366/430simpIntLists 1.47.0  (landing page)Kircicegi Korkmaz  OK    OK    WARNINGS  YES
367/430Single.mTEC.Transcriptomes 1.39.0  (landing page)Alejandro Reyes  OK    OK    OK  YES
368/430SingleCellMultiModal 1.23.0  (landing page)Marcel Ramos  OK    OK    OK  NO, package depends on 'MultiAssayExperiment' which is not available
369/430SingleMoleculeFootprintingData 1.19.0  (landing page)Guido Barzaghi  OK    OK    OK  NO, package depends on 'ExperimentHub' which is not available
370/430smokingMouse 1.9.0  (landing page)Daianna Gonzalez-Padilla  OK    OK    OK  YES
371/430SNAData 1.57.0  (landing page)Denise Scholtens  OK    OK    OK  YES
372/430SNAGEEdata 1.47.0  (landing page)David Venet  OK    OK    ERROR  
373/430SNPhoodData 1.41.0  (landing page)Christian Arnold  OK    OK    OK  YES
374/430SomatiCAData 1.49.0  (landing page)Mengjie Chen  OK    OK    WARNINGS  YES
375/430SomaticCancerAlterations 1.47.0  (landing page)Julian Gehring  OK    OK    OK  NO, package depends on 'GenomicRanges' which is not available
376/430SpatialDatasets 1.9.0  (landing page)Ellis Patrick  OK    OK    WARNINGS  NO, package depends on 'ExperimentHub' which is not available
377/430spatialDmelxsim 1.17.0  (landing page)Michael Love  OK    OK    OK  NO, package depends on 'ExperimentHub' which is not available
378/430spatialLIBD 1.23.0  (landing page)Leonardo Collado-Torres  OK    OK    ERROR  
379/430SpikeIn 1.53.0  (landing page)Robert D Shear  OK    OK    OK  NO, package depends on 'affy' which is not available
380/430SpikeInSubset 1.51.0  (landing page)Robert D Shear  OK    OK    WARNINGS  NO, package depends on 'affy' which is not available
381/430spqnData 1.23.0  (landing page)Yi Wang  OK    OK    OK  NO, package depends on 'SummarizedExperiment' which is not available
382/430stemHypoxia 1.47.0  (landing page)Cristobal Fresno  OK    OK    OK  YES
383/430STexampleData 1.19.0  (landing page)Lukas M. Weber  OK    OK    OK  NO, package depends on 'ExperimentHub' which is not available
384/430SubcellularSpatialData 1.7.0  (landing page)Dharmesh D. Bhuva  OK    OK    OK  NO, package depends on 'SpatialExperiment' which is not available
385/430SVM2CRMdata 1.43.0  (landing page)Guidantonio Malagoli Tagliazucchi  OK    OK    WARNINGS  YES
386/430systemPipeRdata 2.15.0  (landing page)Thomas Girke  OK    OK    OK  NO, package depends on 'Biostrings' which is not available
T
ABCDEFGHIJKLMNOPQRSTUVWXYZ
PackageMaintainerINSTALLBUILDCHECK
387/430TabulaMurisData 1.29.0  (landing page)Charlotte Soneson  OK    OK    OK  NO, package depends on 'ExperimentHub' which is not available
388/430TabulaMurisSenisData 1.17.0  (landing page)Charlotte Soneson  OK    OK    OK  NO, package depends on 'ExperimentHub' which is not available
389/430TargetScoreData 1.47.0  (landing page)Yue Li  OK    OK    OK  YES
390/430TargetSearchData 1.49.0  (landing page)Alvaro Cuadros-Inostroza  OK    OK    OK  YES
391/430tartare 1.25.0  (landing page)Christian Panse  OK    OK    OK  NO, package depends on 'AnnotationHub' which is not available
392/430TBX20BamSubset 1.47.0  (landing page)D. Bindreither  OK    OK    OK  NO, package depends on 'Rsamtools' which is not available
393/430TCGAbiolinksGUI.data 1.31.0  (landing page)Tiago Chedraoui Silva  OK    OK    WARNINGS  YES
394/430TCGAcrcmiRNA 1.31.0  (landing page)Claudio Isella  OK    OK    OK  YES
395/430TCGAcrcmRNA 1.31.0  (landing page)Claudio Isella  OK    OK    OK  YES
396/430TCGAMethylation450k 1.47.0  (landing page)Sean Davis  OK    OK    OK  YES
397/430TCGAWorkflowData 1.35.0  (landing page)Tiago Chedraoui Silva  OK    OK    OK  NO, package depends on 'SummarizedExperiment' which is not available
398/430TENET.ExperimentHub 1.3.0  (landing page)Rhie Lab at the University of Southern California  OK    OK    ERROR  
399/430TENxBrainData 1.31.0  (landing page)Bioconductor Package Maintainer  OK    ERROR  skipped
400/430TENxBUSData 1.25.0  (landing page)Lambda Moses  OK    OK    OK  NO, package depends on 'ExperimentHub' which is not available
401/430TENxPBMCData 1.29.0  (landing page)Stephanie Hicks  OK    OK    OK  NO, package depends on 'SingleCellExperiment' which is not available
402/430TENxVisiumData 1.19.0  (landing page)Helena L. Crowell  OK    OK    OK  NO, package depends on 'ExperimentHub' which is not available
403/430TENxXeniumData 1.7.0  (landing page)Matineh Rahmatbakhsh  OK    OK    OK  NO, package depends on 'ExperimentHub' which is not available
404/430timecoursedata 1.21.0  (landing page)Nelle Varoquaux  OK    OK    OK  NO, package depends on 'SummarizedExperiment' which is not available
405/430TimerQuant 1.41.0  (landing page)Joseph Barry  OK    ERROR  skipped
406/430tinesath1cdf 1.49.0  (landing page)Tine Casneuf  OK    OK    WARNINGS  YES
407/430tinesath1probe 1.49.0  (landing page)Tine Casneuf  OK    OK    WARNINGS  NO, package depends on 'AnnotationDbi' which is not available
408/430tissueTreg 1.31.0  (landing page)Charles Imbusch  OK    OK    OK  YES
409/430TMExplorer 1.21.0  (landing page)Erik Christensen  OK    OK    OK  NO, package depends on 'SingleCellExperiment' which is not available
410/430tofsimsData 1.39.0  (landing page)Lorenz Gerber  OK    OK    WARNINGS  YES
411/430topdownrdata 1.33.0  (landing page)Sebastian Gibb  OK    OK    OK  NO, package depends on 'topdownr' which is not available
412/430TransOmicsData 1.7.0  (landing page)Di Xiao  OK    OK    OK  YES
413/430tuberculosis 1.17.0  (landing page)Lucas Schiffer  OK    OK    OK  NO, package depends on 'SummarizedExperiment' which is not available
414/430TumourMethData 1.9.0  (landing page)Richard Heery  OK    OK    WARNINGS  NO, package depends on 'SummarizedExperiment' which is not available
415/430tweeDEseqCountData 1.49.0  (landing page)Dolors Pelegri-Siso  OK    OK    WARNINGS  YES
416/430tximportData 1.39.0  (landing page)Michael Love  OK    OK    OK  YES
V
ABCDEFGHIJKLMNOPQRSTUVWXYZ
PackageMaintainerINSTALLBUILDCHECK
417/430VariantToolsData 1.35.0  (landing page)Michael Lawrence  OK    OK    OK  NO, package depends on 'VariantAnnotation' which is not available
418/430VectraPolarisData 1.15.0  (landing page)Wrobel Julia  OK    OK    OK  NO, package depends on 'ExperimentHub' which is not available
419/430vulcandata 1.33.0  (landing page)Federico M. Giorgi  OK    OK    OK  YES
W
ABCDEFGHIJKLMNOPQRSTUVWXYZ
PackageMaintainerINSTALLBUILDCHECK
420/430WeberDivechaLCdata 1.13.0  (landing page)Lukas M. Weber  OK    OK    OK  NO, package depends on 'ExperimentHub' which is not available
421/430WES.1KG.WUGSC 1.43.0  (landing page)Yuchao Jiang  OK    OK    OK  YES
422/430WGSmapp 1.23.0  (landing page)Rujin Wang  OK    OK    WARNINGS  NO, package depends on 'GenomicRanges' which is not available
X
ABCDEFGHIJKLMNOPQRSTUVWXYZ
PackageMaintainerINSTALLBUILDCHECK
423/430xcoredata 1.15.0  (landing page)Maciej Migdał  OK    OK    ERROR  
424/430XhybCasneuf 1.49.0  (landing page)Tineke Casneuf  ERROR    ERROR  skipped
Y
ABCDEFGHIJKLMNOPQRSTUVWXYZ
PackageMaintainerINSTALLBUILDCHECK
425/430yeastCC 1.51.0  (landing page)Sandrine Dudoit  OK    OK    WARNINGS  YES
426/430yeastExpData 0.57.0  (landing page)R. Gentleman  OK    OK    ERROR  
427/430yeastGSData 0.49.0  (landing page)R. Gentleman  OK    OK    WARNINGS  YES
428/430yeastNagalakshmi 1.47.0  (landing page)Bioconductor Package Maintainer  OK    OK    OK  YES
429/430yeastRNASeq 0.49.0  (landing page)J. Bullard  OK    OK    WARNINGS  YES
Z
ABCDEFGHIJKLMNOPQRSTUVWXYZ
PackageMaintainerINSTALLBUILDCHECK
430/430zebrafishRNASeq 1.31.0  (landing page)Davide Risso  OK    OK    OK  YES