Back to Build/check report for BioC 3.23 experimental data
ABCDEFGHIJKLMNOPQR[S]TUVWXYZ

This page was generated on 2025-10-30 15:01 -0400 (Thu, 30 Oct 2025).

HostnameOSArch (*)R versionInstalled pkgs
nebbiolo1Linux (Ubuntu 24.04.3 LTS)x86_64R Under development (unstable) (2025-10-20 r88955) -- "Unsuffered Consequences" 4428
Click on any hostname to see more info about the system (e.g. compilers)      (*) as reported by 'uname -p', except on Windows and Mac OS X

Package 376/430HostnameOS / ArchINSTALLBUILDCHECK
SpatialDatasets 1.9.0  (landing page)
Ellis Patrick
Snapshot Date: 2025-10-30 07:00 -0400 (Thu, 30 Oct 2025)
git_url: https://git.bioconductor.org/packages/SpatialDatasets
git_branch: devel
git_last_commit: 971469e
git_last_commit_date: 2025-10-29 10:06:00 -0400 (Wed, 29 Oct 2025)
nebbiolo1Linux (Ubuntu 24.04.3 LTS) / x86_64  OK    OK    WARNINGS  NO, package depends on 'ExperimentHub' which is not available


INSTALL results for SpatialDatasets on nebbiolo1

To the developers/maintainers of the SpatialDatasets package:
- Use the following Renviron settings to reproduce errors and warnings.
- If 'R CMD check' started to fail recently on the Linux builder(s) over a missing dependency, add the missing dependency to 'Suggests:' in your DESCRIPTION file. See Renviron.bioc for more information.

raw results


Summary

Package: SpatialDatasets
Version: 1.9.0
Command: /home/biocbuild/bbs-3.23-bioc/R/bin/R CMD INSTALL SpatialDatasets
StartedAt: 2025-10-30 10:58:34 -0400 (Thu, 30 Oct 2025)
EndedAt: 2025-10-30 10:59:03 -0400 (Thu, 30 Oct 2025)
EllapsedTime: 29.5 seconds
RetCode: 0
Status:   OK  

Command output

##############################################################################
##############################################################################
###
### Running command:
###
###   /home/biocbuild/bbs-3.23-bioc/R/bin/R CMD INSTALL SpatialDatasets
###
##############################################################################
##############################################################################


* installing to library ‘/home/biocbuild/bbs-3.23-bioc/R/site-library’
* installing *source* package ‘SpatialDatasets’ ...
** this is package ‘SpatialDatasets’ version ‘1.9.0’
** using staged installation
** R
** inst
** byte-compile and prepare package for lazy loading
** help
Warning: /home/biocbuild/bbs-3.23-data-experiment/meat/SpatialDatasets/man/SpatialDatasets.Rd:52: unexpected section header '\value'
Warning: /home/biocbuild/bbs-3.23-data-experiment/meat/SpatialDatasets/man/SpatialDatasets.Rd:55: unexpected section header '\examples'
Warning: /home/biocbuild/bbs-3.23-data-experiment/meat/SpatialDatasets/man/SpatialDatasets.Rd:60: unexpected END_OF_INPUT '
'
*** installing help indices
** building package indices
** installing vignettes
** testing if installed package can be loaded from temporary location
Warning: previous export '‘Ferguson_Images’' is being replaced
Warning: previous export '‘spe_Ferguson_2022’' is being replaced
Warning: previous export '‘fergusonClinical’' is being replaced
Warning: previous export '‘spe_Schurch_2020’' is being replaced
Warning: previous export '‘spe_Ali_2020’' is being replaced
** testing if installed package can be loaded from final location
Warning: previous export '‘Ferguson_Images’' is being replaced
Warning: previous export '‘spe_Ferguson_2022’' is being replaced
Warning: previous export '‘fergusonClinical’' is being replaced
Warning: previous export '‘spe_Schurch_2020’' is being replaced
Warning: previous export '‘spe_Ali_2020’' is being replaced
** testing if installed package keeps a record of temporary installation path
* DONE (SpatialDatasets)