| Back to Build/check report for BioC 3.23 experimental data |
|
This page was generated on 2025-10-30 15:01 -0400 (Thu, 30 Oct 2025).
| Hostname | OS | Arch (*) | R version | Installed pkgs |
|---|---|---|---|---|
| nebbiolo1 | Linux (Ubuntu 24.04.3 LTS) | x86_64 | R Under development (unstable) (2025-10-20 r88955) -- "Unsuffered Consequences" | 4428 |
| Click on any hostname to see more info about the system (e.g. compilers) (*) as reported by 'uname -p', except on Windows and Mac OS X | ||||
| Package 241/430 | Hostname | OS / Arch | INSTALL | BUILD | CHECK | ||||||||
| methylclockData 1.19.0 (landing page) Dolors Pelegri-Siso
| nebbiolo1 | Linux (Ubuntu 24.04.3 LTS) / x86_64 | OK | OK | OK | ||||||||
|
To the developers/maintainers of the methylclockData package: - Use the following Renviron settings to reproduce errors and warnings. - If 'R CMD check' started to fail recently on the Linux builder(s) over a missing dependency, add the missing dependency to 'Suggests:' in your DESCRIPTION file. See Renviron.bioc for more information. |
| Package: methylclockData |
| Version: 1.19.0 |
| Command: /home/biocbuild/bbs-3.23-bioc/R/bin/R CMD check --install=check:methylclockData.install-out.txt --library=/home/biocbuild/bbs-3.23-bioc/R/site-library --timings methylclockData_1.19.0.tar.gz |
| StartedAt: 2025-10-30 12:26:29 -0400 (Thu, 30 Oct 2025) |
| EndedAt: 2025-10-30 12:31:46 -0400 (Thu, 30 Oct 2025) |
| EllapsedTime: 316.5 seconds |
| RetCode: 0 |
| Status: OK |
| CheckDir: methylclockData.Rcheck |
| Warnings: 0 |
##############################################################################
##############################################################################
###
### Running command:
###
### /home/biocbuild/bbs-3.23-bioc/R/bin/R CMD check --install=check:methylclockData.install-out.txt --library=/home/biocbuild/bbs-3.23-bioc/R/site-library --timings methylclockData_1.19.0.tar.gz
###
##############################################################################
##############################################################################
* using log directory ‘/home/biocbuild/bbs-3.23-data-experiment/meat/methylclockData.Rcheck’
* using R Under development (unstable) (2025-10-20 r88955)
* using platform: x86_64-pc-linux-gnu
* R was compiled by
gcc (Ubuntu 13.3.0-6ubuntu2~24.04) 13.3.0
GNU Fortran (Ubuntu 13.3.0-6ubuntu2~24.04) 13.3.0
* running under: Ubuntu 24.04.3 LTS
* using session charset: UTF-8
* checking for file ‘methylclockData/DESCRIPTION’ ... OK
* this is package ‘methylclockData’ version ‘1.19.0’
* package encoding: UTF-8
* checking package namespace information ... OK
* checking package dependencies ... OK
* checking if this is a source package ... OK
* checking if there is a namespace ... OK
* checking for hidden files and directories ... OK
* checking for portable file names ... OK
* checking for sufficient/correct file permissions ... OK
* checking whether package ‘methylclockData’ can be installed ... OK
* checking installed package size ... OK
* checking package directory ... OK
* checking ‘build’ directory ... OK
* checking DESCRIPTION meta-information ... NOTE
Malformed Description field: should contain one or more complete sentences.
License stub is invalid DCF.
* checking top-level files ... OK
* checking for left-over files ... OK
* checking index information ... OK
* checking package subdirectories ... OK
* checking code files for non-ASCII characters ... OK
* checking R files for syntax errors ... OK
* checking whether the package can be loaded ... OK
* checking whether the package can be loaded with stated dependencies ... OK
* checking whether the package can be unloaded cleanly ... OK
* checking whether the namespace can be loaded with stated dependencies ... OK
* checking whether the namespace can be unloaded cleanly ... OK
* checking loading without being on the library search path ... OK
* checking dependencies in R code ... OK
* checking S3 generic/method consistency ... OK
* checking replacement functions ... OK
* checking foreign function calls ... OK
* checking R code for possible problems ... OK
* checking Rd files ... OK
* checking Rd metadata ... OK
* checking Rd cross-references ... OK
* checking for missing documentation entries ... OK
* checking for code/documentation mismatches ... OK
* checking Rd \usage sections ... OK
* checking Rd contents ... OK
* checking for unstated dependencies in examples ... OK
* checking files in ‘vignettes’ ... OK
* checking examples ... OK
* checking for unstated dependencies in vignettes ... OK
* checking package vignettes ... OK
* checking re-building of vignette outputs ... OK
* checking PDF version of manual ... OK
* DONE
Status: 1 NOTE
See
‘/home/biocbuild/bbs-3.23-data-experiment/meat/methylclockData.Rcheck/00check.log’
for details.
methylclockData.Rcheck/00install.out
############################################################################## ############################################################################## ### ### Running command: ### ### /home/biocbuild/bbs-3.23-bioc/R/bin/R CMD INSTALL methylclockData ### ############################################################################## ############################################################################## * installing to library ‘/home/biocbuild/bbs-3.23-bioc/R/site-library’ * installing *source* package ‘methylclockData’ ... ** this is package ‘methylclockData’ version ‘1.19.0’ ** using staged installation ** R ** inst ** byte-compile and prepare package for lazy loading Warning: replacing previous import ‘utils::findMatches’ by ‘S4Vectors::findMatches’ when loading ‘ExperimentHubData’ No methods found in package ‘rtracklayer’ for request: ‘trackName<-’ when loading ‘AnnotationHubData’ ** help *** installing help indices ** building package indices ** installing vignettes ** testing if installed package can be loaded from temporary location Warning: replacing previous import ‘utils::findMatches’ by ‘S4Vectors::findMatches’ when loading ‘ExperimentHubData’ No methods found in package ‘rtracklayer’ for request: ‘trackName<-’ when loading ‘AnnotationHubData’ ** testing if installed package can be loaded from final location Warning: replacing previous import ‘utils::findMatches’ by ‘S4Vectors::findMatches’ when loading ‘ExperimentHubData’ No methods found in package ‘rtracklayer’ for request: ‘trackName<-’ when loading ‘AnnotationHubData’ ** testing if installed package keeps a record of temporary installation path * DONE (methylclockData)
methylclockData.Rcheck/methylclockData-Ex.timings
| name | user | system | elapsed | |
| get_MethylationDataExample | 1.915 | 0.151 | 2.337 | |
| get_TestDataset | 1.307 | 0.174 | 1.774 | |
| get_coefBLUP | 2.657 | 0.439 | 3.313 | |
| get_coefBohlin | 1.263 | 0.174 | 1.648 | |
| get_coefEN | 1.212 | 0.197 | 1.696 | |
| get_coefEPIC | 1.281 | 0.175 | 1.670 | |
| get_coefHannum | 1.243 | 0.162 | 1.616 | |
| get_coefHorvath | 1.213 | 0.160 | 1.592 | |
| get_coefKnightGA | 1.257 | 0.201 | 1.688 | |
| get_coefLeeGA | 1.168 | 0.190 | 1.572 | |
| get_coefLevine | 1.304 | 0.143 | 1.677 | |
| get_coefMayneGA | 1.202 | 0.158 | 1.572 | |
| get_coefPedBE | 1.302 | 0.190 | 1.713 | |
| get_coefSkin | 1.235 | 0.153 | 1.599 | |
| get_coefTL | 1.429 | 0.287 | 2.959 | |
| get_coefWu | 1.239 | 0.207 | 1.809 | |
| get_cpgs_bn | 1.433 | 0.239 | 1.948 | |
| get_probeAnnotation21kdatMethUsed | 1.212 | 0.135 | 1.608 | |
| get_references | 1.363 | 0.225 | 1.806 | |