Back to Build/check report for BioC 3.23 experimental data
ABCDEFGHIJKL[M]NOPQRSTUVWXYZ

This page was generated on 2025-10-30 15:01 -0400 (Thu, 30 Oct 2025).

HostnameOSArch (*)R versionInstalled pkgs
nebbiolo1Linux (Ubuntu 24.04.3 LTS)x86_64R Under development (unstable) (2025-10-20 r88955) -- "Unsuffered Consequences" 4428
Click on any hostname to see more info about the system (e.g. compilers)      (*) as reported by 'uname -p', except on Windows and Mac OS X

Package 247/430HostnameOS / ArchINSTALLBUILDCHECK
minfiDataEPIC 1.37.0  (landing page)
Kasper Daniel Hansen
Snapshot Date: 2025-10-30 07:00 -0400 (Thu, 30 Oct 2025)
git_url: https://git.bioconductor.org/packages/minfiDataEPIC
git_branch: devel
git_last_commit: b3b48f5
git_last_commit_date: 2025-10-29 09:58:37 -0400 (Wed, 29 Oct 2025)
nebbiolo1Linux (Ubuntu 24.04.3 LTS) / x86_64  ERROR    OK    ERROR  


INSTALL results for minfiDataEPIC on nebbiolo1

To the developers/maintainers of the minfiDataEPIC package:
- Use the following Renviron settings to reproduce errors and warnings.
- If 'R CMD check' started to fail recently on the Linux builder(s) over a missing dependency, add the missing dependency to 'Suggests:' in your DESCRIPTION file. See Renviron.bioc for more information.

raw results


Summary

Package: minfiDataEPIC
Version: 1.37.0
Command: /home/biocbuild/bbs-3.23-bioc/R/bin/R CMD INSTALL minfiDataEPIC
StartedAt: 2025-10-30 11:07:05 -0400 (Thu, 30 Oct 2025)
EndedAt: 2025-10-30 11:07:05 -0400 (Thu, 30 Oct 2025)
EllapsedTime: 0.2 seconds
RetCode: 1
Status:   ERROR  

Command output

##############################################################################
##############################################################################
###
### Running command:
###
###   /home/biocbuild/bbs-3.23-bioc/R/bin/R CMD INSTALL minfiDataEPIC
###
##############################################################################
##############################################################################


* installing to library ‘/home/biocbuild/bbs-3.23-bioc/R/site-library’
ERROR: dependencies ‘IlluminaHumanMethylationEPICmanifest’, ‘IlluminaHumanMethylationEPICanno.ilm10b2.hg19’ are not available for package ‘minfiDataEPIC’
Perhaps try a variation of:
install.packages(c('IlluminaHumanMethylationEPICmanifest', 'IlluminaHumanMethylationEPICanno.ilm10b2.hg19'))
* removing ‘/home/biocbuild/bbs-3.23-bioc/R/site-library/minfiDataEPIC’