| Back to Build/check report for BioC 3.15 experimental data | 
 | 
This page was generated on 2022-02-17 08:36:54 -0500 (Thu, 17 Feb 2022).
| Hostname | OS | Arch (*) | R version | Installed pkgs | 
|---|---|---|---|---|
| nebbiolo2 | Linux (Ubuntu 20.04.4 LTS) | x86_64 | R Under development (unstable) (2022-01-05 r81451) -- "Unsuffered Consequences" | 1362 | 
| Click on any hostname to see more info about the system (e.g. compilers) (*) as reported by 'uname -p', except on Windows and Mac OS X | ||||
| To the developers/maintainers of the seqc package: Make sure to use the following settings in order to reproduce any error or warning you see on this page. | 
| Package 342/406 | Hostname | OS / Arch | INSTALL | BUILD | CHECK | ||||||||
| seqc 1.29.0  (landing page) Yang Liao 
 | nebbiolo2 | Linux (Ubuntu 20.04.4 LTS) / x86_64 | OK | OK | WARNINGS |  | |||||||
| Package: seqc | 
| Version: 1.29.0 | 
| Command: /home/biocbuild/bbs-3.15-data-experiment/R/bin/R CMD build --keep-empty-dirs --no-resave-data seqc | 
| StartedAt: 2022-02-17 06:17:58 -0500 (Thu, 17 Feb 2022) | 
| EndedAt: 2022-02-17 06:21:43 -0500 (Thu, 17 Feb 2022) | 
| EllapsedTime: 224.9 seconds | 
| RetCode: 0 | 
| Status: OK | 
| PackageFile: seqc_1.29.0.tar.gz | 
| PackageFileSize: 179 MiB | 
############################################################################## ############################################################################## ### ### Running command: ### ### /home/biocbuild/bbs-3.15-data-experiment/R/bin/R CMD build --keep-empty-dirs --no-resave-data seqc ### ############################################################################## ############################################################################## * checking for file ‘seqc/DESCRIPTION’ ... OK * preparing ‘seqc’: * checking DESCRIPTION meta-information ... OK * installing the package to build vignettes * creating vignettes ... OK * checking for LF line-endings in source and make files and shell scripts * checking for empty or unneeded directories * building ‘seqc_1.29.0.tar.gz’