| Back to Build/check report for BioC 3.15 experimental data |
This page was generated on 2022-02-17 08:36:54 -0500 (Thu, 17 Feb 2022).
| Hostname: | nebbiolo2 |
| OS: | Linux (Ubuntu 20.04.4 LTS) |
| Arch: | x86_64 |
| Platform: | x86_64-linux-gnu |
| R version: | R Under development (unstable) (2022-01-05 r81451) -- "Unsuffered Consequences" |
| R environment variables: | Renviron.bioc |
| R variable (VAR) | Value ('R CMD config <VAR>' output) |
| CC | gcc |
| CFLAGS | -g -O2 -Wall |
| CPICFLAGS | -fpic |
| Please refer to 'R CMD config -h' for the meaning of these variables | |
Compiler version ('gcc --version' output):
gcc (Ubuntu 9.3.0-17ubuntu1~20.04) 9.3.0 Copyright (C) 2019 Free Software Foundation, Inc. This is free software; see the source for copying conditions. There is NO warranty; not even for MERCHANTABILITY or FITNESS FOR A PARTICULAR PURPOSE.
| R variable (VAR) | Value ('R CMD config <VAR>' output) |
| CXX | g++ -std=gnu++14 |
| CXXFLAGS | -g -O2 -Wall |
| CXXPICFLAGS | -fpic |
| Please refer to 'R CMD config -h' for the meaning of these variables | |
Compiler version ('g++ -std=gnu++14 --version' output):
g++ (Ubuntu 9.3.0-17ubuntu1~20.04) 9.3.0 Copyright (C) 2019 Free Software Foundation, Inc. This is free software; see the source for copying conditions. There is NO warranty; not even for MERCHANTABILITY or FITNESS FOR A PARTICULAR PURPOSE.
| R variable (VAR) | Value ('R CMD config <VAR>' output) |
| CXX11 | g++ |
| CXX11FLAGS | -g -O2 -Wall |
| CXX11PICFLAGS | -fpic |
| CXX11STD | -std=gnu++11 |
| Please refer to 'R CMD config -h' for the meaning of these variables | |
Compiler version ('g++ --version' output):
g++ (Ubuntu 9.3.0-17ubuntu1~20.04) 9.3.0 Copyright (C) 2019 Free Software Foundation, Inc. This is free software; see the source for copying conditions. There is NO warranty; not even for MERCHANTABILITY or FITNESS FOR A PARTICULAR PURPOSE.
| R variable (VAR) | Value ('R CMD config <VAR>' output) |
| CXX14 | g++ |
| CXX14FLAGS | -g -O2 -Wall |
| CXX14PICFLAGS | -fpic |
| CXX14STD | -std=gnu++14 |
| Please refer to 'R CMD config -h' for the meaning of these variables | |
Compiler version ('g++ --version' output):
g++ (Ubuntu 9.3.0-17ubuntu1~20.04) 9.3.0 Copyright (C) 2019 Free Software Foundation, Inc. This is free software; see the source for copying conditions. There is NO warranty; not even for MERCHANTABILITY or FITNESS FOR A PARTICULAR PURPOSE.
| R variable (VAR) | Value ('R CMD config <VAR>' output) |
| CXX17 | g++ |
| CXX17FLAGS | -g -O2 |
| CXX17PICFLAGS | -fpic |
| CXX17STD | -std=gnu++17 |
| Please refer to 'R CMD config -h' for the meaning of these variables | |
Compiler version ('g++ --version' output):
g++ (Ubuntu 9.3.0-17ubuntu1~20.04) 9.3.0 Copyright (C) 2019 Free Software Foundation, Inc. This is free software; see the source for copying conditions. There is NO warranty; not even for MERCHANTABILITY or FITNESS FOR A PARTICULAR PURPOSE.
More information might be added in the future...