This page was generated on 2022-10-18 14:50:14 -0400 (Tue, 18 Oct 2022).
|
| Hostname | OS | Arch (*) | R version | Installed pkgs |
|---|---|---|---|---|
| nebbiolo1 | Linux (Ubuntu 20.04.5 LTS) | x86_64 | 4.2.1 (2022-06-23) -- "Funny-Looking Kid" | 4386 |
| Click on any hostname to see more info about the system (e.g. compilers) (*) as reported by 'uname -p', except on Windows and Mac OS X | ||||
A | |||||||||
| QUICK STATS | OS / Arch | INSTALL | BUILD | CHECK | |||||||||||||||||||||||||||||||
| nebbiolo1 | Linux (Ubuntu 20.04.5 LTS) / x86_64 |
|
|
| |||||||||||||||||||||||||||||||
|
| ||||||||||||||||||||||||||||||||||
| Package | Maintainer | INSTALL | BUILD | CHECK | |||||||||||||||||||||||||||||||
| 1/410 | adductData 1.12.0 (landing page) | Josie Hayes | OK | OK | OK | ||||||||||||||||||||||||||||||
| 2/410 | affycompData 1.34.0 (landing page) | Harris Jaffee | OK | OK | OK | ||||||||||||||||||||||||||||||
| 3/410 | affydata 1.44.0 (landing page) | Harris Jaffee | OK | OK | WARNINGS | ||||||||||||||||||||||||||||||
| 4/410 | Affyhgu133A2Expr 1.32.0 (landing page) | Zhicheng Ji | OK | OK | OK | ||||||||||||||||||||||||||||||
| 5/410 | Affyhgu133aExpr 1.34.0 (landing page) | Zhicheng Ji | OK | OK | OK | ||||||||||||||||||||||||||||||
| 6/410 | Affyhgu133Plus2Expr 1.30.0 (landing page) | Zhicheng Ji | OK | OK | OK | ||||||||||||||||||||||||||||||
| 7/410 | AffymetrixDataTestFiles 0.34.0 (landing page) | Henrik Bengtsson | OK | OK | OK | ||||||||||||||||||||||||||||||
| 8/410 | Affymoe4302Expr 1.34.0 (landing page) | Zhicheng Ji | OK | OK | OK | ||||||||||||||||||||||||||||||
| 9/410 | airway 1.16.0 (landing page) | Michael Love | OK | OK | WARNINGS | ||||||||||||||||||||||||||||||
| 10/410 | ALL 1.38.0 (landing page) | Robert Gentleman | OK | OK | OK | ||||||||||||||||||||||||||||||
| 11/410 | ALLMLL 1.36.0 (landing page) | B. M. Bolstad | OK | OK | OK | ||||||||||||||||||||||||||||||
| 12/410 | alpineData 1.22.0 (landing page) | Michael Love | OK | OK | OK | ||||||||||||||||||||||||||||||
| 13/410 | AmpAffyExample 1.36.0 (landing page) | Rafael A. Irizarry | OK | OK | WARNINGS | ||||||||||||||||||||||||||||||
| 14/410 | AneuFinderData 1.24.0 (landing page) | Aaron Taudt | OK | OK | WARNINGS | ||||||||||||||||||||||||||||||
| 15/410 | antiProfilesData 1.32.0 (landing page) | Hector Corrada Bravo | OK | OK | OK | ||||||||||||||||||||||||||||||
| 16/410 | aracne.networks 1.22.0 (landing page) | Federico M. Giorgi | OK | OK | WARNINGS | ||||||||||||||||||||||||||||||
| 17/410 | ARRmData 1.32.0 (landing page) | Jean-Philippe Fortin | OK | OK | OK | ||||||||||||||||||||||||||||||
| 18/410 | AshkenazimSonChr21 1.26.0 (landing page) | Who to complain to | OK | OK | OK | ||||||||||||||||||||||||||||||
| 19/410 | ASICSdata 1.16.0 (landing page) | Gaëlle Lefort | OK | OK | OK | ||||||||||||||||||||||||||||||
| 20/410 | AssessORFData 1.14.0 (landing page) | Deepank Korandla | OK | OK | OK | ||||||||||||||||||||||||||||||
|
| ||||||||||||||||||||||||||||||||||
| Package | Maintainer | INSTALL | BUILD | CHECK | |||||||||||||||||||||||||||||||
| 21/410 | bcellViper 1.32.0 (landing page) | Mariano Javier Alvarez | OK | OK | OK | ||||||||||||||||||||||||||||||
| 22/410 | beadarrayExampleData 1.34.0 (landing page) | Mark Dunning | OK | OK | OK | ||||||||||||||||||||||||||||||
| 23/410 | BeadArrayUseCases 1.34.0 (landing page) | Mike Smith | OK | OK | OK | ||||||||||||||||||||||||||||||
| 24/410 | BeadSorted.Saliva.EPIC 1.4.0 (landing page) | Jonah Fisher | OK | OK | OK | ||||||||||||||||||||||||||||||
| 25/410 | benchmarkfdrData2019 1.10.0 (landing page) | Stephanie Hicks | OK | OK | OK | ||||||||||||||||||||||||||||||
| 26/410 | beta7 1.34.0 (landing page) | Jean Yang | OK | OK | WARNINGS | ||||||||||||||||||||||||||||||
| 27/410 | BioImageDbs 1.4.0 (landing page) | Satoshi Kume | OK | OK | OK | ||||||||||||||||||||||||||||||
| 28/410 | biotmleData 1.20.0 (landing page) | Nima Hejazi | OK | OK | WARNINGS | ||||||||||||||||||||||||||||||
| 29/410 | biscuiteerData 1.10.0 (landing page) | "Jacob Morrison" | OK | OK | OK | ||||||||||||||||||||||||||||||
| 30/410 | bladderbatch 1.34.0 (landing page) | Jeffrey T. Leek | OK | OK | WARNINGS | ||||||||||||||||||||||||||||||
| 31/410 | blimaTestingData 1.16.0 (landing page) | Vojtech Kulvait | OK | OK | OK | ||||||||||||||||||||||||||||||
| 32/410 | BloodCancerMultiOmics2017 1.16.0 (landing page) | Malgorzata Oles | OK | OK | WARNINGS | ||||||||||||||||||||||||||||||
| 33/410 | bodymapRat 1.12.0 (landing page) | Stephanie Hicks | OK | OK | OK | ||||||||||||||||||||||||||||||
| 34/410 | breakpointRdata 1.14.0 (landing page) | David Porubsky | OK | OK | OK | ||||||||||||||||||||||||||||||
| 35/410 | breastCancerMAINZ 1.34.0 (landing page) | Markus Schroeder | OK | OK | WARNINGS | ||||||||||||||||||||||||||||||
| 36/410 | breastCancerNKI 1.34.0 (landing page) | Markus Schroeder | OK | OK | WARNINGS | ||||||||||||||||||||||||||||||
| 37/410 | breastCancerTRANSBIG 1.34.0 (landing page) | Markus Schroeder | OK | OK | WARNINGS | ||||||||||||||||||||||||||||||
| 38/410 | breastCancerUNT 1.34.0 (landing page) | Markus Schroeder | OK | OK | WARNINGS | ||||||||||||||||||||||||||||||
| 39/410 | breastCancerUPP 1.34.0 (landing page) | Markus Schroeder | OK | OK | WARNINGS | ||||||||||||||||||||||||||||||
| 40/410 | breastCancerVDX 1.34.0 (landing page) | Markus Schroeder | OK | OK | WARNINGS | ||||||||||||||||||||||||||||||
| 41/410 | brgedata 1.18.0 (landing page) | Dolors Pelegri-Siso | OK | OK | WARNINGS | ||||||||||||||||||||||||||||||
| 42/410 | bronchialIL13 1.34.0 (landing page) | Vince Carey | OK | OK | OK | ||||||||||||||||||||||||||||||
| 43/410 | bsseqData 0.34.0 (landing page) | Kasper Daniel Hansen | OK | OK | WARNINGS | ||||||||||||||||||||||||||||||
|
| ||||||||||||||||||||||||||||||||||
| Package | Maintainer | INSTALL | BUILD | CHECK | |||||||||||||||||||||||||||||||
| 44/410 | cancerdata 1.34.0 (landing page) | Daniel Kosztyla | OK | OK | OK | ||||||||||||||||||||||||||||||
| 45/410 | CardinalWorkflows 1.28.0 (landing page) | Kylie A. Bemis | OK | OK | OK | ||||||||||||||||||||||||||||||
| 46/410 | ccdata 1.22.0 (landing page) | Alex Pickering | OK | OK | WARNINGS | ||||||||||||||||||||||||||||||
| 47/410 | CCl4 1.34.0 (landing page) | Audrey Kauffmann | OK | OK | WARNINGS | ||||||||||||||||||||||||||||||
| 48/410 | ccTutorial 1.34.0 (landing page) | Joern Toedling | OK | OK | OK | ||||||||||||||||||||||||||||||
| 49/410 | celarefData 1.14.0 (landing page) | Sarah Williams | OK | OK | OK | ||||||||||||||||||||||||||||||
| 50/410 | celldex 1.6.0 (landing page) | Aaron Lun | OK | OK | WARNINGS | ||||||||||||||||||||||||||||||
| 51/410 | CellMapperData 1.22.0 (landing page) | Brad Nelms | OK | OK | OK | ||||||||||||||||||||||||||||||
| 52/410 | ChAMPdata 2.28.0 (landing page) | Yuan Tian | OK | OK | OK | ||||||||||||||||||||||||||||||
| 53/410 | ChIC.data 1.16.0 (landing page) | Carmen Maria Livi | OK | OK | OK | ||||||||||||||||||||||||||||||
| 54/410 | ChimpHumanBrainData 1.34.0 (landing page) | Sean Davis | OK | OK | OK | ||||||||||||||||||||||||||||||
| 55/410 | chipenrich.data 2.20.0 (landing page) | Raymond G. Cavalcante | OK | OK | WARNINGS | ||||||||||||||||||||||||||||||
| 56/410 | ChIPexoQualExample 1.20.0 (landing page) | Rene Welch | OK | OK | OK | ||||||||||||||||||||||||||||||
| 57/410 | chipseqDBData 1.12.0 (landing page) | Aaron Lun | OK | OK | OK | ||||||||||||||||||||||||||||||
| 58/410 | ChIPXpressData 1.34.0 (landing page) | George Wu | OK | OK | WARNINGS | ||||||||||||||||||||||||||||||
| 59/410 | chromstaRData 1.22.0 (landing page) | Aaron Taudt | OK | OK | WARNINGS | ||||||||||||||||||||||||||||||
| 60/410 | CLL 1.36.0 (landing page) | Robert Gentleman | OK | OK | OK | ||||||||||||||||||||||||||||||
| 61/410 | CLLmethylation 1.16.0 (landing page) | Malgorzata Oles | OK | OK | OK | ||||||||||||||||||||||||||||||
| 62/410 | CluMSIDdata 1.12.0 (landing page) | Tobias Depke | OK | OK | OK | ||||||||||||||||||||||||||||||
| 63/410 | clustifyrdatahub 1.6.0 (landing page) | Rui Fu | OK | OK | OK | ||||||||||||||||||||||||||||||
| 64/410 | cMap2data 1.32.0 (landing page) | J. Saez-Rodriguez | OK | OK | WARNINGS | ||||||||||||||||||||||||||||||
| 65/410 | cnvGSAdata 1.32.0 (landing page) | Joseph Lugo | OK | OK | WARNINGS | ||||||||||||||||||||||||||||||
| 66/410 | COHCAPanno 1.32.0 (landing page) | Charles Warden | OK | OK | OK | ||||||||||||||||||||||||||||||
| 67/410 | colonCA 1.38.0 (landing page) | W Sylvia Merk | OK | OK | WARNINGS | ||||||||||||||||||||||||||||||
| 68/410 | CONFESSdata 1.24.0 (landing page) | Diana LOW | OK | OK | OK | ||||||||||||||||||||||||||||||
| 69/410 | ConnectivityMap 1.32.0 (landing page) | Paul Shannon | OK | OK | OK | ||||||||||||||||||||||||||||||
| 70/410 | COPDSexualDimorphism.data 1.32.0 (landing page) | J Fah Sathirapongsasuti | OK | OK | WARNINGS | ||||||||||||||||||||||||||||||
| 71/410 | CopyhelpeR 1.28.0 (landing page) | Oscar Krijgsman | OK | OK | OK | ||||||||||||||||||||||||||||||
| 72/410 | CopyNeutralIMA 1.14.0 (landing page) | Xavier Pastor Hostench | OK | OK | OK | ||||||||||||||||||||||||||||||
| 73/410 | COSMIC.67 1.32.0 (landing page) | Julian Gehring | OK | OK | OK | ||||||||||||||||||||||||||||||
| 74/410 | CRCL18 1.16.0 (landing page) | Claudio Isella | OK | OK | OK | ||||||||||||||||||||||||||||||
| 75/410 | crisprScoreData 1.0.0 (landing page) | Jean-Philippe Fortin | OK | OK | OK | ||||||||||||||||||||||||||||||
| 76/410 | curatedAdipoArray 1.8.0 (landing page) | Mahmoud Ahmed | OK | OK | OK | ||||||||||||||||||||||||||||||
| 77/410 | curatedAdipoChIP 1.12.0 (landing page) | Mahmoud Ahmed | OK | OK | OK | ||||||||||||||||||||||||||||||
| 78/410 | curatedAdipoRNA 1.12.0 (landing page) | Mahmoud Ahmed | OK | OK | WARNINGS | ||||||||||||||||||||||||||||||
| 79/410 | curatedBladderData 1.32.0 (landing page) | Markus Riester | OK | OK | OK | ||||||||||||||||||||||||||||||
| 80/410 | curatedBreastData 2.24.0 (landing page) | Katie Planey | OK | OK | OK | ||||||||||||||||||||||||||||||
| 81/410 | curatedCRCData 2.28.0 (landing page) | Princy Parsana | OK | OK | OK | ||||||||||||||||||||||||||||||
| 82/410 | curatedMetagenomicData 3.4.2 (landing page) | Lucas schiffer | OK | OK | OK | ||||||||||||||||||||||||||||||
| 83/410 | curatedOvarianData 1.34.0 (landing page) | Levi Waldron | OK | OK | OK | ||||||||||||||||||||||||||||||
| 84/410 | curatedTBData 1.2.0 (landing page) | Xutao Wang | OK | OK | OK | ||||||||||||||||||||||||||||||
| 85/410 | curatedTCGAData 1.18.0 (landing page) | Marcel Ramos | OK | OK | OK | ||||||||||||||||||||||||||||||
|
| ||||||||||||||||||||||||||||||||||
| Package | Maintainer | INSTALL | BUILD | CHECK | |||||||||||||||||||||||||||||||
| 86/410 | DAPARdata 1.26.5 (landing page) | Samuel Wieczorek | OK | OK | OK | ||||||||||||||||||||||||||||||
| 87/410 | davidTiling 1.36.0 (landing page) | Wolfgang Huber | OK | OK | WARNINGS | ||||||||||||||||||||||||||||||
| 88/410 | depmap 1.10.0 (landing page) | Laurent Gatto | OK | OK | OK | ||||||||||||||||||||||||||||||
| 89/410 | derfinderData 2.14.0 (landing page) | Leonardo Collado-Torres | OK | OK | OK | ||||||||||||||||||||||||||||||
| 90/410 | DeSousa2013 1.32.0 (landing page) | Xin Wang | OK | OK | OK | ||||||||||||||||||||||||||||||
| 91/410 | DExMAdata 1.4.0 (landing page) | Juan Antonio Villatoro-García | OK | OK | OK | ||||||||||||||||||||||||||||||
| 92/410 | diffloopdata 1.24.0 (landing page) | Caleb Lareau | OK | OK | OK | ||||||||||||||||||||||||||||||
| 93/410 | diggitdata 1.28.0 (landing page) | Mariano Javier Alvarez | OK | OK | OK | ||||||||||||||||||||||||||||||
| 94/410 | DLBCL 1.36.0 (landing page) | Marcus Dittrich | OK | OK | WARNINGS | ||||||||||||||||||||||||||||||
| 95/410 | DmelSGI 1.28.1 (landing page) | Mike Smith | OK | OK | OK | ||||||||||||||||||||||||||||||
| 96/410 | DMRcatedata 2.14.0 (landing page) | Tim Peters | OK | OK | OK | ||||||||||||||||||||||||||||||
| 97/410 | DonaPLLP2013 1.34.0 (landing page) | Joseph D. Barry | OK | OK | OK | ||||||||||||||||||||||||||||||
| 98/410 | dorothea 1.8.0 (landing page) | Daniel Dimitrov | OK | OK | OK | ||||||||||||||||||||||||||||||
| 99/410 | Paul Shannon | OK | ERROR | skipped | |||||||||||||||||||||||||||||||
| 100/410 | dressCheck 0.34.0 (landing page) | Vincent Carey | OK | OK | OK | ||||||||||||||||||||||||||||||
| 101/410 | DropletTestFiles 1.6.0 (landing page) | Aaron Lun | OK | OK | OK | ||||||||||||||||||||||||||||||
| 102/410 | DrugVsDiseasedata 1.32.0 (landing page) | J. Saez-Rodriguez | OK | OK | OK | ||||||||||||||||||||||||||||||
| 103/410 | DuoClustering2018 1.14.0 (landing page) | Angelo Duò | OK | OK | OK | ||||||||||||||||||||||||||||||
| 104/410 | DvDdata 1.32.0 (landing page) | J. Saez-Rodriguez | OK | OK | WARNINGS | ||||||||||||||||||||||||||||||
| 105/410 | dyebiasexamples 1.36.0 (landing page) | Philip Lijnzaad | OK | OK | WARNINGS | ||||||||||||||||||||||||||||||
|
| ||||||||||||||||||||||||||||||||||
| Package | Maintainer | INSTALL | BUILD | CHECK | |||||||||||||||||||||||||||||||
| 106/410 | easierData 1.2.0 (landing page) | Oscar Lapuente-Santana | OK | OK | OK | ||||||||||||||||||||||||||||||
| 107/410 | EatonEtAlChIPseq 0.34.0 (landing page) | Patrick Aboyoun | OK | OK | WARNINGS | ||||||||||||||||||||||||||||||
| 108/410 | ecoliLeucine 1.36.0 (landing page) | Laurent Gautier | OK | OK | WARNINGS | ||||||||||||||||||||||||||||||
| 109/410 | EGSEAdata 1.24.0 (landing page) | Monther Alhamdoosh | OK | OK | OK | ||||||||||||||||||||||||||||||
| 110/410 | ELMER.data 2.20.0 (landing page) | Tiago Chedraoui Silva | OK | OK | OK | ||||||||||||||||||||||||||||||
| 111/410 | emtdata 1.4.0 (landing page) | Malvika D. Kharbanda | OK | OK | OK | ||||||||||||||||||||||||||||||
| 112/410 | epimutacionsData 1.0.0 (landing page) | Leire Abarrategui | OK | OK | OK | ||||||||||||||||||||||||||||||
| 113/410 | estrogen 1.42.0 (landing page) | Wolfgang Huber | OK | OK | OK | ||||||||||||||||||||||||||||||
| 114/410 | etec16s 1.24.0 (landing page) | Joseph N. Paulson | OK | OK | OK | ||||||||||||||||||||||||||||||
| 115/410 | ewceData 1.4.0 (landing page) | Alan Murphy | OK | OK | OK | ||||||||||||||||||||||||||||||
|
| ||||||||||||||||||||||||||||||||||
| Package | Maintainer | INSTALL | BUILD | CHECK | |||||||||||||||||||||||||||||||
| 116/410 | faahKO 1.36.0 (landing page) | Steffen Neumann | OK | OK | OK | ||||||||||||||||||||||||||||||
| 117/410 | fabiaData 1.34.0 (landing page) | Sepp Hochreiter | OK | OK | OK | ||||||||||||||||||||||||||||||
| 118/410 | FANTOM3and4CAGE 1.32.0 (landing page) | Vanja Haberle | OK | OK | OK | ||||||||||||||||||||||||||||||
| 119/410 | ffpeExampleData 1.34.0 (landing page) | Levi Waldron | OK | OK | OK | ||||||||||||||||||||||||||||||
| 120/410 | fibroEset 1.38.0 (landing page) | Sylvia Merk | OK | OK | WARNINGS | ||||||||||||||||||||||||||||||
| 121/410 | FieldEffectCrc 1.6.0 (landing page) | Christopher Dampier | OK | OK | OK | ||||||||||||||||||||||||||||||
| 122/410 | FIs 1.24.0 (landing page) | Herbert Braselmann | OK | OK | OK | ||||||||||||||||||||||||||||||
| 123/410 | fission 1.16.0 (landing page) | Michael Love | OK | OK | OK | ||||||||||||||||||||||||||||||
| 124/410 | Fletcher2013a 1.32.0 (landing page) | Mauro Castro | OK | OK | OK | ||||||||||||||||||||||||||||||
| 125/410 | Fletcher2013b 1.32.0 (landing page) | Mauro Castro | OK | OK | OK | ||||||||||||||||||||||||||||||
| 126/410 | flowPloidyData 1.22.0 (landing page) | Tyler Smith | OK | OK | OK | ||||||||||||||||||||||||||||||
| 127/410 | FlowSorted.Blood.450k 1.34.0 (landing page) | Andrew E Jaffe | OK | OK | WARNINGS | ||||||||||||||||||||||||||||||
| 128/410 | FlowSorted.Blood.EPIC 2.0.0 (landing page) | Lucas A. Salas | OK | OK | OK | ||||||||||||||||||||||||||||||
| 129/410 | FlowSorted.CordBlood.450k 1.24.0 (landing page) | Shan V. Andrews | OK | OK | WARNINGS | ||||||||||||||||||||||||||||||
| 130/410 | FlowSorted.CordBloodCombined.450k 1.12.0 (landing page) | Lucas A. Salas | OK | OK | OK | ||||||||||||||||||||||||||||||
| 131/410 | FlowSorted.CordBloodNorway.450k 1.22.0 (landing page) | kristina gervin | OK | OK | WARNINGS | ||||||||||||||||||||||||||||||
| 132/410 | FlowSorted.DLPFC.450k 1.32.0 (landing page) | Andrew E Jaffe | OK | OK | WARNINGS | ||||||||||||||||||||||||||||||
| 133/410 | flowWorkspaceData 3.8.0 (landing page) | Mike Jiang | OK | OK | OK | ||||||||||||||||||||||||||||||
| 134/410 | frmaExampleData 1.32.0 (landing page) | Matthew N. McCall | OK | OK | WARNINGS | ||||||||||||||||||||||||||||||
| 135/410 | furrowSeg 1.24.0 (landing page) | Joseph Barry | OK | OK | WARNINGS | ||||||||||||||||||||||||||||||
|
| ||||||||||||||||||||||||||||||||||
| Package | Maintainer | INSTALL | BUILD | CHECK | |||||||||||||||||||||||||||||||
| 136/410 | gageData 2.34.0 (landing page) | Weijun Luo | OK | OK | OK | ||||||||||||||||||||||||||||||
| 137/410 | gaschYHS 1.34.0 (landing page) | Vince Carey | OK | OK | OK | ||||||||||||||||||||||||||||||
| 138/410 | gatingMLData 2.36.0 (landing page) | J. Spidlen | OK | OK | OK | ||||||||||||||||||||||||||||||
| 139/410 | gcspikelite 1.34.0 (landing page) | Mark Robinson | OK | OK | WARNINGS | ||||||||||||||||||||||||||||||
| 140/410 | geneLenDataBase 1.32.0 (landing page) | Matthew Young | OK | OK | WARNINGS | ||||||||||||||||||||||||||||||
| 141/410 | genomationData 1.28.0 (landing page) | Vedran Franke | OK | OK | OK | ||||||||||||||||||||||||||||||
| 142/410 | GenomicDistributionsData 1.4.0 (landing page) | Kristyna Kupkova | OK | OK | WARNINGS | ||||||||||||||||||||||||||||||
| 143/410 | GeuvadisTranscriptExpr 1.24.0 (landing page) | Malgorzata Nowicka | OK | OK | OK | ||||||||||||||||||||||||||||||
| 144/410 | GIGSEAdata 1.14.0 (landing page) | Shijia Zhu | OK | OK | WARNINGS | ||||||||||||||||||||||||||||||
| 145/410 | golubEsets 1.38.0 (landing page) | Vince Carey | OK | OK | OK | ||||||||||||||||||||||||||||||
| 146/410 | gpaExample 1.8.0 (landing page) | Dongjun Chung | OK | OK | OK | ||||||||||||||||||||||||||||||
| 147/410 | grndata 1.28.0 (landing page) | Pau Bellot | OK | OK | WARNINGS | ||||||||||||||||||||||||||||||
| 148/410 | GSBenchMark 1.16.0 (landing page) | Bahman Afsari | OK | OK | OK | ||||||||||||||||||||||||||||||
| 149/410 | GSE103322 1.2.0 (landing page) | Mariano Alvarez | OK | OK | OK | ||||||||||||||||||||||||||||||
| 150/410 | GSE13015 1.4.0 (landing page) | Darawan Rinchai | OK | OK | OK | ||||||||||||||||||||||||||||||
| 151/410 | GSE159526 1.2.0 (landing page) | Victor Yuan | OK | OK | OK | ||||||||||||||||||||||||||||||
| 152/410 | GSE62944 1.24.0 (landing page) | Bioconductor Package Maintainer | OK | OK | OK | ||||||||||||||||||||||||||||||
| 153/410 | GSVAdata 1.32.0 (landing page) | Robert Castelo | OK | OK | OK | ||||||||||||||||||||||||||||||
| 154/410 | GWASdata 1.34.0 (landing page) | Stephanie Gogarten | OK | OK | OK | ||||||||||||||||||||||||||||||
|
| ||||||||||||||||||||||||||||||||||
| Package | Maintainer | INSTALL | BUILD | CHECK | |||||||||||||||||||||||||||||||
| 155/410 | h5vcData 2.16.0 (landing page) | Paul Theodor Pyl | OK | OK | OK | ||||||||||||||||||||||||||||||
| 156/410 | hapmap100khind 1.38.0 (landing page) | Benilton Carvalho | OK | OK | OK | ||||||||||||||||||||||||||||||
| 157/410 | hapmap100kxba 1.38.0 (landing page) | Benilton Carvalho | OK | OK | OK | ||||||||||||||||||||||||||||||
| 158/410 | hapmap500knsp 1.38.0 (landing page) | Benilton Carvalho | OK | OK | OK | ||||||||||||||||||||||||||||||
| 159/410 | hapmap500ksty 1.38.0 (landing page) | Benilton Carvalho | OK | OK | OK | ||||||||||||||||||||||||||||||
| 160/410 | hapmapsnp5 1.38.0 (landing page) | Benilton Carvalho | OK | OK | OK | ||||||||||||||||||||||||||||||
| 161/410 | hapmapsnp6 1.38.0 (landing page) | Benilton Carvalho | OK | OK | OK | ||||||||||||||||||||||||||||||
| 162/410 | harbChIP 1.34.0 (landing page) | VJ Carey | OK | OK | OK | ||||||||||||||||||||||||||||||
| 163/410 | HarmanData 1.24.0 (landing page) | Jason Ross | OK | OK | OK | ||||||||||||||||||||||||||||||
| 164/410 | HarmonizedTCGAData 1.18.0 (landing page) | Tianle Ma | OK | OK | OK | ||||||||||||||||||||||||||||||
| 165/410 | HCAData 1.12.0 (landing page) | Federico Marini | OK | OK | OK | ||||||||||||||||||||||||||||||
| 166/410 | HD2013SGI 1.36.0 (landing page) | Mike Smith | OK | OK | OK | ||||||||||||||||||||||||||||||
| 167/410 | HDCytoData 1.16.0 (landing page) | Lukas M. Weber | OK | OK | OK | ||||||||||||||||||||||||||||||
| 168/410 | healthyControlsPresenceChecker 1.0.0 (landing page) | Davide Chicco | OK | OK | OK | ||||||||||||||||||||||||||||||
| 169/410 | healthyFlowData 1.34.0 (landing page) | Ariful Azad | OK | OK | OK | ||||||||||||||||||||||||||||||
| 170/410 | HEEBOdata 1.34.0 (landing page) | Agnes Paquet | OK | OK | WARNINGS | ||||||||||||||||||||||||||||||
| 171/410 | HelloRangesData 1.22.0 (landing page) | Michael Lawrence | OK | OK | OK | ||||||||||||||||||||||||||||||
| 172/410 | hgu133abarcodevecs 1.34.0 (landing page) | Matthew N. McCall | OK | OK | OK | ||||||||||||||||||||||||||||||
| 173/410 | hgu133plus2barcodevecs 1.34.0 (landing page) | Matthew N. McCall | OK | OK | OK | ||||||||||||||||||||||||||||||
| 174/410 | hgu133plus2CellScore 1.16.0 (landing page) | Nancy Mah | OK | OK | WARNINGS | ||||||||||||||||||||||||||||||
| 175/410 | hgu2beta7 1.36.0 (landing page) | Bioconductor Package Maintainer | OK | OK | WARNINGS | ||||||||||||||||||||||||||||||
| 176/410 | HiCDataHumanIMR90 1.16.0 (landing page) | Nicolas Servant | OK | OK | OK | ||||||||||||||||||||||||||||||
| 177/410 | HiCDataLymphoblast 1.32.0 (landing page) | Borbala Mifsud | OK | OK | OK | ||||||||||||||||||||||||||||||
| 178/410 | HighlyReplicatedRNASeq 1.8.0 (landing page) | Constantin Ahlmann-Eltze | OK | OK | OK | ||||||||||||||||||||||||||||||
| 179/410 | Hiiragi2013 1.32.0 (landing page) | Andrzej Oles | OK | OK | OK | ||||||||||||||||||||||||||||||
| 180/410 | HIVcDNAvantWout03 1.36.0 (landing page) | Chris Fraley | OK | OK | WARNINGS | ||||||||||||||||||||||||||||||
| 181/410 | HMP16SData 1.16.0 (landing page) | Lucas schiffer | OK | OK | OK | ||||||||||||||||||||||||||||||
| 182/410 | HMP2Data 1.10.0 (landing page) | John Stansfield | OK | OK | OK | ||||||||||||||||||||||||||||||
| 183/410 | HSMMSingleCell 1.16.0 (landing page) | Cole Trapnell | OK | OK | WARNINGS | ||||||||||||||||||||||||||||||
| 184/410 | HumanAffyData 1.22.0 (landing page) | Brad Nelms | OK | OK | OK | ||||||||||||||||||||||||||||||
| 185/410 | humanStemCell 0.36.0 (landing page) | R. Gentleman | OK | OK | WARNINGS | ||||||||||||||||||||||||||||||
|
| ||||||||||||||||||||||||||||||||||
| Package | Maintainer | INSTALL | BUILD | CHECK | |||||||||||||||||||||||||||||||
| 186/410 | IHWpaper 1.24.0 (landing page) | Nikos Ignatiadis | OK | OK | OK | ||||||||||||||||||||||||||||||
| 187/410 | Illumina450ProbeVariants.db 1.32.0 (landing page) | Tiffany Morris | OK | OK | OK | ||||||||||||||||||||||||||||||
| 188/410 | IlluminaDataTestFiles 1.34.0 (landing page) | Kasper Daniel Hansen | OK | OK | OK | ||||||||||||||||||||||||||||||
| 189/410 | imcdatasets 1.4.1 (landing page) | Nicolas Damond | ERROR | ERROR | skipped | ||||||||||||||||||||||||||||||
| 190/410 | ITALICSData 2.34.0 (landing page) | Guillem Rigaill | OK | OK | WARNINGS | ||||||||||||||||||||||||||||||
| 191/410 | Iyer517 1.38.0 (landing page) | Vince Carey | OK | OK | OK | ||||||||||||||||||||||||||||||
|
| ||||||||||||||||||||||||||||||||||
| Package | Maintainer | INSTALL | BUILD | CHECK | |||||||||||||||||||||||||||||||
| 192/410 | JASPAR2014 1.32.0 (landing page) | Ge Tan | OK | OK | WARNINGS | ||||||||||||||||||||||||||||||
| 193/410 | JASPAR2016 1.24.0 (landing page) | Ge Tan | OK | OK | OK | ||||||||||||||||||||||||||||||
|
| ||||||||||||||||||||||||||||||||||
| Package | Maintainer | INSTALL | BUILD | CHECK | |||||||||||||||||||||||||||||||
| 194/410 | KEGGandMetacoreDzPathwaysGEO 1.16.0 (landing page) | Gaurav Bhatti | OK | OK | OK | ||||||||||||||||||||||||||||||
| 195/410 | KEGGdzPathwaysGEO 1.34.0 (landing page) | Gaurav Bhatti | OK | OK | OK | ||||||||||||||||||||||||||||||
| 196/410 | kidpack 1.38.0 (landing page) | Wolfgang Huber | OK | OK | WARNINGS | ||||||||||||||||||||||||||||||
| 197/410 | KOdata 1.22.0 (landing page) | Shana White | OK | OK | WARNINGS | ||||||||||||||||||||||||||||||
|
| ||||||||||||||||||||||||||||||||||
| Package | Maintainer | INSTALL | BUILD | CHECK | |||||||||||||||||||||||||||||||
| 198/410 | leeBamViews 1.32.0 (landing page) | VJ Carey | OK | OK | OK | ||||||||||||||||||||||||||||||
| 199/410 | leukemiasEset 1.32.0 (landing page) | Sara Aibar | OK | OK | OK | ||||||||||||||||||||||||||||||
| 200/410 | LiebermanAidenHiC2009 0.34.0 (landing page) | Felix Klein | OK | OK | WARNINGS | ||||||||||||||||||||||||||||||
| 201/410 | ListerEtAlBSseq 1.28.0 (landing page) | Kamal Kishore | OK | OK | WARNINGS | ||||||||||||||||||||||||||||||
| 202/410 | LRcellTypeMarkers 1.4.0 (landing page) | Wenjing Ma | OK | OK | OK | ||||||||||||||||||||||||||||||
| 203/410 | lumiBarnes 1.36.0 (landing page) | Pan Du | OK | OK | WARNINGS | ||||||||||||||||||||||||||||||
| 204/410 | LungCancerACvsSCCGEO 1.32.0 (landing page) | Adi Laurentiu Tarca | OK | OK | OK | ||||||||||||||||||||||||||||||
| 205/410 | LungCancerLines 0.34.0 (landing page) | Cory Barr | OK | OK | OK | ||||||||||||||||||||||||||||||
| 206/410 | lungExpression 0.34.0 (landing page) | Robert Scharpf | OK | OK | OK | ||||||||||||||||||||||||||||||
| 207/410 | lydata 1.22.0 (landing page) | Alex Pickering | OK | OK | OK | ||||||||||||||||||||||||||||||
|
| ||||||||||||||||||||||||||||||||||
| Package | Maintainer | INSTALL | BUILD | CHECK | |||||||||||||||||||||||||||||||
| 208/410 | M3DExampleData 1.22.0 (landing page) | Tallulah Andrews | OK | OK | WARNINGS | ||||||||||||||||||||||||||||||
| 209/410 | macrophage 1.12.0 (landing page) | Michael Love | OK | OK | OK | ||||||||||||||||||||||||||||||
| 210/410 | MACSdata 1.4.0 (landing page) | Qiang Hu | OK | OK | OK | ||||||||||||||||||||||||||||||
| 211/410 | mammaPrintData 1.32.0 (landing page) | Luigi Marchionni | OK | OK | OK | ||||||||||||||||||||||||||||||
| 212/410 | mAPKLData 1.28.0 (landing page) | Argiris Sakellariou | OK | OK | WARNINGS | ||||||||||||||||||||||||||||||
| 213/410 | maqcExpression4plex 1.40.0 (landing page) | Benilton Carvalho | OK | OK | OK | ||||||||||||||||||||||||||||||
| 214/410 | MAQCsubset 1.34.0 (landing page) | VJ Carey | OK | OK | OK | ||||||||||||||||||||||||||||||
| 215/410 | MAQCsubsetILM 1.34.0 (landing page) | Laurent Gatto | OK | OK | OK | ||||||||||||||||||||||||||||||
| 216/410 | mCSEAdata 1.16.0 (landing page) | Jordi Martorell Marugán | OK | OK | WARNINGS | ||||||||||||||||||||||||||||||
| 217/410 | mcsurvdata 1.14.0 (landing page) | Adria Caballe Mestres | OK | OK | OK | ||||||||||||||||||||||||||||||
| 218/410 | MEDIPSData 1.32.0 (landing page) | Lukas Chavez | OK | OK | WARNINGS | ||||||||||||||||||||||||||||||
| 219/410 | MEEBOdata 1.34.0 (landing page) | Agnes Paquet | OK | OK | WARNINGS | ||||||||||||||||||||||||||||||
| 220/410 | MetaGxBreast 1.16.0 (landing page) | Benjamin Haibe-Kains | OK | OK | OK | ||||||||||||||||||||||||||||||
| 221/410 | MetaGxOvarian 1.16.0 (landing page) | Benjamin Haibe-Kains | OK | OK | WARNINGS | ||||||||||||||||||||||||||||||
| 222/410 | MetaGxPancreas 1.16.0 (landing page) | Benjamin Haibe-Kains | OK | OK | OK | ||||||||||||||||||||||||||||||
| 223/410 | metaMSdata 1.32.0 (landing page) | Yann Guitton | OK | OK | OK | ||||||||||||||||||||||||||||||
| 224/410 | MethylAidData 1.28.0 (landing page) | M. van Iterson | OK | OK | OK | ||||||||||||||||||||||||||||||
| 225/410 | methylclockData 1.4.0 (landing page) | Dolors Pelegri-Siso | OK | OK | WARNINGS | ||||||||||||||||||||||||||||||
| 226/410 | MethylSeqData 1.6.0 (landing page) | Peter Hickey | OK | OK | OK | ||||||||||||||||||||||||||||||
| 227/410 | microbiomeDataSets 1.4.0 (landing page) | Leo Lahti | OK | OK | OK | ||||||||||||||||||||||||||||||
| 228/410 | microRNAome 1.18.0 (landing page) | Matthew N. McCall | OK | OK | OK | ||||||||||||||||||||||||||||||
| 229/410 | MIGSAdata 1.20.0 (landing page) | Juan C. Rodriguez | OK | OK | OK | ||||||||||||||||||||||||||||||
| 230/410 | minfiData 0.42.0 (landing page) | Kasper Daniel Hansen | OK | OK | WARNINGS | ||||||||||||||||||||||||||||||
| 231/410 | minfiDataEPIC 1.22.0 (landing page) | Kasper Daniel Hansen | OK | OK | WARNINGS | ||||||||||||||||||||||||||||||
| 232/410 | minionSummaryData 1.26.0 (landing page) | Mike Smith | OK | OK | OK | ||||||||||||||||||||||||||||||
| 233/410 | miRcompData 1.26.0 (landing page) | Matthew N. McCall | OK | OK | OK | ||||||||||||||||||||||||||||||
| 234/410 | miRNATarget 1.34.0 (landing page) | Y-h. Taguchi | OK | OK | OK | ||||||||||||||||||||||||||||||
| 235/410 | MMAPPR2data 1.10.0 (landing page) | Jonathon Hill | OK | OK | OK | ||||||||||||||||||||||||||||||
| 236/410 | MMDiffBamSubset 1.32.0 (landing page) | Gabriele Schweikert | OK | OK | OK | ||||||||||||||||||||||||||||||
| 237/410 | MOFAdata 1.12.0 (landing page) | Britta Velten | OK | OK | OK | ||||||||||||||||||||||||||||||
| 238/410 | mosaicsExample 1.34.0 (landing page) | Dongjun Chung | OK | OK | OK | ||||||||||||||||||||||||||||||
| 239/410 | mouse4302barcodevecs 1.34.0 (landing page) | Matthew N. McCall | OK | OK | OK | ||||||||||||||||||||||||||||||
| 240/410 | MouseGastrulationData 1.10.0 (landing page) | Jonathan Griffiths | OK | OK | OK | ||||||||||||||||||||||||||||||
| 241/410 | MouseThymusAgeing 1.4.0 (landing page) | Mike Morgan | OK | OK | OK | ||||||||||||||||||||||||||||||
| 242/410 | msd16s 1.16.0 (landing page) | Joseph N. Paulson | OK | OK | OK | ||||||||||||||||||||||||||||||
| 243/410 | msdata 0.36.0 (landing page) | Steffen Neumann | OK | OK | OK | ||||||||||||||||||||||||||||||
| 244/410 | msigdb 1.4.0 (landing page) | Dharmesh D. Bhuva | OK | OK | WARNINGS | ||||||||||||||||||||||||||||||
| 245/410 | MSMB 1.14.0 (landing page) | Wolfgang Huber | OK | OK | WARNINGS | ||||||||||||||||||||||||||||||
| 246/410 | msPurityData 1.24.0 (landing page) | Thomas N. Lawson | OK | OK | OK | ||||||||||||||||||||||||||||||
| 247/410 | msqc1 1.24.0 (landing page) | Christian Panse | OK | OK | OK | ||||||||||||||||||||||||||||||
| 248/410 | Meena Choi | OK | ERROR | skipped | |||||||||||||||||||||||||||||||
| 249/410 | mtbls2 1.26.0 (landing page) | Steffen Neumann | OK | OK | WARNINGS | ||||||||||||||||||||||||||||||
| 250/410 | MUGAExampleData 1.16.0 (landing page) | Daniel Gatti | OK | OK | OK | ||||||||||||||||||||||||||||||
| 251/410 | muscData 1.10.0 (landing page) | Helena L. Crowell | OK | OK | WARNINGS | ||||||||||||||||||||||||||||||
| 252/410 | mvoutData 1.32.0 (landing page) | VJ Carey | OK | OK | OK | ||||||||||||||||||||||||||||||
|
| ||||||||||||||||||||||||||||||||||
| Package | Maintainer | INSTALL | BUILD | CHECK | |||||||||||||||||||||||||||||||
| 253/410 | NanoporeRNASeq 1.6.0 (landing page) | Ying Chen | OK | OK | OK | ||||||||||||||||||||||||||||||
| 254/410 | nanotubes 1.12.0 (landing page) | Malte Thodberg | OK | OK | OK | ||||||||||||||||||||||||||||||
| 255/410 | NCIgraphData 1.32.0 (landing page) | Laurent Jacob | OK | OK | WARNINGS | ||||||||||||||||||||||||||||||
| 256/410 | NestLink 1.12.0 (landing page) | Lennart Opitz | OK | OK | OK | ||||||||||||||||||||||||||||||
| 257/410 | Neve2006 0.34.0 (landing page) | VJ Carey | OK | OK | OK | ||||||||||||||||||||||||||||||
| 258/410 | NGScopyData 1.16.0 (landing page) | Xiaobei Zhao | OK | OK | OK | ||||||||||||||||||||||||||||||
| 259/410 | nullrangesData 1.2.0 (landing page) | Michael Love | OK | OK | OK | ||||||||||||||||||||||||||||||
| 260/410 | NxtIRFdata 1.2.0 (landing page) | Alex Chit Hei Wong | OK | OK | OK | ||||||||||||||||||||||||||||||
|
| ||||||||||||||||||||||||||||||||||
| Package | Maintainer | INSTALL | BUILD | CHECK | |||||||||||||||||||||||||||||||
| 261/410 | ObMiTi 1.4.0 (landing page) | Omar Elashkar | OK | OK | OK | ||||||||||||||||||||||||||||||
| 262/410 | oct4 1.12.0 (landing page) | Michael Love | OK | OK | OK | ||||||||||||||||||||||||||||||
| 263/410 | OMICsPCAdata 1.14.0 (landing page) | Subhadeep Das | OK | OK | WARNINGS | ||||||||||||||||||||||||||||||
| 264/410 | OnassisJavaLibs 1.18.0 (landing page) | Eugenia Galeota | OK | OK | OK | ||||||||||||||||||||||||||||||
| 265/410 | optimalFlowData 1.8.0 (landing page) | Hristo Inouzhe | OK | OK | WARNINGS | ||||||||||||||||||||||||||||||
|
| ||||||||||||||||||||||||||||||||||
| Package | Maintainer | INSTALL | BUILD | CHECK | |||||||||||||||||||||||||||||||
| 266/410 | parathyroidSE 1.34.0 (landing page) | Michael Love | OK | OK | OK | ||||||||||||||||||||||||||||||
| 267/410 | pasilla 1.24.0 (landing page) | Alejandro Reyes | OK | OK | WARNINGS | ||||||||||||||||||||||||||||||
| 268/410 | pasillaBamSubset 0.34.0 (landing page) | Hervé Pagès | OK | OK | OK | ||||||||||||||||||||||||||||||
| 269/410 | PasillaTranscriptExpr 1.24.0 (landing page) | Malgorzata Nowicka | OK | OK | OK | ||||||||||||||||||||||||||||||
| 270/410 | PathNetData 1.32.0 (landing page) | Ludwig Geistlinger | OK | OK | OK | ||||||||||||||||||||||||||||||
| 271/410 | PCHiCdata 1.24.0 (landing page) | Mikhail Spivakov | OK | OK | WARNINGS | ||||||||||||||||||||||||||||||
| 272/410 | pcxnData 2.18.0 (landing page) | Sokratis Kariotis | OK | OK | WARNINGS | ||||||||||||||||||||||||||||||
| 273/410 | pd.atdschip.tiling 0.34.0 (landing page) | Kristof De Beuf | OK | OK | WARNINGS | ||||||||||||||||||||||||||||||
| 274/410 | pepDat 1.16.0 (landing page) | Renan Sauteraud | OK | OK | OK | ||||||||||||||||||||||||||||||
| 275/410 | PepsNMRData 1.14.0 (landing page) | Manon Martin | OK | OK | WARNINGS | ||||||||||||||||||||||||||||||
| 276/410 | PhyloProfileData 1.10.0 (landing page) | Vinh Tran | OK | OK | OK | ||||||||||||||||||||||||||||||
| 277/410 | plasFIA 1.24.0 (landing page) | Alexis Delabriere | OK | OK | OK | ||||||||||||||||||||||||||||||
| 278/410 | plotgardenerData 1.2.0 (landing page) | Nicole Kramer | OK | OK | OK | ||||||||||||||||||||||||||||||
| 279/410 | Bioconductor Package Maintainer | OK | OK | WARNINGS | |||||||||||||||||||||||||||||||
| 280/410 | prebsdata 1.32.0 (landing page) | Karolis Uziela | OK | OK | OK | ||||||||||||||||||||||||||||||
| 281/410 | preciseTADhub 1.4.0 (landing page) | Mikhail Dozmorov | OK | OK | OK | ||||||||||||||||||||||||||||||
| 282/410 | PREDAsampledata 0.36.0 (landing page) | Francesco Ferrari | OK | OK | OK | ||||||||||||||||||||||||||||||
| 283/410 | ProData 1.34.0 (landing page) | Xiaochun Li | OK | OK | OK | ||||||||||||||||||||||||||||||
| 284/410 | pRolocdata 1.34.0 (landing page) | Laurent Gatto | OK | OK | OK | ||||||||||||||||||||||||||||||
| 285/410 | prostateCancerCamcap 1.24.0 (landing page) | Mark Dunning | OK | OK | WARNINGS | ||||||||||||||||||||||||||||||
| 286/410 | prostateCancerGrasso 1.24.0 (landing page) | Mark Dunning | OK | OK | WARNINGS | ||||||||||||||||||||||||||||||
| 287/410 | prostateCancerStockholm 1.24.0 (landing page) | Mark Dunning | OK | OK | WARNINGS | ||||||||||||||||||||||||||||||
| 288/410 | prostateCancerTaylor 1.24.0 (landing page) | Mark Dunning | OK | OK | WARNINGS | ||||||||||||||||||||||||||||||
| 289/410 | prostateCancerVarambally 1.24.0 (landing page) | Mark Dunning | OK | OK | WARNINGS | ||||||||||||||||||||||||||||||
| 290/410 | ptairData 1.4.0 (landing page) | camille Roquencourt | OK | OK | OK | ||||||||||||||||||||||||||||||
| 291/410 | PtH2O2lipids 1.22.0 (landing page) | James Collins | OK | OK | ERROR | ||||||||||||||||||||||||||||||
| 292/410 | pumadata 2.32.0 (landing page) | Xuejun liu | OK | OK | OK | ||||||||||||||||||||||||||||||
| 293/410 | PWMEnrich.Dmelanogaster.background 4.30.0 (landing page) | Diego Diez | OK | OK | OK | ||||||||||||||||||||||||||||||
| 294/410 | PWMEnrich.Hsapiens.background 4.30.0 (landing page) | Diego Diez | OK | OK | OK | ||||||||||||||||||||||||||||||
| 295/410 | PWMEnrich.Mmusculus.background 4.30.0 (landing page) | Diego Diez | OK | OK | OK | ||||||||||||||||||||||||||||||
| 296/410 | pwrEWAS.data 1.10.0 (landing page) | Stefan Graw | OK | OK | OK | ||||||||||||||||||||||||||||||
|
| ||||||||||||||||||||||||||||||||||
| Package | Maintainer | INSTALL | BUILD | CHECK | |||||||||||||||||||||||||||||||
| 297/410 | QDNAseq.hg19 1.26.0 (landing page) | Daoud Sie | OK | OK | OK | ||||||||||||||||||||||||||||||
| 298/410 | QDNAseq.mm10 1.26.0 (landing page) | Daoud Sie | OK | OK | OK | ||||||||||||||||||||||||||||||
| 299/410 | qPLEXdata 1.14.0 (landing page) | Kamal Kishore Developer | OK | OK | WARNINGS | ||||||||||||||||||||||||||||||
| 300/410 | QUBICdata 1.24.0 (landing page) | Yu Zhang | OK | OK | OK | ||||||||||||||||||||||||||||||
|
| ||||||||||||||||||||||||||||||||||
| Package | Maintainer | INSTALL | BUILD | CHECK | |||||||||||||||||||||||||||||||
| 301/410 | rcellminerData 2.18.0 (landing page) | Augustin Luna | OK | OK | WARNINGS | ||||||||||||||||||||||||||||||
| 302/410 | RcisTarget.hg19.motifDBs.cisbpOnly.500bp 1.16.0 (landing page) | Sara Aibar | OK | OK | OK | ||||||||||||||||||||||||||||||
| 303/410 | ReactomeGSA.data 1.10.0 (landing page) | Johannes Griss | OK | OK | OK | ||||||||||||||||||||||||||||||
| 304/410 | RegParallel 1.14.0 (landing page) | Kevin Blighe | OK | OK | OK | ||||||||||||||||||||||||||||||
| 305/410 | restfulSEData 1.18.0 (landing page) | Bioconductor Package Maintainer | OK | OK | OK | ||||||||||||||||||||||||||||||
| 306/410 | RforProteomics 1.34.1 (landing page) | Laurent Gatto | OK | OK | WARNINGS | ||||||||||||||||||||||||||||||
| 307/410 | RGMQLlib 1.16.0 (landing page) | Simone Pallotta | OK | OK | OK | ||||||||||||||||||||||||||||||
| 308/410 | rheumaticConditionWOLLBOLD 1.34.0 (landing page) | Alejandro Quiroz-Zarate | OK | OK | OK | ||||||||||||||||||||||||||||||
| 309/410 | RITANdata 1.20.0 (landing page) | Michael Zimmermann | OK | OK | WARNINGS | ||||||||||||||||||||||||||||||
| 310/410 | RLHub 1.2.0 (landing page) | Henry Miller | OK | OK | OK | ||||||||||||||||||||||||||||||
| 311/410 | RMassBankData 1.34.0 (landing page) | Michael Stravs, Emma Schymanski | OK | OK | OK | ||||||||||||||||||||||||||||||
| 312/410 | RNAinteractMAPK 1.34.0 (landing page) | Mike Smith | OK | OK | OK | ||||||||||||||||||||||||||||||
| 313/410 | RNAmodR.Data 1.10.0 (landing page) | Felix G.M. Ernst | OK | OK | OK | ||||||||||||||||||||||||||||||
| 314/410 | RNAseqData.HNRNPC.bam.chr14 0.34.0 (landing page) | Hervé Pagès | OK | OK | OK | ||||||||||||||||||||||||||||||
| 315/410 | RNASeqRData 1.14.0 (landing page) | Kuan-Hao Chao | OK | OK | OK | ||||||||||||||||||||||||||||||
| 316/410 | RnaSeqSampleSizeData 1.28.0 (landing page) | Shilin Zhao | OK | OK | OK | ||||||||||||||||||||||||||||||
| 317/410 | RnBeads.hg19 1.28.0 (landing page) | RnBeadsAnnotationCreator | OK | OK | WARNINGS | ||||||||||||||||||||||||||||||
| 318/410 | RnBeads.hg38 1.28.0 (landing page) | RnBeadsAnnotationCreator | OK | OK | OK | ||||||||||||||||||||||||||||||
| 319/410 | RnBeads.mm10 2.4.1 (landing page) | RnBeads Team | OK | OK | OK | ||||||||||||||||||||||||||||||
| 320/410 | RnBeads.mm9 1.28.0 (landing page) | RnBeadsAnnotationCreator | OK | OK | WARNINGS | ||||||||||||||||||||||||||||||
| 321/410 | RnBeads.rn5 1.28.0 (landing page) | RnBeadsAnnotationCreator | OK | OK | OK | ||||||||||||||||||||||||||||||
| 322/410 | RRBSdata 1.16.0 (landing page) | Katja Hebestreit | OK | OK | OK | ||||||||||||||||||||||||||||||
| 323/410 | rRDPData 1.16.0 (landing page) | Michael Hahsler | OK | OK | OK | ||||||||||||||||||||||||||||||
| 324/410 | RTCGA.clinical 20151101.26.0 (landing page) | Marcin Kosinski | OK | OK | WARNINGS | ||||||||||||||||||||||||||||||
| 325/410 | RTCGA.CNV 1.24.0 (landing page) | Marcin Kosinski | OK | OK | WARNINGS | ||||||||||||||||||||||||||||||
| 326/410 | RTCGA.methylation 1.24.0 (landing page) | Marcin Kosinski | OK | OK | WARNINGS | ||||||||||||||||||||||||||||||
| 327/410 | RTCGA.miRNASeq 1.24.0 (landing page) | Marcin Kosinski | OK | OK | WARNINGS | ||||||||||||||||||||||||||||||
| 328/410 | RTCGA.mRNA 1.24.0 (landing page) | Marcin Kosinski | OK | OK | WARNINGS | ||||||||||||||||||||||||||||||
| 329/410 | RTCGA.mutations 20151101.26.0 (landing page) | Marcin Kosinski | OK | OK | WARNINGS | ||||||||||||||||||||||||||||||
| 330/410 | RTCGA.PANCAN12 1.24.0 (landing page) | Marcin Kosinski | OK | OK | OK | ||||||||||||||||||||||||||||||
| 331/410 | RTCGA.rnaseq 20151101.26.0 (landing page) | Marcin Kosinski | OK | OK | WARNINGS | ||||||||||||||||||||||||||||||
| 332/410 | RTCGA.RPPA 1.24.0 (landing page) | Marcin Kosinski | OK | OK | WARNINGS | ||||||||||||||||||||||||||||||
| 333/410 | RUVnormalizeData 1.16.0 (landing page) | Laurent Jacob | OK | OK | OK | ||||||||||||||||||||||||||||||
|
| ||||||||||||||||||||||||||||||||||
| Package | Maintainer | INSTALL | BUILD | CHECK | |||||||||||||||||||||||||||||||
| 334/410 | sampleClassifierData 1.20.0 (landing page) | Khadija El Amrani | OK | OK | OK | ||||||||||||||||||||||||||||||
| 335/410 | SBGNview.data 1.10.0 (landing page) | Weijun Luo | OK | OK | OK | ||||||||||||||||||||||||||||||
| 336/410 | scanMiRData 1.2.0 (landing page) | Fridolin Gross | OK | OK | OK | ||||||||||||||||||||||||||||||
| 337/410 | scATAC.Explorer 1.2.1 (landing page) | Arrian Gibson-Khademi | OK | OK | OK | ||||||||||||||||||||||||||||||
| 338/410 | SCATEData 1.6.0 (landing page) | Wenpin Hou | OK | OK | OK | ||||||||||||||||||||||||||||||
| 339/410 | SCLCBam 1.28.0 (landing page) | Oscar Krijgsman | OK | OK | OK | ||||||||||||||||||||||||||||||
| 340/410 | scpdata 1.4.0 (landing page) | Christophe Vanderaa | OK | OK | OK | ||||||||||||||||||||||||||||||
| 341/410 | scRNAseq 2.10.0 (landing page) | Aaron Lun | OK | OK | WARNINGS | ||||||||||||||||||||||||||||||
| 342/410 | scTHI.data 1.8.0 (landing page) | Michele Ceccarelli | OK | OK | OK | ||||||||||||||||||||||||||||||
| 343/410 | seq2pathway.data 1.28.0 (landing page) | Arjun Kinstlick | OK | OK | WARNINGS | ||||||||||||||||||||||||||||||
| 344/410 | seqc 1.30.0 (landing page) | Yang Liao | OK | OK | WARNINGS | ||||||||||||||||||||||||||||||
| 345/410 | seqCNA.annot 1.32.0 (landing page) | David Mosen-Ansorena | OK | OK | OK | ||||||||||||||||||||||||||||||
| 346/410 | serumStimulation 1.32.0 (landing page) | Morten Hansen, | OK | OK | OK | ||||||||||||||||||||||||||||||
| 347/410 | sesameData 1.14.0 (landing page) | Wanding Zhou | OK | OK | OK | ||||||||||||||||||||||||||||||
| 348/410 | seventyGeneData 1.32.0 (landing page) | Luigi Marchionni | OK | OK | OK | ||||||||||||||||||||||||||||||
| 349/410 | shinyMethylData 1.16.0 (landing page) | Jean-Philippe Fortin | OK | OK | WARNINGS | ||||||||||||||||||||||||||||||
| 350/410 | signatureSearchData 1.10.0 (landing page) | Brendan Gongol | OK | OK | OK | ||||||||||||||||||||||||||||||
| 351/410 | SimBenchData 1.4.0 (landing page) | Yue Cao | OK | OK | OK | ||||||||||||||||||||||||||||||
| 352/410 | simpIntLists 1.32.0 (landing page) | Kircicegi Korkmaz | OK | OK | WARNINGS | ||||||||||||||||||||||||||||||
| 353/410 | Single.mTEC.Transcriptomes 1.24.0 (landing page) | Alejandro Reyes | OK | OK | OK | ||||||||||||||||||||||||||||||
| 354/410 | SingleCellMultiModal 1.8.0 (landing page) | Marcel Ramos | OK | OK | OK | ||||||||||||||||||||||||||||||
| 355/410 | SingleMoleculeFootprintingData 1.4.0 (landing page) | Guido Barzaghi | OK | OK | OK | ||||||||||||||||||||||||||||||
| 356/410 | SNAData 1.42.0 (landing page) | Denise Scholtens | OK | OK | OK | ||||||||||||||||||||||||||||||
| 357/410 | SNAGEEdata 1.32.0 (landing page) | David Venet | OK | OK | OK | ||||||||||||||||||||||||||||||
| 358/410 | SNPhoodData 1.26.0 (landing page) | Christian Arnold | OK | OK | OK | ||||||||||||||||||||||||||||||
| 359/410 | SomatiCAData 1.34.0 (landing page) | Mengjie Chen | OK | OK | WARNINGS | ||||||||||||||||||||||||||||||
| 360/410 | SomaticCancerAlterations 1.32.0 (landing page) | Julian Gehring | OK | OK | OK | ||||||||||||||||||||||||||||||
| 361/410 | spatialDmelxsim 1.2.0 (landing page) | Michael Love | OK | OK | OK | ||||||||||||||||||||||||||||||
| 362/410 | spatialLIBD 1.8.11 (landing page) | Leonardo Collado-Torres | OK | OK | OK | ||||||||||||||||||||||||||||||
| 363/410 | SpikeIn 1.38.0 (landing page) | Rafael A. Irizarry | OK | OK | WARNINGS | ||||||||||||||||||||||||||||||
| 364/410 | SpikeInSubset 1.36.0 (landing page) | Rafael A. Irizarry | OK | OK | WARNINGS | ||||||||||||||||||||||||||||||
| 365/410 | spqnData 1.8.0 (landing page) | Yi Wang | OK | OK | OK | ||||||||||||||||||||||||||||||
| 366/410 | stemHypoxia 1.32.0 (landing page) | Cristobal Fresno | OK | OK | OK | ||||||||||||||||||||||||||||||
| 367/410 | STexampleData 1.4.5 (landing page) | Lukas M. Weber | OK | OK | OK | ||||||||||||||||||||||||||||||
| 368/410 | stjudem 1.36.0 (landing page) | Joern Toedling | OK | OK | OK | ||||||||||||||||||||||||||||||
| 369/410 | SVM2CRMdata 1.28.0 (landing page) | Guidantonio Malagoli Tagliazucchi | OK | OK | WARNINGS | ||||||||||||||||||||||||||||||
| 370/410 | synapterdata 1.34.0 (landing page) | Laurent Gatto | OK | OK | OK | ||||||||||||||||||||||||||||||
| 371/410 | systemPipeRdata 2.0.1 (landing page) | Thomas Girke | OK | OK | OK | ||||||||||||||||||||||||||||||
|
| ||||||||||||||||||||||||||||||||||
| Package | Maintainer | INSTALL | BUILD | CHECK | |||||||||||||||||||||||||||||||
| 372/410 | TabulaMurisData 1.14.0 (landing page) | Charlotte Soneson | OK | OK | OK | ||||||||||||||||||||||||||||||
| 373/410 | TabulaMurisSenisData 1.2.0 (landing page) | Charlotte Soneson | OK | OK | OK | ||||||||||||||||||||||||||||||
| 374/410 | TargetScoreData 1.32.0 (landing page) | Yue Li | OK | OK | OK | ||||||||||||||||||||||||||||||
| 375/410 | TargetSearchData 1.34.0 (landing page) | Alvaro Cuadros-Inostroza | OK | OK | OK | ||||||||||||||||||||||||||||||
| 376/410 | tartare 1.10.0 (landing page) | Christian Panse | OK | OK | OK | ||||||||||||||||||||||||||||||
| 377/410 | TBX20BamSubset 1.32.0 (landing page) | D. Bindreither | OK | OK | OK | ||||||||||||||||||||||||||||||
| 378/410 | TCGAbiolinksGUI.data 1.16.0 (landing page) | Tiago Chedraoui Silva | OK | OK | OK | ||||||||||||||||||||||||||||||
| 379/410 | TCGAcrcmiRNA 1.16.0 (landing page) | Claudio Isella | OK | OK | OK | ||||||||||||||||||||||||||||||
| 380/410 | TCGAcrcmRNA 1.16.0 (landing page) | Claudio Isella | OK | OK | OK | ||||||||||||||||||||||||||||||
| 381/410 | TCGAMethylation450k 1.32.0 (landing page) | Sean Davis | OK | OK | OK | ||||||||||||||||||||||||||||||
| 382/410 | TCGAWorkflowData 1.20.0 (landing page) | Tiago Chedraoui Silva | OK | OK | WARNINGS | ||||||||||||||||||||||||||||||
| 383/410 | TENxBrainData 1.16.0 (landing page) | Bioconductor Package Maintainer | OK | OK | OK | ||||||||||||||||||||||||||||||
| 384/410 | TENxBUSData 1.10.0 (landing page) | Lambda Moses | OK | OK | OK | ||||||||||||||||||||||||||||||
| 385/410 | TENxPBMCData 1.14.0 (landing page) | Stephanie Hicks | OK | OK | OK | ||||||||||||||||||||||||||||||
| 386/410 | TENxVisiumData 1.4.0 (landing page) | Helena L. Crowell | OK | OK | OK | ||||||||||||||||||||||||||||||
| 387/410 | timecoursedata 1.6.0 (landing page) | Nelle Varoquaux | OK | OK | OK | ||||||||||||||||||||||||||||||
| 388/410 | TimerQuant 1.26.0 (landing page) | Joseph Barry | OK | OK | OK | ||||||||||||||||||||||||||||||
| 389/410 | tinesath1cdf 1.34.0 (landing page) | Tine Casneuf | OK | OK | WARNINGS | ||||||||||||||||||||||||||||||
| 390/410 | tinesath1probe 1.34.0 (landing page) | Tine Casneuf | OK | OK | WARNINGS | ||||||||||||||||||||||||||||||
| 391/410 | tissueTreg 1.16.0 (landing page) | Charles Imbusch | OK | OK | OK | ||||||||||||||||||||||||||||||
| 392/410 | TMExplorer 1.6.2 (landing page) | Erik Christensen | OK | OK | OK | ||||||||||||||||||||||||||||||
| 393/410 | tofsimsData 1.24.0 (landing page) | Lorenz Gerber | OK | OK | WARNINGS | ||||||||||||||||||||||||||||||
| 394/410 | topdownrdata 1.18.0 (landing page) | Sebastian Gibb | OK | OK | OK | ||||||||||||||||||||||||||||||
| 395/410 | tuberculosis 1.2.0 (landing page) | Lucas Schiffer | OK | OK | OK | ||||||||||||||||||||||||||||||
| 396/410 | tweeDEseqCountData 1.34.0 (landing page) | Juan R Gonzalez | OK | OK | OK | ||||||||||||||||||||||||||||||
| 397/410 | tximportData 1.24.0 (landing page) | Michael Love | OK | OK | OK | ||||||||||||||||||||||||||||||
|
| ||||||||||||||||||||||||||||||||||
| Package | Maintainer | INSTALL | BUILD | CHECK | |||||||||||||||||||||||||||||||
| 398/410 | VariantToolsData 1.20.0 (landing page) | Michael Lawrence | OK | OK | OK | ||||||||||||||||||||||||||||||
| 399/410 | VectraPolarisData 1.0.0 (landing page) | Wrobel Julia | OK | OK | OK | ||||||||||||||||||||||||||||||
| 400/410 | vulcandata 1.18.0 (landing page) | Federico M. Giorgi | OK | OK | OK | ||||||||||||||||||||||||||||||
|
| ||||||||||||||||||||||||||||||||||
| Package | Maintainer | INSTALL | BUILD | CHECK | |||||||||||||||||||||||||||||||
| 401/410 | WES.1KG.WUGSC 1.28.0 (landing page) | Yuchao Jiang | OK | OK | OK | ||||||||||||||||||||||||||||||
| 402/410 | WGSmapp 1.8.0 (landing page) | Rujin Wang | OK | OK | WARNINGS | ||||||||||||||||||||||||||||||
|
| ||||||||||||||||||||||||||||||||||
| Package | Maintainer | INSTALL | BUILD | CHECK | |||||||||||||||||||||||||||||||
| 403/410 | xcoredata 1.0.0 (landing page) | Maciej Migdał | OK | OK | OK | ||||||||||||||||||||||||||||||
| 404/410 | XhybCasneuf 1.34.0 (landing page) | Tineke Casneuf | OK | OK | WARNINGS | ||||||||||||||||||||||||||||||
|
| ||||||||||||||||||||||||||||||||||
| Package | Maintainer | INSTALL | BUILD | CHECK | |||||||||||||||||||||||||||||||
| 405/410 | yeastCC 1.36.0 (landing page) | Sandrine Dudoit | OK | OK | WARNINGS | ||||||||||||||||||||||||||||||
| 406/410 | yeastExpData 0.42.0 (landing page) | R. Gentleman | OK | OK | WARNINGS | ||||||||||||||||||||||||||||||
| 407/410 | yeastGSData 0.34.0 (landing page) | R. Gentleman | OK | OK | WARNINGS | ||||||||||||||||||||||||||||||
| 408/410 | yeastNagalakshmi 1.32.0 (landing page) | Bioconductor Package Maintainer | OK | OK | OK | ||||||||||||||||||||||||||||||
| 409/410 | yeastRNASeq 0.34.0 (landing page) | J. Bullard | OK | OK | WARNINGS | ||||||||||||||||||||||||||||||
|
| ||||||||||||||||||||||||||||||||||
| Package | Maintainer | INSTALL | BUILD | CHECK | |||||||||||||||||||||||||||||||
| 410/410 | zebrafishRNASeq 1.16.0 (landing page) | Davide Risso | OK | OK | OK | ||||||||||||||||||||||||||||||