2.2.0Eun-kyung Lee | Linux (SUSE 9.2)  | x86_64 |  OK  |  ERROR  |  | 
| Linux (SUSE 9.2)  | i686 |  OK  |  ERROR  |  | 
| Solaris 2.9  | sparc |  OK  |  ERROR  |  | 
| Linux (SUSE 10.0)  | x86_64 |  OK  |  OK  |  | 
| Windows Server 2003  | x86_64 |  OK  |  ERROR  | [ ERROR ] | 
Using auto-selected zip options ''
---------- Making package arrayQCplot ------------
  adding build stamp to DESCRIPTION
  installing R files
  installing inst files
  installing man source files
  installing indices
  installing help
 >>> Building/Updating help pages for package 'arrayQCplot'
     Formats: text html latex example chm 
  arrayQC.plot                      text    html    latex   example chm
Microsoft HTML Help Compiler 4.74.8702
Compiling d:\biocbld\1.9d\Rpacks\R.INSTALL\arrayQCplot\chm\arrayQCplot.chm
Compile time: 0 minutes, 0 seconds
2	Topics
2	Local links
0	Internet links
1	Graphic
Created d:\biocbld\1.9d\Rpacks\R.INSTALL\arrayQCplot\chm\arrayQCplot.chm, 15,608 bytes
Compression increased file by 9,237 bytes.
  preparing package arrayQCplot for lazy loading
Loading required package: RGtk2
Warning in library(pkg, character.only = TRUE, logical = TRUE, lib.loc = lib.loc) : 
	 there is no package called 'RGtk2'
Error: package 'RGtk2' could not be loaded
Execution halted
make: *** [lazyload] Error 1
*** Installation of arrayQCplot failed ***
Removing 'D:/biocbld/1.9d/R/library/arrayQCplot'