2.2.0Eun-kyung Lee | Linux (SUSE 9.2)  | x86_64 |  OK  |  ERROR  |  | 
| Linux (SUSE 9.2)  | i686 |  OK  |  ERROR  |  | 
| Solaris 2.9  | sparc |  OK  |  ERROR  |  | 
| Linux (SUSE 10.0)  | x86_64 | [ OK ] |  OK  |  | 
| Windows Server 2003  | x86_64 |  OK  |  ERROR  |  ERROR  | 
* checking for file 'arrayQCplot/DESCRIPTION' ... OK
* preparing 'arrayQCplot':
* checking DESCRIPTION meta-information ... OK
* checking whether 'INDEX' is up-to-date ... NO
* use '--force' to overwrite the existing 'INDEX'
* removing junk files
* checking for LF line-endings in source files
* checking for empty or unneeded directories
* building 'arrayQCplot_2.2.0.tar.gz'