Welcome to mirrors.dotsrc.org

All our mirrors of open source software are available via http, https, ftp and an onion service. More information about our mirrors including statistics and contact information is available on our mirror info pages.

For information about dotsrc.org and our other services please go to our website.

Index of /bioconductor/checkResults/release/data-experiment-LATEST/

File Name  ↓ File Size  ↓ Date  ↓ 
Parent directory/--
ALL/-2025-05-01 19:01:37
ALLMLL/-2025-05-01 19:01:37
ARRmData/-2025-05-01 19:01:38
ASICSdata/-2025-05-01 19:01:38
Affyhgu133A2Expr/-2025-05-01 19:01:37
Affyhgu133Plus2Expr/-2025-05-01 19:01:37
Affyhgu133aExpr/-2025-05-01 19:01:37
AffymetrixDataTestFiles/-2025-05-01 19:01:37
Affymoe4302Expr/-2025-05-01 19:01:37
AmpAffyExample/-2025-05-01 19:01:37
AneuFinderData/-2025-05-01 19:01:37
AshkenazimSonChr21/-2025-05-01 19:01:38
AssessORFData/-2025-05-01 19:01:38
BeadArrayUseCases/-2025-05-01 19:01:38
BeadSorted.Saliva.EPIC/-2025-05-01 19:01:38
BioImageDbs/-2025-05-01 19:01:38
BioPlex/-2025-05-01 19:01:38
BloodCancerMultiOmics2017/-2025-05-01 19:01:38
CCl4/-2025-05-01 19:01:38
CLL/-2025-05-01 19:01:38
CLLmethylation/-2025-05-01 19:01:38
COHCAPanno/-2025-05-01 19:01:38
CONFESSdata/-2025-05-01 19:01:38
COPDSexualDimorphism.data/-2025-05-01 19:01:38
COSMIC.67/-2025-05-01 19:01:38
CRCL18/-2025-05-01 19:01:38
CardinalWorkflows/-2025-05-01 19:01:38
CellMapperData/-2025-05-01 19:01:38
ChAMPdata/-2025-05-01 19:01:38
ChIPXpressData/-2025-05-01 19:01:38
ChIPexoQualExample/-2025-05-01 19:01:38
ChimpHumanBrainData/-2025-05-01 19:01:38
CluMSIDdata/-2025-05-01 19:01:38
CoSIAdata/-2025-05-01 19:01:38
ConnectivityMap/-2025-05-01 19:01:38
CopyNeutralIMA/-2025-05-01 19:01:38
CopyhelpeR/-2025-05-01 19:01:38
CytoMethIC/-2025-05-01 19:01:38
DAPARdata/-2025-05-01 19:01:38
DExMAdata/-2025-05-01 19:01:38
DLBCL/-2025-05-01 19:01:38
DMRcatedata/-2025-05-01 19:01:38
DNAZooData/-2025-05-01 19:01:38
DeSousa2013/-2025-05-01 19:01:38
DonaPLLP2013/-2025-05-01 19:01:38
DropletTestFiles/-2025-05-01 19:01:38
DrugVsDiseasedata/-2025-05-01 19:01:38
DuoClustering2018/-2025-05-01 19:01:38
DvDdata/-2025-05-01 19:01:38
EGSEAdata/-2025-05-01 19:01:38
ELMER.data/-2025-05-01 19:01:38
EatonEtAlChIPseq/-2025-05-01 19:01:38
EpiMix.data/-2025-05-01 19:01:38
EpipwR.data/-2025-05-01 19:01:38
FANTOM3and4CAGE/-2025-05-01 19:01:38
FIs/-2025-05-01 19:01:38
FieldEffectCrc/-2025-05-01 19:01:38
Fletcher2013a/-2025-05-01 19:01:38
Fletcher2013b/-2025-05-01 19:01:38
FlowSorted.Blood.450k/-2025-05-01 19:01:38
FlowSorted.Blood.EPIC/-2025-05-01 19:01:38
FlowSorted.CordBlood.450k/-2025-05-01 19:01:38
FlowSorted.CordBloodCombined.450k/-2025-05-01 19:01:38
FlowSorted.CordBloodNorway.450k/-2025-05-01 19:01:38
FlowSorted.DLPFC.450k/-2025-05-01 19:01:38
GIGSEAdata/-2025-05-01 19:01:38
GSBenchMark/-2025-05-01 19:01:38
GSE103322/-2025-05-01 19:01:38
GSE13015/-2025-05-01 19:01:38
GSE159526/-2025-05-01 19:01:38
GSE62944/-2025-05-01 19:01:38
GSVAdata/-2025-05-01 19:01:38
GWASdata/-2025-05-01 19:01:38
GenomicDistributionsData/-2025-05-01 19:01:38
GeuvadisTranscriptExpr/-2025-05-01 19:01:38
HCAData/-2025-05-01 19:01:38
HCATonsilData/-2025-05-01 19:01:38
HD2013SGI/-2025-05-01 19:01:38
HDCytoData/-2025-05-01 19:01:38
HEEBOdata/-2025-05-01 19:01:38
HIVcDNAvantWout03/-2025-05-01 19:01:38
HMP16SData/-2025-05-01 19:01:38
HMP2Data/-2025-05-01 19:01:38
HSMMSingleCell/-2025-05-01 19:01:38
HarmanData/-2025-05-01 19:01:38
HarmonizedTCGAData/-2025-05-01 19:01:38
HelloRangesData/-2025-05-01 19:01:38
HiBED/-2025-05-01 19:01:38
HiCDataHumanIMR90/-2025-05-01 19:01:38
HiCDataLymphoblast/-2025-05-01 19:01:38
HiContactsData/-2025-05-01 19:01:38
HighlyReplicatedRNASeq/-2025-05-01 19:01:38
Hiiragi2013/-2025-05-01 19:01:38
HumanAffyData/-2025-05-01 19:01:38
IHWpaper/-2025-05-01 19:01:38
ITALICSData/-2025-05-01 19:01:38
Illumina450ProbeVariants.db/-2025-05-01 19:01:38
IlluminaDataTestFiles/-2025-05-01 19:01:38
Iyer517/-2025-05-01 19:01:38
JASPAR2014/-2025-05-01 19:01:38
JASPAR2016/-2025-05-01 19:01:38
JohnsonKinaseData/-2025-05-01 19:01:38
KEGGandMetacoreDzPathwaysGEO/-2025-05-01 19:01:38
KEGGdzPathwaysGEO/-2025-05-01 19:01:38
KOdata/-2025-05-01 19:01:38
LRcellTypeMarkers/-2025-05-01 19:01:38
LegATo/-2025-05-01 19:01:38
LiebermanAidenHiC2009/-2025-05-01 19:01:38
ListerEtAlBSseq/-2025-05-01 19:01:38
LungCancerACvsSCCGEO/-2025-05-01 19:01:38
LungCancerLines/-2025-05-01 19:01:38
M3DExampleData/-2025-05-01 19:01:38
MACSdata/-2025-05-01 19:01:38
MAQCsubset/-2025-05-01 19:01:38
MEDIPSData/-2025-05-01 19:01:38
MEEBOdata/-2025-05-01 19:01:38
MMDiffBamSubset/-2025-05-01 19:01:38
MOFAdata/-2025-05-01 19:01:38
MSMB/-2025-05-01 19:01:39
MUGAExampleData/-2025-05-01 19:01:39
MerfishData/-2025-05-01 19:01:38
MetaGxBreast/-2025-05-01 19:01:38
MetaGxOvarian/-2025-05-01 19:01:38
MetaGxPancreas/-2025-05-01 19:01:38
MetaScope/-2025-05-01 19:01:38
MethylAidData/-2025-05-01 19:01:38
MethylSeqData/-2025-05-01 19:01:38
MicrobiomeBenchmarkData/-2025-05-01 19:01:38
MouseAgingData/-2025-05-01 19:01:38
MouseGastrulationData/-2025-05-01 19:01:38
MouseThymusAgeing/-2025-05-01 19:01:38
NCIgraphData/-2025-05-01 19:01:39
NGScopyData/-2025-05-01 19:01:39
NanoporeRNASeq/-2025-05-01 19:01:39
NestLink/-2025-05-01 19:01:39
NetActivityData/-2025-05-01 19:01:39
Neve2006/-2025-05-01 19:01:39
NxtIRFdata/-2025-05-01 19:01:39
OMICsPCAdata/-2025-05-01 19:01:39
ObMiTi/-2025-05-01 19:01:39
OnassisJavaLibs/-2025-05-01 19:01:39
PCHiCdata/-2025-05-01 19:01:39
PREDAsampledata/-2025-05-01 19:01:39
PWMEnrich.Dmelanogaster.background/-2025-05-01 19:01:39
PWMEnrich.Hsapiens.background/-2025-05-01 19:01:39
PWMEnrich.Mmusculus.background/-2025-05-01 19:01:39
PasillaTranscriptExpr/-2025-05-01 19:01:39
PathNetData/-2025-05-01 19:01:39
PepsNMRData/-2025-05-01 19:01:39
PhyloProfileData/-2025-05-01 19:01:39
ProData/-2025-05-01 19:01:39
ProteinGymR/-2025-05-01 19:01:39
PtH2O2lipids/-2025-05-01 19:01:39
QDNAseq.hg19/-2025-05-01 19:01:39
QDNAseq.mm10/-2025-05-01 19:01:39
QUBICdata/-2025-05-01 19:01:39
RGMQLlib/-2025-05-01 19:01:39
RITANdata/-2025-05-01 19:01:39
RMassBankData/-2025-05-01 19:01:39
RNAmodR.Data/-2025-05-01 19:01:39
RNAseqData.HNRNPC.bam.chr14/-2025-05-01 19:01:39
RRBSdata/-2025-05-01 19:01:39
RTCGA.CNV/-2025-05-01 19:01:39
RTCGA.PANCAN12/-2025-05-01 19:01:39
RTCGA.RPPA/-2025-05-01 19:01:39
RTCGA.clinical/-2025-05-01 19:01:39
RTCGA.mRNA/-2025-05-01 19:01:39
RTCGA.methylation/-2025-05-01 19:01:39
RTCGA.miRNASeq/-2025-05-01 19:01:39
RTCGA.mutations/-2025-05-01 19:01:39
RTCGA.rnaseq/-2025-05-01 19:01:39
RUVnormalizeData/-2025-05-01 19:01:39
RcisTarget.hg19.motifDBs.cisbpOnly.500bp/-2025-05-01 19:01:39
ReactomeGSA.data/-2025-05-01 19:01:39
RegParallel/-2025-05-01 19:01:39
RforProteomics/-2025-05-01 19:01:39
RnBeads.hg19/-2025-05-01 19:01:39
RnBeads.hg38/-2025-05-01 19:01:39
RnBeads.mm10/-2025-05-01 19:01:39
RnBeads.mm9/-2025-05-01 19:01:39
RnBeads.rn5/-2025-05-01 19:01:39
RnaSeqSampleSizeData/-2025-05-01 19:01:39
SBGNview.data/-2025-05-01 19:01:39
SCLCBam/-2025-05-01 19:01:39
SFEData/-2025-05-01 19:01:39
SNAData/-2025-05-01 19:01:39
SNAGEEdata/-2025-05-01 19:01:39
SNPhoodData/-2025-05-01 19:01:39
STexampleData/-2025-05-01 19:01:39
SVM2CRMdata/-2025-05-01 19:01:39
SimBenchData/-2025-05-01 19:01:39
Single.mTEC.Transcriptomes/-2025-05-01 19:01:39
SingleCellMultiModal/-2025-05-01 19:01:39
SingleMoleculeFootprintingData/-2025-05-01 19:01:39
SomatiCAData/-2025-05-01 19:01:39
SomaticCancerAlterations/-2025-05-01 19:01:39
SpatialDatasets/-2025-05-01 19:01:39
SpikeIn/-2025-05-01 19:01:39
SpikeInSubset/-2025-05-01 19:01:39
SubcellularSpatialData/-2025-05-01 19:01:39
TBX20BamSubset/-2025-05-01 19:01:39
TCGAMethylation450k/-2025-05-01 19:01:39
TCGAWorkflowData/-2025-05-01 19:01:39
TCGAbiolinksGUI.data/-2025-05-01 19:01:39
TCGAcrcmRNA/-2025-05-01 19:01:39
TCGAcrcmiRNA/-2025-05-01 19:01:39
TENET.ExperimentHub/-2025-05-01 19:01:39
TENxBUSData/-2025-05-01 19:01:39
TENxBrainData/-2025-05-01 19:01:39
TENxPBMCData/-2025-05-01 19:01:39
TENxVisiumData/-2025-05-01 19:01:39
TENxXeniumData/-2025-05-01 19:01:39
TMExplorer/-2025-05-01 19:01:39
TabulaMurisData/-2025-05-01 19:01:39
TabulaMurisSenisData/-2025-05-01 19:01:39
TargetScoreData/-2025-05-01 19:01:39
TargetSearchData/-2025-05-01 19:01:39
TimerQuant/-2025-05-01 19:01:39
TransOmicsData/-2025-05-01 19:01:39
TumourMethData/-2025-05-01 19:01:39
VariantToolsData/-2025-05-01 19:01:39
VectraPolarisData/-2025-05-01 19:01:39
WES.1KG.WUGSC/-2025-05-01 19:01:39
WGSmapp/-2025-05-01 19:01:39
WeberDivechaLCdata/-2025-05-01 19:01:39
XhybCasneuf/-2025-05-01 19:01:39
adductData/-2025-05-01 19:01:37
affycompData/-2025-05-01 19:01:37
affydata/-2025-05-01 19:01:37
airway/-2025-05-01 19:01:37
antiProfilesData/-2025-05-01 19:01:38
aracne.networks/-2025-05-01 19:01:38
bcellViper/-2025-05-01 19:01:38
beadarrayExampleData/-2025-05-01 19:01:38
benchmarkfdrData2019/-2025-05-01 19:01:38
beta7/-2025-05-01 19:01:38
biotmleData/-2025-05-01 19:01:38
biscuiteerData/-2025-05-01 19:01:38
bladderbatch/-2025-05-01 19:01:38
blimaTestingData/-2025-05-01 19:01:38
bodymapRat/-2025-05-01 19:01:38
breakpointRdata/-2025-05-01 19:01:38
breastCancerMAINZ/-2025-05-01 19:01:38
breastCancerNKI/-2025-05-01 19:01:38
breastCancerTRANSBIG/-2025-05-01 19:01:38
breastCancerUNT/-2025-05-01 19:01:38
breastCancerUPP/-2025-05-01 19:01:38
breastCancerVDX/-2025-05-01 19:01:38
brgedata/-2025-05-01 19:01:38
bronchialIL13/-2025-05-01 19:01:38
bsseqData/-2025-05-01 19:01:38
bugphyzz/-2025-05-01 19:01:38
cMap2data/-2025-05-01 19:01:38
cancerdata/-2025-05-01 19:01:38
ccdata/-2025-05-01 19:01:38
celarefData/-2025-05-01 19:01:38
celldex/-2025-05-01 19:01:38
cfToolsData/-2025-05-01 19:01:38
chipenrich.data/-2025-05-01 19:01:38
chipseqDBData/-2025-05-01 19:01:38
chromstaRData/-2025-05-01 19:01:38
clustifyrdatahub/-2025-05-01 19:01:38
cnvGSAdata/-2025-05-01 19:01:38
colonCA/-2025-05-01 19:01:38
crisprScoreData/-2025-05-01 19:01:38
curatedAdipoArray/-2025-05-01 19:01:38
curatedAdipoChIP/-2025-05-01 19:01:38
curatedAdipoRNA/-2025-05-01 19:01:38
curatedBladderData/-2025-05-01 19:01:38
curatedBreastData/-2025-05-01 19:01:38
curatedCRCData/-2025-05-01 19:01:38
curatedMetagenomicData/-2025-05-01 19:01:38
curatedOvarianData/-2025-05-01 19:01:38
curatedPCaData/-2025-05-01 19:01:38
curatedTBData/-2025-05-01 19:01:38
curatedTCGAData/-2025-05-01 19:01:38
davidTiling/-2025-05-01 19:01:38
depmap/-2025-05-01 19:01:38
derfinderData/-2025-05-01 19:01:38
diffloopdata/-2025-05-01 19:01:38
diggitdata/-2025-05-01 19:01:38
dorothea/-2025-05-01 19:01:38
dressCheck/-2025-05-01 19:01:38
dyebiasexamples/-2025-05-01 19:01:38
easierData/-2025-05-01 19:01:38
ecoliLeucine/-2025-05-01 19:01:38
emtdata/-2025-05-01 19:01:38
eoPredData/-2025-05-01 19:01:38
epimutacionsData/-2025-05-01 19:01:38
estrogen/-2025-05-01 19:01:38
etec16s/-2025-05-01 19:01:38
ewceData/-2025-05-01 19:01:38
faahKO/-2025-05-01 19:01:38
fabiaData/-2025-05-01 19:01:38
ffpeExampleData/-2025-05-01 19:01:38
fibroEset/-2025-05-01 19:01:38
fission/-2025-05-01 19:01:38
flowPloidyData/-2025-05-01 19:01:38
flowWorkspaceData/-2025-05-01 19:01:38
fourDNData/-2025-05-01 19:01:38
frmaExampleData/-2025-05-01 19:01:38
furrowSeg/-2025-05-01 19:01:38
gDNAinRNAseqData/-2025-05-01 19:01:38
gDRtestData/-2025-05-01 19:01:38
gageData/-2025-05-01 19:01:38
gaschYHS/-2025-05-01 19:01:38
gcspikelite/-2025-05-01 19:01:38
geneLenDataBase/-2025-05-01 19:01:38
genomationData/-2025-05-01 19:01:38
golubEsets/-2025-05-01 19:01:38
gpaExample/-2025-05-01 19:01:38
grndata/-2025-05-01 19:01:38
h5vcData/-2025-05-01 19:01:38
hapmap100khind/-2025-05-01 19:01:38
hapmap100kxba/-2025-05-01 19:01:38
hapmap500knsp/-2025-05-01 19:01:38
hapmap500ksty/-2025-05-01 19:01:38
hapmapsnp5/-2025-05-01 19:01:38
hapmapsnp6/-2025-05-01 19:01:38
harbChIP/-2025-05-01 19:01:38
healthyControlsPresenceChecker/-2025-05-01 19:01:38
healthyFlowData/-2025-05-01 19:01:38
hgu133abarcodevecs/-2025-05-01 19:01:38
hgu133plus2CellScore/-2025-05-01 19:01:38
hgu133plus2barcodevecs/-2025-05-01 19:01:38
hgu2beta7/-2025-05-01 19:01:38
homosapienDEE2CellScore/-2025-05-01 19:01:38
humanHippocampus2024/-2025-05-01 19:01:38
humanStemCell/-2025-05-01 19:01:38
imcdatasets/-2025-05-01 19:01:38
kidpack/-2025-05-01 19:01:38
leeBamViews/-2025-05-01 19:01:38
leukemiasEset/-2025-05-01 19:01:38
lumiBarnes/-2025-05-01 19:01:38
lungExpression/-2025-05-01 19:01:38
lydata/-2025-05-01 19:01:38
mCSEAdata/-2025-05-01 19:01:38
macrophage/-2025-05-01 19:01:38
mammaPrintData/-2025-05-01 19:01:38
maqcExpression4plex/-2025-05-01 19:01:38
marinerData/-2025-05-01 19:01:38
mcsurvdata/-2025-05-01 19:01:38
metaMSdata/-2025-05-01 19:01:38
methylclockData/-2025-05-01 19:01:38
miRNATarget/-2025-05-01 19:01:38
miRcompData/-2025-05-01 19:01:38
microRNAome/-2025-05-01 19:01:38
microbiomeDataSets/-2025-05-01 19:01:38
minfiData/-2025-05-01 19:01:38
minfiDataEPIC/-2025-05-01 19:01:38
minionSummaryData/-2025-05-01 19:01:38
mosaicsExample/-2025-05-01 19:01:38
mouse4302barcodevecs/-2025-05-01 19:01:38
msPurityData/-2025-05-01 19:01:39
msd16s/-2025-05-01 19:01:38
msdata/-2025-05-01 19:01:39
msigdb/-2025-05-01 19:01:39
msqc1/-2025-05-01 19:01:39
mtbls2/-2025-05-01 19:01:39
muSpaData/-2025-05-01 19:01:39
muleaData/-2025-05-01 19:01:39
multiWGCNAdata/-2025-05-01 19:01:39
muscData/-2025-05-01 19:01:39
mvoutData/-2025-05-01 19:01:39
nanotubes/-2025-05-01 19:01:39
nullrangesData/-2025-05-01 19:01:39
oct4/-2025-05-01 19:01:39
octad.db/-2025-05-01 19:01:39
optimalFlowData/-2025-05-01 19:01:39
orthosData/-2025-05-01 19:01:39
pRolocdata/-2025-05-01 19:01:39
parathyroidSE/-2025-05-01 19:01:39
pasilla/-2025-05-01 19:01:39
pasillaBamSubset/-2025-05-01 19:01:39
pd.atdschip.tiling/-2025-05-01 19:01:39
pepDat/-2025-05-01 19:01:39
plotgardenerData/-2025-05-01 19:01:39
prebsdata/-2025-05-01 19:01:39
preciseTADhub/-2025-05-01 19:01:39
prostateCancerCamcap/-2025-05-01 19:01:39
prostateCancerGrasso/-2025-05-01 19:01:39
prostateCancerStockholm/-2025-05-01 19:01:39
prostateCancerTaylor/-2025-05-01 19:01:39
prostateCancerVarambally/-2025-05-01 19:01:39
ptairData/-2025-05-01 19:01:39
pumadata/-2025-05-01 19:01:39
qPLEXdata/-2025-05-01 19:01:39
rRDPData/-2025-05-01 19:01:39
raerdata/-2025-05-01 19:01:39
rcellminerData/-2025-05-01 19:01:39
rheumaticConditionWOLLBOLD/-2025-05-01 19:01:39
sampleClassifierData/-2025-05-01 19:01:39
scATAC.Explorer/-2025-05-01 19:01:39
scMultiome/-2025-05-01 19:01:39
scRNAseq/-2025-05-01 19:01:39
scTHI.data/-2025-05-01 19:01:39
scaeData/-2025-05-01 19:01:39
scanMiRData/-2025-05-01 19:01:39
scpdata/-2025-05-01 19:01:39
seq2pathway.data/-2025-05-01 19:01:39
seqc/-2025-05-01 19:01:39
serumStimulation/-2025-05-01 19:01:39
sesameData/-2025-05-01 19:01:39
seventyGeneData/-2025-05-01 19:01:39
shinyMethylData/-2025-05-01 19:01:39
signatureSearchData/-2025-05-01 19:01:39
simpIntLists/-2025-05-01 19:01:39
smokingMouse/-2025-05-01 19:01:39
spatialDmelxsim/-2025-05-01 19:01:39
spatialLIBD/-2025-05-01 19:01:39
spqnData/-2025-05-01 19:01:39
stemHypoxia/-2025-05-01 19:01:39
synapterdata/-2025-05-01 19:01:39
systemPipeRdata/-2025-05-01 19:01:39
tartare/-2025-05-01 19:01:39
timecoursedata/-2025-05-01 19:01:39
tinesath1cdf/-2025-05-01 19:01:39
tinesath1probe/-2025-05-01 19:01:39
tissueTreg/-2025-05-01 19:01:39
tofsimsData/-2025-05-01 19:01:39
topdownrdata/-2025-05-01 19:01:39
tuberculosis/-2025-05-01 19:01:39
tweeDEseqCountData/-2025-05-01 19:01:39
tximportData/-2025-05-01 19:01:39
vulcandata/-2025-05-01 19:01:39
xcoredata/-2025-05-01 19:01:39
yeastCC/-2025-05-01 19:01:39
yeastExpData/-2025-05-01 19:01:39
yeastGSData/-2025-05-01 19:01:39
yeastNagalakshmi/-2025-05-01 19:01:39
yeastRNASeq/-2025-05-01 19:01:39
zebrafishRNASeq/-2025-05-01 19:01:39
120px-Blue_Light_Icon.svg.png7.1 KiB2025-05-01 19:01:37
120px-Green_Light_Icon.svg.png7.1 KiB2025-05-01 19:01:37
120px-Red_Light_Icon.svg.png7.0 KiB2025-05-01 19:01:37
BUILD_STATUS_DB.txt47.2 KiB2025-05-01 19:01:37
DEVEL3b.png2.6 KiB2025-05-01 19:01:37
PROPAGATION_STATUS_DB.txt31.4 KiB2025-05-01 19:01:37
Renviron.bioc3.3 KiB2025-05-01 19:01:37
index.html598.5 KiB2025-05-01 19:01:39
meat-index.dcf46.5 KiB2025-05-01 19:01:37
nebbiolo1-NodeInfo.html7.0 KiB2025-05-01 19:01:37
nebbiolo1-R-instpkgs.html529.4 KiB2025-05-01 19:01:37
report.css11.0 KiB2025-05-01 19:01:37
report.js6.0 KiB2025-05-01 19:01:37
report.tgz1.2 MiB2025-05-01 19:01:42
skipped-index.dcf0 B2025-05-01 19:01:37