This page was generated on 2025-10-16 15:01 -0400 (Thu, 16 Oct 2025).
| |
| See this page for all the Bioconductor builds and their schedule. |
| Hostname | OS | Arch (*) | R version | Installed pkgs |
|---|---|---|---|---|
| nebbiolo1 | Linux (Ubuntu 24.04.3 LTS) | x86_64 | 4.5.1 (2025-06-13) -- "Great Square Root" | 4833 |
| Click on any hostname to see more info about the system (e.g. compilers) (*) as reported by 'uname -p', except on Windows and Mac OS X | ||||
A | |||||||||
| QUICK STATS | OS / Arch | INSTALL | BUILD | CHECK | |||||||||||||||||||||||||||||||
| nebbiolo1 | Linux (Ubuntu 24.04.3 LTS) / x86_64 |
|
|
| |||||||||||||||||||||||||||||||
|
| ||||||||||||||||||||||||||||||||||
| Package | Maintainer | INSTALL | BUILD | CHECK | |||||||||||||||||||||||||||||||
| 1/432 | adductData 1.24.0 (landing page) | Josie Hayes | OK | OK | OK | ||||||||||||||||||||||||||||||
| 2/432 | affycompData 1.46.0 (landing page) | Robert D Shear | OK | OK | OK | ||||||||||||||||||||||||||||||
| 3/432 | affydata 1.56.0 (landing page) | Robert D Shear | OK | OK | WARNINGS | ||||||||||||||||||||||||||||||
| 4/432 | Affyhgu133A2Expr 1.44.0 (landing page) | Zhicheng Ji | OK | OK | OK | ||||||||||||||||||||||||||||||
| 5/432 | Affyhgu133aExpr 1.46.0 (landing page) | Zhicheng Ji | OK | OK | OK | ||||||||||||||||||||||||||||||
| 6/432 | Affyhgu133Plus2Expr 1.42.0 (landing page) | Zhicheng Ji | OK | OK | OK | ||||||||||||||||||||||||||||||
| 7/432 | AffymetrixDataTestFiles 0.46.0 (landing page) | Henrik Bengtsson | OK | OK | OK | ||||||||||||||||||||||||||||||
| 8/432 | Affymoe4302Expr 1.46.0 (landing page) | Zhicheng Ji | OK | OK | OK | ||||||||||||||||||||||||||||||
| 9/432 | airway 1.28.0 (landing page) | Michael Love | OK | OK | WARNINGS | ||||||||||||||||||||||||||||||
| 10/432 | ALL 1.50.0 (landing page) | Robert Gentleman | OK | OK | OK | ||||||||||||||||||||||||||||||
| 11/432 | ALLMLL 1.48.0 (landing page) | B. M. Bolstad | OK | OK | OK | ||||||||||||||||||||||||||||||
| 12/432 | AmpAffyExample 1.48.0 (landing page) | Robert D Shear | OK | OK | WARNINGS | ||||||||||||||||||||||||||||||
| 13/432 | AneuFinderData 1.36.0 (landing page) | Aaron Taudt | OK | OK | WARNINGS | ||||||||||||||||||||||||||||||
| 14/432 | antiProfilesData 1.44.0 (landing page) | Hector Corrada Bravo | OK | OK | OK | ||||||||||||||||||||||||||||||
| 15/432 | aracne.networks 1.34.0 (landing page) | Federico M. Giorgi | OK | OK | WARNINGS | ||||||||||||||||||||||||||||||
| 16/432 | ARRmData 1.44.0 (landing page) | Jean-Philippe Fortin | OK | OK | OK | ||||||||||||||||||||||||||||||
| 17/432 | AshkenazimSonChr21 1.38.0 (landing page) | Who to complain to | OK | OK | OK | ||||||||||||||||||||||||||||||
| 18/432 | ASICSdata 1.28.0 (landing page) | Gaëlle Lefort | OK | OK | OK | ||||||||||||||||||||||||||||||
| 19/432 | AssessORFData 1.26.0 (landing page) | Nicholas Cooley | OK | OK | OK | ||||||||||||||||||||||||||||||
|
| ||||||||||||||||||||||||||||||||||
| Package | Maintainer | INSTALL | BUILD | CHECK | |||||||||||||||||||||||||||||||
| 20/432 | bcellViper 1.44.0 (landing page) | Mariano Javier Alvarez | OK | OK | OK | ||||||||||||||||||||||||||||||
| 21/432 | beadarrayExampleData 1.46.0 (landing page) | Mark Dunning | OK | OK | OK | ||||||||||||||||||||||||||||||
| 22/432 | BeadArrayUseCases 1.46.0 (landing page) | Mike Smith | OK | OK | OK | ||||||||||||||||||||||||||||||
| 23/432 | BeadSorted.Saliva.EPIC 1.16.0 (landing page) | Jonah Fisher | OK | OK | OK | ||||||||||||||||||||||||||||||
| 24/432 | Stephanie Hicks | OK | ERROR | skipped | |||||||||||||||||||||||||||||||
| 25/432 | beta7 1.46.0 (landing page) | Jean Yang | OK | OK | WARNINGS | ||||||||||||||||||||||||||||||
| 26/432 | BioImageDbs 1.16.0 (landing page) | Satoshi Kume | OK | OK | OK | ||||||||||||||||||||||||||||||
| 27/432 | BioPlex 1.14.0 (landing page) | Ludwig Geistlinger | OK | OK | OK | ||||||||||||||||||||||||||||||
| 28/432 | biotmleData 1.32.0 (landing page) | Nima Hejazi | OK | OK | WARNINGS | ||||||||||||||||||||||||||||||
| 29/432 | biscuiteerData 1.22.0 (landing page) | "Jacob Morrison" | OK | OK | OK | ||||||||||||||||||||||||||||||
| 30/432 | bladderbatch 1.46.0 (landing page) | Jeffrey T. Leek | OK | OK | WARNINGS | ||||||||||||||||||||||||||||||
| 31/432 | blimaTestingData 1.28.0 (landing page) | Vojtech Kulvait | OK | OK | OK | ||||||||||||||||||||||||||||||
| 32/432 | BloodCancerMultiOmics2017 1.28.0 (landing page) | Małgorzata Oleś | OK | OK | WARNINGS | ||||||||||||||||||||||||||||||
| 33/432 | bodymapRat 1.24.0 (landing page) | Stephanie Hicks | OK | OK | OK | ||||||||||||||||||||||||||||||
| 34/432 | breakpointRdata 1.26.0 (landing page) | David Porubsky | OK | OK | OK | ||||||||||||||||||||||||||||||
| 35/432 | breastCancerMAINZ 1.46.0 (landing page) | Markus Schroeder | OK | OK | WARNINGS | ||||||||||||||||||||||||||||||
| 36/432 | breastCancerNKI 1.46.0 (landing page) | Markus Schroeder | OK | OK | WARNINGS | ||||||||||||||||||||||||||||||
| 37/432 | breastCancerTRANSBIG 1.46.0 (landing page) | Markus Schroeder | OK | OK | WARNINGS | ||||||||||||||||||||||||||||||
| 38/432 | breastCancerUNT 1.46.0 (landing page) | Markus Schroeder | OK | OK | WARNINGS | ||||||||||||||||||||||||||||||
| 39/432 | breastCancerUPP 1.46.0 (landing page) | Markus Schroeder | OK | OK | WARNINGS | ||||||||||||||||||||||||||||||
| 40/432 | breastCancerVDX 1.46.0 (landing page) | Markus Schroeder | OK | OK | WARNINGS | ||||||||||||||||||||||||||||||
| 41/432 | brgedata 1.30.0 (landing page) | Dolors Pelegri-Siso | OK | OK | WARNINGS | ||||||||||||||||||||||||||||||
| 42/432 | bronchialIL13 1.46.0 (landing page) | Vince Carey | OK | OK | OK | ||||||||||||||||||||||||||||||
| 43/432 | bsseqData 0.46.0 (landing page) | Kasper Daniel Hansen | OK | OK | WARNINGS | ||||||||||||||||||||||||||||||
| 44/432 | bugphyzz 1.2.0 (landing page) | Samuel Gamboa | OK | OK | OK | ||||||||||||||||||||||||||||||
|
| ||||||||||||||||||||||||||||||||||
| Package | Maintainer | INSTALL | BUILD | CHECK | |||||||||||||||||||||||||||||||
| 45/432 | cancerdata 1.46.0 (landing page) | Daniel Kosztyla | OK | OK | OK | ||||||||||||||||||||||||||||||
| 46/432 | CardinalWorkflows 1.40.0 (landing page) | Kylie A. Bemis | OK | OK | OK | ||||||||||||||||||||||||||||||
| 47/432 | ccdata 1.34.0 (landing page) | Alex Pickering | OK | OK | WARNINGS | ||||||||||||||||||||||||||||||
| 48/432 | CCl4 1.46.0 (landing page) | Audrey Kauffmann | OK | OK | WARNINGS | ||||||||||||||||||||||||||||||
| 49/432 | celarefData 1.26.0 (landing page) | Sarah Williams | OK | OK | OK | ||||||||||||||||||||||||||||||
| 50/432 | celldex 1.18.0 (landing page) | Aaron Lun | OK | OK | OK | ||||||||||||||||||||||||||||||
| 51/432 | CellMapperData 1.34.0 (landing page) | Brad Nelms | OK | OK | OK | ||||||||||||||||||||||||||||||
| 52/432 | cfToolsData 1.6.0 (landing page) | Ran Hu | OK | OK | OK | ||||||||||||||||||||||||||||||
| 53/432 | ChAMPdata 2.40.0 (landing page) | Yuan Tian | OK | OK | WARNINGS | ||||||||||||||||||||||||||||||
| 54/432 | ChimpHumanBrainData 1.46.0 (landing page) | Sean Davis | OK | OK | OK | ||||||||||||||||||||||||||||||
| 55/432 | chipenrich.data 2.32.0 (landing page) | Kai Wang | OK | OK | WARNINGS | ||||||||||||||||||||||||||||||
| 56/432 | ChIPexoQualExample 1.32.0 (landing page) | Rene Welch | OK | OK | OK | ||||||||||||||||||||||||||||||
| 57/432 | chipseqDBData 1.24.0 (landing page) | Aaron Lun | OK | OK | OK | ||||||||||||||||||||||||||||||
| 58/432 | ChIPXpressData 1.46.0 (landing page) | George Wu | OK | OK | WARNINGS | ||||||||||||||||||||||||||||||
| 59/432 | chromstaRData 1.34.0 (landing page) | Aaron Taudt | OK | OK | WARNINGS | ||||||||||||||||||||||||||||||
| 60/432 | CLL 1.48.0 (landing page) | Robert Gentleman | OK | OK | OK | ||||||||||||||||||||||||||||||
| 61/432 | CLLmethylation 1.28.0 (landing page) | Malgorzata Oles | OK | OK | OK | ||||||||||||||||||||||||||||||
| 62/432 | CluMSIDdata 1.24.0 (landing page) | Tobias Depke | OK | OK | OK | ||||||||||||||||||||||||||||||
| 63/432 | clustifyrdatahub 1.18.0 (landing page) | Kent Riemondy | OK | OK | OK | ||||||||||||||||||||||||||||||
| 64/432 | cMap2data 1.44.0 (landing page) | J. Saez-Rodriguez | OK | OK | WARNINGS | ||||||||||||||||||||||||||||||
| 65/432 | cnvGSAdata 1.44.0 (landing page) | Joseph Lugo | OK | OK | WARNINGS | ||||||||||||||||||||||||||||||
| 66/432 | COHCAPanno 1.44.0 (landing page) | Charles Warden | OK | OK | OK | ||||||||||||||||||||||||||||||
| 67/432 | colonCA 1.50.0 (landing page) | W Sylvia Merk | OK | OK | WARNINGS | ||||||||||||||||||||||||||||||
| 68/432 | CONFESSdata 1.36.0 (landing page) | Diana LOW | OK | OK | OK | ||||||||||||||||||||||||||||||
| 69/432 | ConnectivityMap 1.44.0 (landing page) | Paul Shannon | OK | OK | OK | ||||||||||||||||||||||||||||||
| 70/432 | COPDSexualDimorphism.data 1.44.0 (landing page) | J Fah Sathirapongsasuti | OK | OK | WARNINGS | ||||||||||||||||||||||||||||||
| 71/432 | CopyhelpeR 1.40.0 (landing page) | Oscar Krijgsman | OK | OK | OK | ||||||||||||||||||||||||||||||
| 72/432 | CopyNeutralIMA 1.26.0 (landing page) | Xavier Pastor Hostench | OK | OK | OK | ||||||||||||||||||||||||||||||
| 73/432 | CoSIAdata 1.8.0 (landing page) | Amanda D. Clark | OK | OK | OK | ||||||||||||||||||||||||||||||
| 74/432 | COSMIC.67 1.44.0 (landing page) | Julian Gehring | OK | OK | OK | ||||||||||||||||||||||||||||||
| 75/432 | CRCL18 1.28.0 (landing page) | Claudio Isella | OK | OK | OK | ||||||||||||||||||||||||||||||
| 76/432 | crisprScoreData 1.12.0 (landing page) | Jean-Philippe Fortin | OK | OK | OK | ||||||||||||||||||||||||||||||
| 77/432 | curatedAdipoArray 1.20.0 (landing page) | Mahmoud Ahmed | OK | OK | OK | ||||||||||||||||||||||||||||||
| 78/432 | curatedAdipoChIP 1.24.0 (landing page) | Mahmoud Ahmed | OK | OK | OK | ||||||||||||||||||||||||||||||
| 79/432 | curatedAdipoRNA 1.24.0 (landing page) | Mahmoud Ahmed | OK | OK | WARNINGS | ||||||||||||||||||||||||||||||
| 80/432 | curatedBladderData 1.44.0 (landing page) | Markus Riester | OK | OK | OK | ||||||||||||||||||||||||||||||
| 81/432 | curatedBreastData 2.36.0 (landing page) | Katie Planey | OK | OK | OK | ||||||||||||||||||||||||||||||
| 82/432 | curatedCRCData 2.40.0 (landing page) | Princy Parsana | OK | OK | ERROR | ||||||||||||||||||||||||||||||
| 83/432 | curatedMetagenomicData 3.16.1 (landing page) | Lucas schiffer | OK | OK | OK | ||||||||||||||||||||||||||||||
| 84/432 | curatedOvarianData 1.46.2 (landing page) | Levi Waldron | OK | OK | WARNINGS | ||||||||||||||||||||||||||||||
| 85/432 | curatedPCaData 1.4.0 (landing page) | Teemu Daniel Laajala | OK | OK | OK | ||||||||||||||||||||||||||||||
| 86/432 | curatedTBData 2.4.0 (landing page) | Xutao Wang | OK | OK | WARNINGS | ||||||||||||||||||||||||||||||
| 87/432 | curatedTCGAData 1.30.0 (landing page) | Marcel Ramos | OK | OK | OK | ||||||||||||||||||||||||||||||
| 88/432 | CytoMethIC 1.4.0 (landing page) | Jacob Fanale | OK | OK | OK | ||||||||||||||||||||||||||||||
|
| ||||||||||||||||||||||||||||||||||
| Package | Maintainer | INSTALL | BUILD | CHECK | |||||||||||||||||||||||||||||||
| 89/432 | DAPARdata 1.38.0 (landing page) | Samuel Wieczorek | OK | OK | OK | ||||||||||||||||||||||||||||||
| 90/432 | davidTiling 1.48.0 (landing page) | Wolfgang Huber | OK | OK | WARNINGS | ||||||||||||||||||||||||||||||
| 91/432 | depmap 1.22.0 (landing page) | Laurent Gatto | OK | OK | OK | ||||||||||||||||||||||||||||||
| 92/432 | derfinderData 2.26.0 (landing page) | Leonardo Collado-Torres | OK | OK | OK | ||||||||||||||||||||||||||||||
| 93/432 | DeSousa2013 1.44.0 (landing page) | Xin Wang | OK | OK | OK | ||||||||||||||||||||||||||||||
| 94/432 | DExMAdata 1.16.0 (landing page) | Juan Antonio Villatoro-García | OK | OK | OK | ||||||||||||||||||||||||||||||
| 95/432 | diffloopdata 1.36.0 (landing page) | Caleb Lareau | OK | OK | OK | ||||||||||||||||||||||||||||||
| 96/432 | diggitdata 1.40.0 (landing page) | Mariano Javier Alvarez | OK | OK | OK | ||||||||||||||||||||||||||||||
| 97/432 | DLBCL 1.48.0 (landing page) | Marcus Dittrich | OK | OK | WARNINGS | ||||||||||||||||||||||||||||||
| 98/432 | DMRcatedata 2.26.0 (landing page) | Tim Peters | OK | OK | OK | ||||||||||||||||||||||||||||||
| 99/432 | DNAZooData 1.8.0 (landing page) | Jacques Serizay | OK | OK | OK | ||||||||||||||||||||||||||||||
| 100/432 | DonaPLLP2013 1.46.0 (landing page) | Joseph D. Barry | OK | OK | OK | ||||||||||||||||||||||||||||||
| 101/432 | dorothea 1.20.0 (landing page) | Pau Badia-i-Mompel | OK | ERROR | skipped | ||||||||||||||||||||||||||||||
| 102/432 | dressCheck 0.46.0 (landing page) | Vincent Carey | OK | OK | OK | ||||||||||||||||||||||||||||||
| 103/432 | DropletTestFiles 1.18.0 (landing page) | Aaron Lun | OK | OK | OK | ||||||||||||||||||||||||||||||
| 104/432 | DrugVsDiseasedata 1.44.0 (landing page) | J. Saez-Rodriguez | OK | OK | OK | ||||||||||||||||||||||||||||||
| 105/432 | DuoClustering2018 1.26.0 (landing page) | Angelo Duò | OK | OK | OK | ||||||||||||||||||||||||||||||
| 106/432 | DvDdata 1.44.0 (landing page) | J. Saez-Rodriguez | OK | OK | WARNINGS | ||||||||||||||||||||||||||||||
| 107/432 | dyebiasexamples 1.48.0 (landing page) | Philip Lijnzaad | OK | OK | WARNINGS | ||||||||||||||||||||||||||||||
|
| ||||||||||||||||||||||||||||||||||
| Package | Maintainer | INSTALL | BUILD | CHECK | |||||||||||||||||||||||||||||||
| 108/432 | easierData 1.14.0 (landing page) | Oscar Lapuente-Santana | OK | OK | OK | ||||||||||||||||||||||||||||||
| 109/432 | EatonEtAlChIPseq 0.46.0 (landing page) | Patrick Aboyoun | OK | OK | WARNINGS | ||||||||||||||||||||||||||||||
| 110/432 | ecoliLeucine 1.48.0 (landing page) | Laurent Gautier | OK | OK | WARNINGS | ||||||||||||||||||||||||||||||
| 111/432 | EGSEAdata 1.36.0 (landing page) | Monther Alhamdoosh | OK | OK | OK | ||||||||||||||||||||||||||||||
| 112/432 | ELMER.data 2.32.0 (landing page) | Tiago Chedraoui Silva | OK | OK | WARNINGS | ||||||||||||||||||||||||||||||
| 113/432 | emtdata 1.16.0 (landing page) | Malvika D. Kharbanda | OK | OK | OK | ||||||||||||||||||||||||||||||
| 114/432 | eoPredData 1.2.0 (landing page) | Victor Yuan | OK | OK | OK | ||||||||||||||||||||||||||||||
| 115/432 | EpiMix.data 1.10.0 (landing page) | Yuanning Zheng | OK | OK | WARNINGS | ||||||||||||||||||||||||||||||
| 116/432 | epimutacionsData 1.12.0 (landing page) | Leire Abarrategui | OK | OK | OK | ||||||||||||||||||||||||||||||
| 117/432 | EpipwR.data 1.2.0 (landing page) | Jackson Barth | OK | OK | OK | ||||||||||||||||||||||||||||||
| 118/432 | estrogen 1.54.0 (landing page) | Wolfgang Huber | OK | OK | OK | ||||||||||||||||||||||||||||||
| 119/432 | etec16s 1.36.0 (landing page) | Joseph N. Paulson | OK | OK | OK | ||||||||||||||||||||||||||||||
| 120/432 | ewceData 1.16.0 (landing page) | Alan Murphy | OK | OK | OK | ||||||||||||||||||||||||||||||
|
| ||||||||||||||||||||||||||||||||||
| Package | Maintainer | INSTALL | BUILD | CHECK | |||||||||||||||||||||||||||||||
| 121/432 | faahKO 1.48.1 (landing page) | Steffen Neumann | OK | OK | OK | ||||||||||||||||||||||||||||||
| 122/432 | fabiaData 1.46.0 (landing page) | Sepp Hochreiter | OK | OK | OK | ||||||||||||||||||||||||||||||
| 123/432 | FANTOM3and4CAGE 1.44.0 (landing page) | Vanja Haberle | OK | OK | OK | ||||||||||||||||||||||||||||||
| 124/432 | ffpeExampleData 1.46.0 (landing page) | Levi Waldron | OK | OK | OK | ||||||||||||||||||||||||||||||
| 125/432 | fibroEset 1.50.0 (landing page) | Sylvia Merk | OK | OK | WARNINGS | ||||||||||||||||||||||||||||||
| 126/432 | FieldEffectCrc 1.18.0 (landing page) | Christopher Dampier | OK | OK | OK | ||||||||||||||||||||||||||||||
| 127/432 | FIs 1.36.0 (landing page) | Herbert Braselmann | OK | OK | OK | ||||||||||||||||||||||||||||||
| 128/432 | fission 1.28.0 (landing page) | Michael Love | OK | OK | OK | ||||||||||||||||||||||||||||||
| 129/432 | Fletcher2013a 1.44.0 (landing page) | Mauro Castro | OK | OK | OK | ||||||||||||||||||||||||||||||
| 130/432 | Fletcher2013b 1.44.0 (landing page) | Mauro Castro | OK | OK | WARNINGS | ||||||||||||||||||||||||||||||
| 131/432 | flowPloidyData 1.34.0 (landing page) | Tyler Smith | OK | OK | OK | ||||||||||||||||||||||||||||||
| 132/432 | FlowSorted.Blood.450k 1.46.0 (landing page) | Andrew E Jaffe | OK | OK | WARNINGS | ||||||||||||||||||||||||||||||
| 133/432 | FlowSorted.Blood.EPIC 2.12.0 (landing page) | Lucas A. Salas | OK | OK | OK | ||||||||||||||||||||||||||||||
| 134/432 | FlowSorted.CordBlood.450k 1.36.0 (landing page) | Shan V. Andrews | OK | OK | WARNINGS | ||||||||||||||||||||||||||||||
| 135/432 | FlowSorted.CordBloodCombined.450k 1.24.0 (landing page) | Lucas A. Salas | OK | OK | OK | ||||||||||||||||||||||||||||||
| 136/432 | FlowSorted.CordBloodNorway.450k 1.34.0 (landing page) | kristina gervin | OK | OK | WARNINGS | ||||||||||||||||||||||||||||||
| 137/432 | FlowSorted.DLPFC.450k 1.44.0 (landing page) | Andrew E Jaffe | OK | OK | WARNINGS | ||||||||||||||||||||||||||||||
| 138/432 | flowWorkspaceData 3.20.0 (landing page) | Mike Jiang | OK | OK | OK | ||||||||||||||||||||||||||||||
| 139/432 | fourDNData 1.8.0 (landing page) | Jacques Serizay | OK | OK | OK | ||||||||||||||||||||||||||||||
| 140/432 | frmaExampleData 1.44.0 (landing page) | Matthew N. McCall | OK | OK | WARNINGS | ||||||||||||||||||||||||||||||
| 141/432 | furrowSeg 1.36.0 (landing page) | Joseph Barry | OK | OK | WARNINGS | ||||||||||||||||||||||||||||||
|
| ||||||||||||||||||||||||||||||||||
| Package | Maintainer | INSTALL | BUILD | CHECK | |||||||||||||||||||||||||||||||
| 142/432 | gageData 2.46.0 (landing page) | Weijun Luo | OK | OK | OK | ||||||||||||||||||||||||||||||
| 143/432 | gaschYHS 1.46.0 (landing page) | Vince Carey | OK | OK | OK | ||||||||||||||||||||||||||||||
| 144/432 | gcspikelite 1.46.0 (landing page) | Mark Robinson | OK | OK | WARNINGS | ||||||||||||||||||||||||||||||
| 145/432 | gDNAinRNAseqData 1.8.0 (landing page) | Robert Castelo | OK | OK | OK | ||||||||||||||||||||||||||||||
| 146/432 | gDRtestData 1.6.0 (landing page) | Arkadiusz Gladki | OK | OK | OK | ||||||||||||||||||||||||||||||
| 147/432 | geneLenDataBase 1.44.0 (landing page) | Federico Marini | OK | OK | OK | ||||||||||||||||||||||||||||||
| 148/432 | genomationData 1.40.0 (landing page) | Vedran Franke | OK | OK | OK | ||||||||||||||||||||||||||||||
| 149/432 | GenomicDistributionsData 1.16.0 (landing page) | Kristyna Kupkova | OK | OK | OK | ||||||||||||||||||||||||||||||
| 150/432 | GeuvadisTranscriptExpr 1.36.0 (landing page) | Malgorzata Nowicka | OK | OK | OK | ||||||||||||||||||||||||||||||
| 151/432 | GIGSEAdata 1.26.0 (landing page) | Shijia Zhu | OK | OK | WARNINGS | ||||||||||||||||||||||||||||||
| 152/432 | golubEsets 1.50.0 (landing page) | Vince Carey | OK | OK | OK | ||||||||||||||||||||||||||||||
| 153/432 | gpaExample 1.20.0 (landing page) | Dongjun Chung | OK | OK | OK | ||||||||||||||||||||||||||||||
| 154/432 | grndata 1.40.0 (landing page) | Pau Bellot | OK | OK | WARNINGS | ||||||||||||||||||||||||||||||
| 155/432 | GSBenchMark 1.28.0 (landing page) | Bahman Afsari | OK | OK | OK | ||||||||||||||||||||||||||||||
| 156/432 | GSE103322 1.14.0 (landing page) | Mariano Alvarez | OK | OK | OK | ||||||||||||||||||||||||||||||
| 157/432 | GSE13015 1.16.0 (landing page) | Darawan Rinchai | OK | OK | OK | ||||||||||||||||||||||||||||||
| 158/432 | GSE159526 1.14.0 (landing page) | Victor Yuan | OK | OK | OK | ||||||||||||||||||||||||||||||
| 159/432 | GSE62944 1.36.0 (landing page) | Bioconductor Package Maintainer | OK | OK | OK | ||||||||||||||||||||||||||||||
| 160/432 | GSVAdata 1.44.0 (landing page) | Robert Castelo | OK | OK | OK | ||||||||||||||||||||||||||||||
| 161/432 | GWASdata 1.46.0 (landing page) | Stephanie Gogarten | OK | OK | OK | ||||||||||||||||||||||||||||||
|
| ||||||||||||||||||||||||||||||||||
| Package | Maintainer | INSTALL | BUILD | CHECK | |||||||||||||||||||||||||||||||
| 162/432 | h5vcData 2.28.0 (landing page) | Paul Theodor Pyl | OK | OK | OK | ||||||||||||||||||||||||||||||
| 163/432 | hapmap100khind 1.50.0 (landing page) | Benilton Carvalho | OK | OK | OK | ||||||||||||||||||||||||||||||
| 164/432 | hapmap100kxba 1.50.0 (landing page) | Benilton Carvalho | OK | OK | OK | ||||||||||||||||||||||||||||||
| 165/432 | hapmap500knsp 1.50.0 (landing page) | Benilton Carvalho | OK | OK | OK | ||||||||||||||||||||||||||||||
| 166/432 | hapmap500ksty 1.50.0 (landing page) | Benilton Carvalho | OK | OK | OK | ||||||||||||||||||||||||||||||
| 167/432 | hapmapsnp5 1.50.0 (landing page) | Benilton Carvalho | OK | OK | OK | ||||||||||||||||||||||||||||||
| 168/432 | hapmapsnp6 1.50.0 (landing page) | Benilton Carvalho | OK | OK | OK | ||||||||||||||||||||||||||||||
| 169/432 | harbChIP 1.46.0 (landing page) | VJ Carey | OK | OK | OK | ||||||||||||||||||||||||||||||
| 170/432 | HarmanData 1.36.0 (landing page) | Jason Ross | OK | OK | OK | ||||||||||||||||||||||||||||||
| 171/432 | HarmonizedTCGAData 1.30.0 (landing page) | Tianle Ma | OK | OK | OK | ||||||||||||||||||||||||||||||
| 172/432 | HCAData 1.24.0 (landing page) | Federico Marini | OK | OK | OK | ||||||||||||||||||||||||||||||
| 173/432 | HCATonsilData 1.6.0 (landing page) | Ramon Massoni-Badosa | OK | OK | OK | ||||||||||||||||||||||||||||||
| 174/432 | HD2013SGI 1.48.0 (landing page) | Mike Smith | OK | OK | OK | ||||||||||||||||||||||||||||||
| 175/432 | HDCytoData 1.28.0 (landing page) | Lukas M. Weber | OK | OK | OK | ||||||||||||||||||||||||||||||
| 176/432 | healthyControlsPresenceChecker 1.12.0 (landing page) | Davide Chicco | OK | OK | OK | ||||||||||||||||||||||||||||||
| 177/432 | healthyFlowData 1.46.0 (landing page) | Ariful Azad | OK | OK | OK | ||||||||||||||||||||||||||||||
| 178/432 | HEEBOdata 1.46.0 (landing page) | Agnes Paquet | OK | OK | WARNINGS | ||||||||||||||||||||||||||||||
| 179/432 | HelloRangesData 1.34.0 (landing page) | Michael Lawrence | OK | OK | OK | ||||||||||||||||||||||||||||||
| 180/432 | hgu133abarcodevecs 1.46.0 (landing page) | Matthew N. McCall | OK | OK | OK | ||||||||||||||||||||||||||||||
| 181/432 | hgu133plus2barcodevecs 1.46.0 (landing page) | Matthew N. McCall | OK | OK | OK | ||||||||||||||||||||||||||||||
| 182/432 | hgu133plus2CellScore 1.28.0 (landing page) | Nancy Mah | OK | OK | WARNINGS | ||||||||||||||||||||||||||||||
| 183/432 | hgu2beta7 1.48.0 (landing page) | Bioconductor Package Maintainer | OK | OK | WARNINGS | ||||||||||||||||||||||||||||||
| 184/432 | HiBED 1.6.0 (landing page) | Ze Zhang | OK | OK | OK | ||||||||||||||||||||||||||||||
| 185/432 | HiCDataHumanIMR90 1.28.0 (landing page) | Nicolas Servant | OK | OK | WARNINGS | ||||||||||||||||||||||||||||||
| 186/432 | HiCDataLymphoblast 1.44.0 (landing page) | Borbala Mifsud | OK | OK | OK | ||||||||||||||||||||||||||||||
| 187/432 | HiContactsData 1.10.0 (landing page) | Jacques Serizay | OK | OK | OK | ||||||||||||||||||||||||||||||
| 188/432 | HighlyReplicatedRNASeq 1.20.0 (landing page) | Constantin Ahlmann-Eltze | OK | OK | OK | ||||||||||||||||||||||||||||||
| 189/432 | Hiiragi2013 1.44.2 (landing page) | Wolfgang Huber | OK | OK | WARNINGS | ||||||||||||||||||||||||||||||
| 190/432 | HIVcDNAvantWout03 1.48.0 (landing page) | Chris Fraley | OK | OK | WARNINGS | ||||||||||||||||||||||||||||||
| 191/432 | HMP16SData 1.28.0 (landing page) | Lucas schiffer | OK | OK | OK | ||||||||||||||||||||||||||||||
| 192/432 | HMP2Data 1.22.0 (landing page) | John Stansfield | OK | OK | OK | ||||||||||||||||||||||||||||||
| 193/432 | homosapienDEE2CellScore 1.4.0 (landing page) | Justin Marsh | OK | OK | OK | ||||||||||||||||||||||||||||||
| 194/432 | HSMMSingleCell 1.28.0 (landing page) | Cole Trapnell | OK | OK | WARNINGS | ||||||||||||||||||||||||||||||
| 195/432 | HumanAffyData 1.34.0 (landing page) | Brad Nelms | OK | OK | OK | ||||||||||||||||||||||||||||||
| 196/432 | humanHippocampus2024 1.0.0 (landing page) | Christine Hou | OK | OK | OK | ||||||||||||||||||||||||||||||
| 197/432 | humanStemCell 0.48.0 (landing page) | R. Gentleman | OK | OK | WARNINGS | ||||||||||||||||||||||||||||||
|
| ||||||||||||||||||||||||||||||||||
| Package | Maintainer | INSTALL | BUILD | CHECK | |||||||||||||||||||||||||||||||
| 198/432 | IHWpaper 1.36.0 (landing page) | Nikos Ignatiadis | OK | OK | OK | ||||||||||||||||||||||||||||||
| 199/432 | Illumina450ProbeVariants.db 1.44.0 (landing page) | Tiffany Morris | OK | OK | OK | ||||||||||||||||||||||||||||||
| 200/432 | IlluminaDataTestFiles 1.46.0 (landing page) | Kasper Daniel Hansen | OK | OK | OK | ||||||||||||||||||||||||||||||
| 201/432 | imcdatasets 1.16.0 (landing page) | Nicolas Damond | OK | OK | OK | ||||||||||||||||||||||||||||||
| 202/432 | ITALICSData 2.46.0 (landing page) | Guillem Rigaill | OK | OK | WARNINGS | ||||||||||||||||||||||||||||||
| 203/432 | Iyer517 1.50.0 (landing page) | Vince Carey | OK | OK | OK | ||||||||||||||||||||||||||||||
|
| ||||||||||||||||||||||||||||||||||
| Package | Maintainer | INSTALL | BUILD | CHECK | |||||||||||||||||||||||||||||||
| 204/432 | JASPAR2014 1.44.0 (landing page) | Ge Tan | OK | OK | WARNINGS | ||||||||||||||||||||||||||||||
| 205/432 | JASPAR2016 1.36.0 (landing page) | Ge Tan | OK | OK | OK | ||||||||||||||||||||||||||||||
| 206/432 | JohnsonKinaseData 1.4.0 (landing page) | Florian Geier | OK | OK | OK | ||||||||||||||||||||||||||||||
|
| ||||||||||||||||||||||||||||||||||
| Package | Maintainer | INSTALL | BUILD | CHECK | |||||||||||||||||||||||||||||||
| 207/432 | KEGGandMetacoreDzPathwaysGEO 1.28.0 (landing page) | Gaurav Bhatti | OK | OK | OK | ||||||||||||||||||||||||||||||
| 208/432 | KEGGdzPathwaysGEO 1.46.0 (landing page) | Gaurav Bhatti | OK | OK | OK | ||||||||||||||||||||||||||||||
| 209/432 | kidpack 1.50.0 (landing page) | Wolfgang Huber | OK | OK | WARNINGS | ||||||||||||||||||||||||||||||
| 210/432 | KOdata 1.34.0 (landing page) | Shana White | OK | OK | WARNINGS | ||||||||||||||||||||||||||||||
|
| ||||||||||||||||||||||||||||||||||
| Package | Maintainer | INSTALL | BUILD | CHECK | |||||||||||||||||||||||||||||||
| 211/432 | leeBamViews 1.44.0 (landing page) | VJ Carey | OK | OK | OK | ||||||||||||||||||||||||||||||
| 212/432 | LegATo 1.2.0 (landing page) | Aubrey Odom | OK | OK | OK | ||||||||||||||||||||||||||||||
| 213/432 | leukemiasEset 1.44.0 (landing page) | Sara Aibar | OK | OK | OK | ||||||||||||||||||||||||||||||
| 214/432 | LiebermanAidenHiC2009 0.46.0 (landing page) | Felix Klein | OK | OK | WARNINGS | ||||||||||||||||||||||||||||||
| 215/432 | ListerEtAlBSseq 1.40.0 (landing page) | Mattia Furlan | OK | OK | WARNINGS | ||||||||||||||||||||||||||||||
| 216/432 | LRcellTypeMarkers 1.16.0 (landing page) | Wenjing Ma | OK | OK | OK | ||||||||||||||||||||||||||||||
| 217/432 | lumiBarnes 1.48.0 (landing page) | Pan Du | OK | OK | WARNINGS | ||||||||||||||||||||||||||||||
| 218/432 | LungCancerACvsSCCGEO 1.44.0 (landing page) | Adi Laurentiu Tarca | OK | OK | OK | ||||||||||||||||||||||||||||||
| 219/432 | LungCancerLines 0.46.0 (landing page) | Michael Lawrence | OK | OK | OK | ||||||||||||||||||||||||||||||
| 220/432 | lungExpression 0.46.0 (landing page) | Robert Scharpf | OK | OK | OK | ||||||||||||||||||||||||||||||
| 221/432 | lydata 1.34.0 (landing page) | Alex Pickering | OK | OK | OK | ||||||||||||||||||||||||||||||
|
| ||||||||||||||||||||||||||||||||||
| Package | Maintainer | INSTALL | BUILD | CHECK | |||||||||||||||||||||||||||||||
| 222/432 | M3DExampleData 1.34.0 (landing page) | Tallulah Andrews | OK | OK | WARNINGS | ||||||||||||||||||||||||||||||
| 223/432 | macrophage 1.24.0 (landing page) | Michael Love | OK | OK | WARNINGS | ||||||||||||||||||||||||||||||
| 224/432 | MACSdata 1.16.0 (landing page) | Qiang Hu | OK | OK | OK | ||||||||||||||||||||||||||||||
| 225/432 | mammaPrintData 1.44.0 (landing page) | Luigi Marchionni | OK | OK | OK | ||||||||||||||||||||||||||||||
| 226/432 | maqcExpression4plex 1.52.0 (landing page) | Benilton Carvalho | OK | OK | OK | ||||||||||||||||||||||||||||||
| 227/432 | MAQCsubset 1.46.0 (landing page) | VJ Carey | OK | OK | WARNINGS | ||||||||||||||||||||||||||||||
| 228/432 | marinerData 1.8.0 (landing page) | Eric Davis | OK | OK | OK | ||||||||||||||||||||||||||||||
| 229/432 | mCSEAdata 1.28.0 (landing page) | Jordi Martorell Marugán | OK | OK | OK | ||||||||||||||||||||||||||||||
| 230/432 | mcsurvdata 1.26.0 (landing page) | Adria Caballe Mestres | OK | OK | OK | ||||||||||||||||||||||||||||||
| 231/432 | MEDIPSData 1.44.0 (landing page) | Lukas Chavez | OK | OK | WARNINGS | ||||||||||||||||||||||||||||||
| 232/432 | MEEBOdata 1.46.0 (landing page) | Agnes Paquet | OK | OK | WARNINGS | ||||||||||||||||||||||||||||||
| 233/432 | MerfishData 1.10.0 (landing page) | Ludwig Geistlinger | OK | OK | OK | ||||||||||||||||||||||||||||||
| 234/432 | MetaGxBreast 1.28.0 (landing page) | Benjamin Haibe-Kains | OK | OK | OK | ||||||||||||||||||||||||||||||
| 235/432 | MetaGxOvarian 1.28.0 (landing page) | Benjamin Haibe-Kains | OK | ERROR | skipped | ||||||||||||||||||||||||||||||
| 236/432 | MetaGxPancreas 1.28.0 (landing page) | Benjamin Haibe-Kains | OK | ERROR | skipped | ||||||||||||||||||||||||||||||
| 237/432 | metaMSdata 1.44.0 (landing page) | Yann Guitton | OK | OK | OK | ||||||||||||||||||||||||||||||
| 238/432 | MetaScope 1.8.1 (landing page) | Aubrey Odom | OK | OK | OK | ||||||||||||||||||||||||||||||
| 239/432 | MethylAidData 1.40.0 (landing page) | M. van Iterson | OK | OK | OK | ||||||||||||||||||||||||||||||
| 240/432 | methylclockData 1.16.0 (landing page) | Dolors Pelegri-Siso | OK | OK | OK | ||||||||||||||||||||||||||||||
| 241/432 | MethylSeqData 1.18.0 (landing page) | Peter Hickey | OK | OK | OK | ||||||||||||||||||||||||||||||
| 242/432 | MicrobiomeBenchmarkData 1.10.0 (landing page) | Samuel Gamboa | OK | OK | OK | ||||||||||||||||||||||||||||||
| 243/432 | microbiomeDataSets 1.16.0 (landing page) | Leo Lahti | OK | OK | OK | ||||||||||||||||||||||||||||||
| 244/432 | microRNAome 1.30.0 (landing page) | Matthew N. McCall | OK | OK | WARNINGS | ||||||||||||||||||||||||||||||
| 245/432 | minfiData 0.54.0 (landing page) | Kasper Daniel Hansen | OK | OK | WARNINGS | ||||||||||||||||||||||||||||||
| 246/432 | minfiDataEPIC 1.34.0 (landing page) | Kasper Daniel Hansen | OK | OK | WARNINGS | ||||||||||||||||||||||||||||||
| 247/432 | minionSummaryData 1.38.0 (landing page) | Mike Smith | OK | OK | WARNINGS | ||||||||||||||||||||||||||||||
| 248/432 | miRcompData 1.38.0 (landing page) | Matthew N. McCall | OK | OK | OK | ||||||||||||||||||||||||||||||
| 249/432 | miRNATarget 1.46.0 (landing page) | Y-h. Taguchi | OK | OK | OK | ||||||||||||||||||||||||||||||
| 250/432 | MMDiffBamSubset 1.44.0 (landing page) | Gabriele Schweikert | OK | OK | OK | ||||||||||||||||||||||||||||||
| 251/432 | MOFAdata 1.24.0 (landing page) | Britta Velten | OK | OK | OK | ||||||||||||||||||||||||||||||
| 252/432 | mosaicsExample 1.46.0 (landing page) | Dongjun Chung | OK | OK | WARNINGS | ||||||||||||||||||||||||||||||
| 253/432 | mouse4302barcodevecs 1.46.0 (landing page) | Matthew N. McCall | OK | OK | OK | ||||||||||||||||||||||||||||||
| 254/432 | MouseAgingData 1.4.0 (landing page) | Tram Nguyen | OK | OK | OK | ||||||||||||||||||||||||||||||
| 255/432 | MouseGastrulationData 1.22.0 (landing page) | Jonathan Griffiths | OK | OK | OK | ||||||||||||||||||||||||||||||
| 256/432 | MouseThymusAgeing 1.16.0 (landing page) | Mike Morgan | OK | OK | OK | ||||||||||||||||||||||||||||||
| 257/432 | msd16s 1.28.0 (landing page) | Joseph N. Paulson | OK | OK | OK | ||||||||||||||||||||||||||||||
| 258/432 | msdata 0.48.0 (landing page) | Steffen Neumann | OK | OK | OK | ||||||||||||||||||||||||||||||
| 259/432 | msigdb 1.16.0 (landing page) | Dharmesh D. Bhuva | OK | OK | WARNINGS | ||||||||||||||||||||||||||||||
| 260/432 | MSMB 1.26.0 (landing page) | Wolfgang Huber | OK | OK | OK | ||||||||||||||||||||||||||||||
| 261/432 | msPurityData 1.36.0 (landing page) | Thomas N. Lawson | OK | OK | OK | ||||||||||||||||||||||||||||||
| 262/432 | msqc1 1.36.0 (landing page) | Christian Panse | OK | OK | OK | ||||||||||||||||||||||||||||||
| 263/432 | mtbls2 1.38.1 (landing page) | Steffen Neumann | OK | OK | WARNINGS | ||||||||||||||||||||||||||||||
| 264/432 | MUGAExampleData 1.28.0 (landing page) | Daniel Gatti | OK | OK | OK | ||||||||||||||||||||||||||||||
| 265/432 | muleaData 1.4.0 (landing page) | Eszter Ari | OK | OK | WARNINGS | ||||||||||||||||||||||||||||||
| 266/432 | multiWGCNAdata 1.6.0 (landing page) | Dario Tommasini | OK | OK | OK | ||||||||||||||||||||||||||||||
| 267/432 | muscData 1.22.0 (landing page) | Helena L. Crowell | OK | OK | WARNINGS | ||||||||||||||||||||||||||||||
| 268/432 | muSpaData 1.0.0 (landing page) | Peiying Cai | OK | OK | OK | ||||||||||||||||||||||||||||||
| 269/432 | mvoutData 1.44.0 (landing page) | VJ Carey | OK | OK | OK | ||||||||||||||||||||||||||||||
|
| ||||||||||||||||||||||||||||||||||
| Package | Maintainer | INSTALL | BUILD | CHECK | |||||||||||||||||||||||||||||||
| 270/432 | NanoporeRNASeq 1.18.0 (landing page) | Ying Chen | OK | OK | OK | ||||||||||||||||||||||||||||||
| 271/432 | nanotubes 1.24.0 (landing page) | Malte Thodberg | OK | OK | OK | ||||||||||||||||||||||||||||||
| 272/432 | NCIgraphData 1.44.0 (landing page) | Laurent Jacob | OK | OK | WARNINGS | ||||||||||||||||||||||||||||||
| 273/432 | NestLink 1.24.0 (landing page) | Lennart Opitz | OK | OK | OK | ||||||||||||||||||||||||||||||
| 274/432 | NetActivityData 1.10.0 (landing page) | Carlos Ruiz-Arenas | OK | OK | OK | ||||||||||||||||||||||||||||||
| 275/432 | Neve2006 0.46.0 (landing page) | VJ Carey | OK | OK | OK | ||||||||||||||||||||||||||||||
| 276/432 | NGScopyData 1.28.0 (landing page) | Xiaobei Zhao | OK | OK | WARNINGS | ||||||||||||||||||||||||||||||
| 277/432 | nullrangesData 1.14.0 (landing page) | Michael Love | OK | OK | OK | ||||||||||||||||||||||||||||||
| 278/432 | NxtIRFdata 1.14.0 (landing page) | Alex Chit Hei Wong | OK | OK | OK | ||||||||||||||||||||||||||||||
|
| ||||||||||||||||||||||||||||||||||
| Package | Maintainer | INSTALL | BUILD | CHECK | |||||||||||||||||||||||||||||||
| 279/432 | ObMiTi 1.16.0 (landing page) | Omar Elashkar | OK | OK | OK | ||||||||||||||||||||||||||||||
| 280/432 | oct4 1.24.0 (landing page) | Michael Love | OK | OK | OK | ||||||||||||||||||||||||||||||
| 281/432 | octad.db 1.10.0 (landing page) | E. Chekalin | OK | OK | OK | ||||||||||||||||||||||||||||||
| 282/432 | OMICsPCAdata 1.26.0 (landing page) | Subhadeep Das | OK | OK | WARNINGS | ||||||||||||||||||||||||||||||
| 283/432 | OnassisJavaLibs 1.30.0 (landing page) | Eugenia Galeota | OK | OK | OK | ||||||||||||||||||||||||||||||
| 284/432 | optimalFlowData 1.20.0 (landing page) | Hristo Inouzhe | OK | OK | WARNINGS | ||||||||||||||||||||||||||||||
| 285/432 | orthosData 1.6.0 (landing page) | Panagiotis Papasaikas | OK | OK | OK | ||||||||||||||||||||||||||||||
|
| ||||||||||||||||||||||||||||||||||
| Package | Maintainer | INSTALL | BUILD | CHECK | |||||||||||||||||||||||||||||||
| 286/432 | Michael Love | OK | OK | OK | |||||||||||||||||||||||||||||||
| 287/432 | pasilla 1.36.0 (landing page) | Alejandro Reyes | OK | OK | OK | ||||||||||||||||||||||||||||||
| 288/432 | pasillaBamSubset 0.46.0 (landing page) | Hervé Pagès | OK | OK | OK | ||||||||||||||||||||||||||||||
| 289/432 | PasillaTranscriptExpr 1.36.0 (landing page) | Malgorzata Nowicka | OK | OK | OK | ||||||||||||||||||||||||||||||
| 290/432 | PathNetData 1.44.0 (landing page) | Ludwig Geistlinger | OK | OK | OK | ||||||||||||||||||||||||||||||
| 291/432 | PCHiCdata 1.36.0 (landing page) | Mikhail Spivakov | OK | OK | WARNINGS | ||||||||||||||||||||||||||||||
| 292/432 | pd.atdschip.tiling 0.46.0 (landing page) | Kristof De Beuf | OK | OK | WARNINGS | ||||||||||||||||||||||||||||||
| 293/432 | pepDat 1.28.0 (landing page) | Renan Sauteraud | OK | OK | OK | ||||||||||||||||||||||||||||||
| 294/432 | PepsNMRData 1.26.0 (landing page) | Manon Martin | OK | OK | WARNINGS | ||||||||||||||||||||||||||||||
| 295/432 | PhyloProfileData 1.22.3 (landing page) | Vinh Tran | OK | OK | OK | ||||||||||||||||||||||||||||||
| 296/432 | plotgardenerData 1.14.0 (landing page) | Nicole Kramer | OK | OK | WARNINGS | ||||||||||||||||||||||||||||||
| 297/432 | prebsdata 1.44.0 (landing page) | Karolis Uziela | OK | OK | OK | ||||||||||||||||||||||||||||||
| 298/432 | preciseTADhub 1.16.0 (landing page) | Mikhail Dozmorov | OK | OK | OK | ||||||||||||||||||||||||||||||
| 299/432 | PREDAsampledata 0.48.0 (landing page) | Francesco Ferrari | OK | OK | OK | ||||||||||||||||||||||||||||||
| 300/432 | ProData 1.46.0 (landing page) | Xiaochun Li | OK | OK | OK | ||||||||||||||||||||||||||||||
| 301/432 | pRolocdata 1.46.0 (landing page) | Lisa Breckels | OK | OK | OK | ||||||||||||||||||||||||||||||
| 302/432 | prostateCancerCamcap 1.36.0 (landing page) | Mark Dunning | OK | OK | WARNINGS | ||||||||||||||||||||||||||||||
| 303/432 | prostateCancerGrasso 1.36.0 (landing page) | Mark Dunning | OK | OK | WARNINGS | ||||||||||||||||||||||||||||||
| 304/432 | prostateCancerStockholm 1.36.0 (landing page) | Mark Dunning | OK | OK | WARNINGS | ||||||||||||||||||||||||||||||
| 305/432 | prostateCancerTaylor 1.36.0 (landing page) | Mark Dunning | OK | OK | WARNINGS | ||||||||||||||||||||||||||||||
| 306/432 | prostateCancerVarambally 1.36.0 (landing page) | Mark Dunning | OK | OK | WARNINGS | ||||||||||||||||||||||||||||||
| 307/432 | ProteinGymR 1.2.8 (landing page) | Tram Nguyen | OK | OK | OK | ||||||||||||||||||||||||||||||
| 308/432 | ptairData 1.16.0 (landing page) | camille Roquencourt | OK | OK | OK | ||||||||||||||||||||||||||||||
| 309/432 | PtH2O2lipids 1.34.0 (landing page) | James Collins | OK | OK | WARNINGS | ||||||||||||||||||||||||||||||
| 310/432 | pumadata 2.44.0 (landing page) | Xuejun liu | OK | OK | OK | ||||||||||||||||||||||||||||||
| 311/432 | PWMEnrich.Dmelanogaster.background 4.42.0 (landing page) | Diego Diez | OK | OK | OK | ||||||||||||||||||||||||||||||
| 312/432 | PWMEnrich.Hsapiens.background 4.42.0 (landing page) | Diego Diez | OK | OK | OK | ||||||||||||||||||||||||||||||
| 313/432 | PWMEnrich.Mmusculus.background 4.42.0 (landing page) | Diego Diez | OK | OK | OK | ||||||||||||||||||||||||||||||
|
| ||||||||||||||||||||||||||||||||||
| Package | Maintainer | INSTALL | BUILD | CHECK | |||||||||||||||||||||||||||||||
| 314/432 | QDNAseq.hg19 1.38.0 (landing page) | Daoud Sie | OK | OK | OK | ||||||||||||||||||||||||||||||
| 315/432 | QDNAseq.mm10 1.38.0 (landing page) | Daoud Sie | OK | OK | OK | ||||||||||||||||||||||||||||||
| 316/432 | qPLEXdata 1.26.0 (landing page) | Kamal Kishore Developer | OK | OK | WARNINGS | ||||||||||||||||||||||||||||||
| 317/432 | QUBICdata 1.36.0 (landing page) | Yu Zhang | OK | OK | OK | ||||||||||||||||||||||||||||||
|
| ||||||||||||||||||||||||||||||||||
| Package | Maintainer | INSTALL | BUILD | CHECK | |||||||||||||||||||||||||||||||
| 318/432 | raerdata 1.6.0 (landing page) | Kent Riemondy | OK | OK | OK | ||||||||||||||||||||||||||||||
| 319/432 | rcellminerData 2.30.0 (landing page) | Augustin Luna | OK | OK | WARNINGS | ||||||||||||||||||||||||||||||
| 320/432 | RcisTarget.hg19.motifDBs.cisbpOnly.500bp 1.28.0 (landing page) | Sara Aibar | OK | OK | WARNINGS | ||||||||||||||||||||||||||||||
| 321/432 | ReactomeGSA.data 1.22.0 (landing page) | Johannes Griss | OK | OK | WARNINGS | ||||||||||||||||||||||||||||||
| 322/432 | RegParallel 1.26.0 (landing page) | Kevin Blighe | OK | OK | OK | ||||||||||||||||||||||||||||||
| 323/432 | RforProteomics 1.46.0 (landing page) | Laurent Gatto | OK | OK | WARNINGS | ||||||||||||||||||||||||||||||
| 324/432 | RGMQLlib 1.28.0 (landing page) | Simone Pallotta | OK | OK | OK | ||||||||||||||||||||||||||||||
| 325/432 | rheumaticConditionWOLLBOLD 1.46.0 (landing page) | Alejandro Quiroz-Zarate | OK | OK | OK | ||||||||||||||||||||||||||||||
| 326/432 | RITANdata 1.32.0 (landing page) | Michael Zimmermann | OK | OK | OK | ||||||||||||||||||||||||||||||
| 327/432 | RMassBankData 1.46.0 (landing page) | Michael Stravs, Emma Schymanski | OK | OK | OK | ||||||||||||||||||||||||||||||
| 328/432 | RNAmodR.Data 1.22.0 (landing page) | Felix G.M. Ernst | OK | OK | OK | ||||||||||||||||||||||||||||||
| 329/432 | RNAseqData.HNRNPC.bam.chr14 0.46.0 (landing page) | Hervé Pagès | OK | OK | OK | ||||||||||||||||||||||||||||||
| 330/432 | RnaSeqSampleSizeData 1.40.0 (landing page) | Shilin Zhao | OK | OK | OK | ||||||||||||||||||||||||||||||
| 331/432 | RnBeads.hg19 1.40.0 (landing page) | RnBeadsAnnotationCreator | OK | OK | OK | ||||||||||||||||||||||||||||||
| 332/432 | RnBeads.hg38 1.40.0 (landing page) | RnBeads Team | OK | OK | WARNINGS | ||||||||||||||||||||||||||||||
| 333/432 | RnBeads.mm10 2.16.0 (landing page) | RnBeads Team | OK | OK | OK | ||||||||||||||||||||||||||||||
| 334/432 | RnBeads.mm9 1.40.0 (landing page) | RnBeadsAnnotationCreator | OK | OK | OK | ||||||||||||||||||||||||||||||
| 335/432 | RnBeads.rn5 1.40.0 (landing page) | RnBeadsAnnotationCreator | OK | OK | OK | ||||||||||||||||||||||||||||||
| 336/432 | RRBSdata 1.28.0 (landing page) | Katja Hebestreit | OK | OK | OK | ||||||||||||||||||||||||||||||
| 337/432 | rRDPData 1.28.0 (landing page) | Michael Hahsler | OK | OK | OK | ||||||||||||||||||||||||||||||
| 338/432 | RTCGA.clinical 20151101.38.0 (landing page) | Marcin Kosinski | OK | OK | WARNINGS | ||||||||||||||||||||||||||||||
| 339/432 | RTCGA.CNV 1.36.0 (landing page) | Marcin Kosinski | OK | OK | WARNINGS | ||||||||||||||||||||||||||||||
| 340/432 | RTCGA.methylation 1.36.0 (landing page) | Marcin Kosinski | OK | OK | WARNINGS | ||||||||||||||||||||||||||||||
| 341/432 | RTCGA.miRNASeq 1.36.0 (landing page) | Marcin Kosinski | OK | OK | WARNINGS | ||||||||||||||||||||||||||||||
| 342/432 | RTCGA.mRNA 1.36.0 (landing page) | Marcin Kosinski | OK | OK | WARNINGS | ||||||||||||||||||||||||||||||
| 343/432 | RTCGA.mutations 20151101.38.0 (landing page) | Marcin Kosinski | OK | OK | WARNINGS | ||||||||||||||||||||||||||||||
| 344/432 | RTCGA.PANCAN12 1.36.0 (landing page) | Marcin Kosinski | OK | OK | OK | ||||||||||||||||||||||||||||||
| 345/432 | RTCGA.rnaseq 20151101.38.0 (landing page) | Marcin Kosinski | OK | OK | WARNINGS | ||||||||||||||||||||||||||||||
| 346/432 | RTCGA.RPPA 1.36.0 (landing page) | Marcin Kosinski | OK | OK | WARNINGS | ||||||||||||||||||||||||||||||
| 347/432 | RUVnormalizeData 1.28.0 (landing page) | Laurent Jacob | OK | OK | OK | ||||||||||||||||||||||||||||||
|
| ||||||||||||||||||||||||||||||||||
| Package | Maintainer | INSTALL | BUILD | CHECK | |||||||||||||||||||||||||||||||
| 348/432 | sampleClassifierData 1.32.0 (landing page) | Khadija El Amrani | OK | OK | OK | ||||||||||||||||||||||||||||||
| 349/432 | SBGNview.data 1.22.0 (landing page) | Weijun Luo | OK | OK | OK | ||||||||||||||||||||||||||||||
| 350/432 | scaeData 1.4.0 (landing page) | Ahmad Al Ajami | OK | OK | OK | ||||||||||||||||||||||||||||||
| 351/432 | scanMiRData 1.14.0 (landing page) | Pierre-Luc Germain | OK | OK | OK | ||||||||||||||||||||||||||||||
| 352/432 | scATAC.Explorer 1.14.1 (landing page) | Jonathan Wang | OK | OK | OK | ||||||||||||||||||||||||||||||
| 353/432 | SCLCBam 1.40.0 (landing page) | Oscar Krijgsman | OK | OK | OK | ||||||||||||||||||||||||||||||
| 354/432 | scMultiome 1.8.0 (landing page) | Xiaosai Yao | OK | OK | OK | ||||||||||||||||||||||||||||||
| 355/432 | scpdata 1.16.1 (landing page) | Christophe Vanderaa | OK | OK | OK | ||||||||||||||||||||||||||||||
| 356/432 | scRNAseq 2.22.0 (landing page) | Aaron Lun | OK | OK | OK | ||||||||||||||||||||||||||||||
| 357/432 | scTHI.data 1.20.0 (landing page) | Michele Ceccarelli | OK | OK | OK | ||||||||||||||||||||||||||||||
| 358/432 | seq2pathway.data 1.40.0 (landing page) | Arjun Kinstlick | OK | OK | WARNINGS | ||||||||||||||||||||||||||||||
| 359/432 | seqc 1.42.0 (landing page) | Yang Liao | OK | OK | WARNINGS | ||||||||||||||||||||||||||||||
| 360/432 | serumStimulation 1.44.0 (landing page) | Morten Hansen, | OK | OK | OK | ||||||||||||||||||||||||||||||
| 361/432 | sesameData 1.26.0 (landing page) | Wanding Zhou | OK | OK | OK | ||||||||||||||||||||||||||||||
| 362/432 | seventyGeneData 1.44.0 (landing page) | Luigi Marchionni | OK | OK | OK | ||||||||||||||||||||||||||||||
| 363/432 | SFEData 1.10.0 (landing page) | Lambda Moses | OK | OK | OK | ||||||||||||||||||||||||||||||
| 364/432 | shinyMethylData 1.28.0 (landing page) | Jean-Philippe Fortin | OK | OK | WARNINGS | ||||||||||||||||||||||||||||||
| 365/432 | signatureSearchData 1.22.0 (landing page) | Brendan Gongol | OK | OK | OK | ||||||||||||||||||||||||||||||
| 366/432 | SimBenchData 1.16.0 (landing page) | Yue Cao | OK | OK | OK | ||||||||||||||||||||||||||||||
| 367/432 | simpIntLists 1.44.0 (landing page) | Kircicegi Korkmaz | OK | OK | WARNINGS | ||||||||||||||||||||||||||||||
| 368/432 | Single.mTEC.Transcriptomes 1.36.0 (landing page) | Alejandro Reyes | OK | OK | OK | ||||||||||||||||||||||||||||||
| 369/432 | SingleCellMultiModal 1.20.0 (landing page) | Marcel Ramos | OK | OK | OK | ||||||||||||||||||||||||||||||
| 370/432 | SingleMoleculeFootprintingData 1.16.0 (landing page) | Guido Barzaghi | OK | OK | OK | ||||||||||||||||||||||||||||||
| 371/432 | smokingMouse 1.6.0 (landing page) | Daianna Gonzalez-Padilla | OK | OK | OK | ||||||||||||||||||||||||||||||
| 372/432 | SNAData 1.54.0 (landing page) | Denise Scholtens | OK | OK | OK | ||||||||||||||||||||||||||||||
| 373/432 | SNAGEEdata 1.44.0 (landing page) | David Venet | OK | OK | OK | ||||||||||||||||||||||||||||||
| 374/432 | SNPhoodData 1.38.0 (landing page) | Christian Arnold | OK | OK | OK | ||||||||||||||||||||||||||||||
| 375/432 | SomatiCAData 1.46.0 (landing page) | Mengjie Chen | OK | OK | WARNINGS | ||||||||||||||||||||||||||||||
| 376/432 | SomaticCancerAlterations 1.44.0 (landing page) | Julian Gehring | OK | OK | OK | ||||||||||||||||||||||||||||||
| 377/432 | SpatialDatasets 1.6.3 (landing page) | Ellis Patrick | OK | OK | WARNINGS | ||||||||||||||||||||||||||||||
| 378/432 | spatialDmelxsim 1.14.0 (landing page) | Michael Love | OK | OK | OK | ||||||||||||||||||||||||||||||
| 379/432 | spatialLIBD 1.20.1 (landing page) | Leonardo Collado-Torres | OK | OK | ERROR | ||||||||||||||||||||||||||||||
| 380/432 | SpikeIn 1.50.0 (landing page) | Robert D Shear | OK | OK | OK | ||||||||||||||||||||||||||||||
| 381/432 | SpikeInSubset 1.48.0 (landing page) | Robert D Shear | OK | OK | WARNINGS | ||||||||||||||||||||||||||||||
| 382/432 | spqnData 1.20.0 (landing page) | Yi Wang | OK | OK | OK | ||||||||||||||||||||||||||||||
| 383/432 | stemHypoxia 1.44.0 (landing page) | Cristobal Fresno | OK | OK | OK | ||||||||||||||||||||||||||||||
| 384/432 | STexampleData 1.16.0 (landing page) | Lukas M. Weber | OK | OK | OK | ||||||||||||||||||||||||||||||
| 385/432 | SubcellularSpatialData 1.4.0 (landing page) | Dharmesh D. Bhuva | OK | OK | OK | ||||||||||||||||||||||||||||||
| 386/432 | SVM2CRMdata 1.40.0 (landing page) | Guidantonio Malagoli Tagliazucchi | OK | OK | WARNINGS | ||||||||||||||||||||||||||||||
| 387/432 | Laurent Gatto | OK | OK | OK | |||||||||||||||||||||||||||||||
| 388/432 | systemPipeRdata 2.12.2 (landing page) | Thomas Girke | OK | OK | OK | ||||||||||||||||||||||||||||||
|
| ||||||||||||||||||||||||||||||||||
| Package | Maintainer | INSTALL | BUILD | CHECK | |||||||||||||||||||||||||||||||
| 389/432 | TabulaMurisData 1.26.0 (landing page) | Charlotte Soneson | OK | OK | OK | ||||||||||||||||||||||||||||||
| 390/432 | TabulaMurisSenisData 1.14.0 (landing page) | Charlotte Soneson | OK | OK | OK | ||||||||||||||||||||||||||||||
| 391/432 | TargetScoreData 1.44.0 (landing page) | Yue Li | OK | OK | OK | ||||||||||||||||||||||||||||||
| 392/432 | TargetSearchData 1.46.0 (landing page) | Alvaro Cuadros-Inostroza | OK | OK | OK | ||||||||||||||||||||||||||||||
| 393/432 | tartare 1.22.0 (landing page) | Christian Panse | OK | OK | OK | ||||||||||||||||||||||||||||||
| 394/432 | TBX20BamSubset 1.44.0 (landing page) | D. Bindreither | OK | OK | OK | ||||||||||||||||||||||||||||||
| 395/432 | TCGAbiolinksGUI.data 1.28.0 (landing page) | Tiago Chedraoui Silva | OK | OK | WARNINGS | ||||||||||||||||||||||||||||||
| 396/432 | TCGAcrcmiRNA 1.28.0 (landing page) | Claudio Isella | OK | OK | OK | ||||||||||||||||||||||||||||||
| 397/432 | TCGAcrcmRNA 1.28.0 (landing page) | Claudio Isella | OK | OK | OK | ||||||||||||||||||||||||||||||
| 398/432 | TCGAMethylation450k 1.44.0 (landing page) | Sean Davis | OK | OK | OK | ||||||||||||||||||||||||||||||
| 399/432 | TCGAWorkflowData 1.32.0 (landing page) | Tiago Chedraoui Silva | OK | OK | OK | ||||||||||||||||||||||||||||||
| 400/432 | TENET.ExperimentHub 1.0.0 (landing page) | Rhie Lab at the University of Southern California | OK | OK | OK | ||||||||||||||||||||||||||||||
| 401/432 | TENxBrainData 1.28.0 (landing page) | Bioconductor Package Maintainer | OK | OK | OK | ||||||||||||||||||||||||||||||
| 402/432 | TENxBUSData 1.22.0 (landing page) | Lambda Moses | OK | OK | OK | ||||||||||||||||||||||||||||||
| 403/432 | TENxPBMCData 1.26.0 (landing page) | Stephanie Hicks | OK | OK | OK | ||||||||||||||||||||||||||||||
| 404/432 | TENxVisiumData 1.16.0 (landing page) | Helena L. Crowell | OK | OK | ERROR | ||||||||||||||||||||||||||||||
| 405/432 | TENxXeniumData 1.4.0 (landing page) | Matineh Rahmatbakhsh | OK | OK | OK | ||||||||||||||||||||||||||||||
| 406/432 | timecoursedata 1.18.0 (landing page) | Nelle Varoquaux | OK | OK | OK | ||||||||||||||||||||||||||||||
| 407/432 | TimerQuant 1.38.0 (landing page) | Joseph Barry | OK | ERROR | skipped | ||||||||||||||||||||||||||||||
| 408/432 | tinesath1cdf 1.46.0 (landing page) | Tine Casneuf | OK | OK | WARNINGS | ||||||||||||||||||||||||||||||
| 409/432 | tinesath1probe 1.46.0 (landing page) | Tine Casneuf | OK | OK | WARNINGS | ||||||||||||||||||||||||||||||
| 410/432 | tissueTreg 1.28.0 (landing page) | Charles Imbusch | OK | OK | OK | ||||||||||||||||||||||||||||||
| 411/432 | TMExplorer 1.18.0 (landing page) | Erik Christensen | OK | OK | ERROR | ||||||||||||||||||||||||||||||
| 412/432 | tofsimsData 1.36.0 (landing page) | Lorenz Gerber | OK | OK | WARNINGS | ||||||||||||||||||||||||||||||
| 413/432 | topdownrdata 1.30.0 (landing page) | Sebastian Gibb | OK | OK | OK | ||||||||||||||||||||||||||||||
| 414/432 | TransOmicsData 1.4.0 (landing page) | Di Xiao | OK | OK | OK | ||||||||||||||||||||||||||||||
| 415/432 | tuberculosis 1.14.0 (landing page) | Lucas Schiffer | OK | OK | OK | ||||||||||||||||||||||||||||||
| 416/432 | TumourMethData 1.6.0 (landing page) | Richard Heery | OK | OK | WARNINGS | ||||||||||||||||||||||||||||||
| 417/432 | tweeDEseqCountData 1.46.0 (landing page) | Dolors Pelegri-Siso | OK | OK | WARNINGS | ||||||||||||||||||||||||||||||
| 418/432 | tximportData 1.36.0 (landing page) | Michael Love | OK | OK | OK | ||||||||||||||||||||||||||||||
|
| ||||||||||||||||||||||||||||||||||
| Package | Maintainer | INSTALL | BUILD | CHECK | |||||||||||||||||||||||||||||||
| 419/432 | VariantToolsData 1.32.0 (landing page) | Michael Lawrence | OK | OK | OK | ||||||||||||||||||||||||||||||
| 420/432 | VectraPolarisData 1.12.0 (landing page) | Wrobel Julia | OK | OK | OK | ||||||||||||||||||||||||||||||
| 421/432 | vulcandata 1.30.0 (landing page) | Federico M. Giorgi | OK | OK | OK | ||||||||||||||||||||||||||||||
|
| ||||||||||||||||||||||||||||||||||
| Package | Maintainer | INSTALL | BUILD | CHECK | |||||||||||||||||||||||||||||||
| 422/432 | WeberDivechaLCdata 1.10.0 (landing page) | Lukas M. Weber | OK | OK | OK | ||||||||||||||||||||||||||||||
| 423/432 | WES.1KG.WUGSC 1.40.0 (landing page) | Yuchao Jiang | OK | OK | OK | ||||||||||||||||||||||||||||||
| 424/432 | WGSmapp 1.20.0 (landing page) | Rujin Wang | OK | OK | WARNINGS | ||||||||||||||||||||||||||||||
|
| ||||||||||||||||||||||||||||||||||
| Package | Maintainer | INSTALL | BUILD | CHECK | |||||||||||||||||||||||||||||||
| 425/432 | xcoredata 1.12.0 (landing page) | Maciej Migdał | OK | OK | OK | ||||||||||||||||||||||||||||||
| 426/432 | XhybCasneuf 1.46.0 (landing page) | Tineke Casneuf | OK | OK | WARNINGS | ||||||||||||||||||||||||||||||
|
| ||||||||||||||||||||||||||||||||||
| Package | Maintainer | INSTALL | BUILD | CHECK | |||||||||||||||||||||||||||||||
| 427/432 | yeastCC 1.48.0 (landing page) | Sandrine Dudoit | OK | OK | WARNINGS | ||||||||||||||||||||||||||||||
| 428/432 | yeastExpData 0.54.0 (landing page) | R. Gentleman | OK | OK | WARNINGS | ||||||||||||||||||||||||||||||
| 429/432 | yeastGSData 0.46.0 (landing page) | R. Gentleman | OK | OK | WARNINGS | ||||||||||||||||||||||||||||||
| 430/432 | yeastNagalakshmi 1.44.0 (landing page) | Bioconductor Package Maintainer | OK | OK | OK | ||||||||||||||||||||||||||||||
| 431/432 | yeastRNASeq 0.46.0 (landing page) | J. Bullard | OK | OK | WARNINGS | ||||||||||||||||||||||||||||||
|
| ||||||||||||||||||||||||||||||||||
| Package | Maintainer | INSTALL | BUILD | CHECK | |||||||||||||||||||||||||||||||
| 432/432 | zebrafishRNASeq 1.28.0 (landing page) | Davide Risso | OK | OK | OK | ||||||||||||||||||||||||||||||