Back to Multiple platform build/check report for BioC 3.21: simplified long |
|
This page was generated on 2025-04-22 13:18 -0400 (Tue, 22 Apr 2025).
Hostname | OS | Arch (*) | R version | Installed pkgs |
---|---|---|---|---|
nebbiolo1 | Linux (Ubuntu 24.04.1 LTS) | x86_64 | 4.5.0 RC (2025-04-04 r88126) -- "How About a Twenty-Six" | 4831 |
palomino7 | Windows Server 2022 Datacenter | x64 | 4.5.0 RC (2025-04-04 r88126 ucrt) -- "How About a Twenty-Six" | 4573 |
lconway | macOS 12.7.1 Monterey | x86_64 | 4.5.0 RC (2025-04-04 r88126) -- "How About a Twenty-Six" | 4599 |
kjohnson3 | macOS 13.7.1 Ventura | arm64 | 4.5.0 RC (2025-04-04 r88126) -- "How About a Twenty-Six" | 4553 |
kunpeng2 | Linux (openEuler 24.03 LTS) | aarch64 | R Under development (unstable) (2025-02-19 r87757) -- "Unsuffered Consequences" | 4570 |
Click on any hostname to see more info about the system (e.g. compilers) (*) as reported by 'uname -p', except on Windows and Mac OS X |
Package 1411/2341 | Hostname | OS / Arch | INSTALL | BUILD | CHECK | BUILD BIN | ||||||||
musicatk 2.2.0 (landing page) Joshua D. Campbell
| nebbiolo1 | Linux (Ubuntu 24.04.1 LTS) / x86_64 | OK | OK | OK | ![]() | ||||||||
palomino7 | Windows Server 2022 Datacenter / x64 | OK | OK | OK | OK | ![]() | ||||||||
lconway | macOS 12.7.1 Monterey / x86_64 | OK | OK | OK | OK | ![]() | ||||||||
kjohnson3 | macOS 13.7.1 Ventura / arm64 | OK | OK | OK | OK | ![]() | ||||||||
kunpeng2 | Linux (openEuler 24.03 LTS) / aarch64 | OK | OK | OK | ||||||||||
To the developers/maintainers of the musicatk package: - Allow up to 24 hours (and sometimes 48 hours) for your latest push to git@git.bioconductor.org:packages/musicatk.git to reflect on this report. See Troubleshooting Build Report for more information. - Use the following Renviron settings to reproduce errors and warnings. - If 'R CMD check' started to fail recently on the Linux builder(s) over a missing dependency, add the missing dependency to 'Suggests:' in your DESCRIPTION file. See Renviron.bioc for more information. |
Package: musicatk |
Version: 2.2.0 |
Command: /Library/Frameworks/R.framework/Resources/bin/R CMD check --install=check:musicatk.install-out.txt --library=/Library/Frameworks/R.framework/Resources/library --no-vignettes --timings musicatk_2.2.0.tar.gz |
StartedAt: 2025-04-21 20:36:27 -0400 (Mon, 21 Apr 2025) |
EndedAt: 2025-04-21 20:41:37 -0400 (Mon, 21 Apr 2025) |
EllapsedTime: 310.0 seconds |
RetCode: 0 |
Status: OK |
CheckDir: musicatk.Rcheck |
Warnings: 0 |
############################################################################## ############################################################################## ### ### Running command: ### ### /Library/Frameworks/R.framework/Resources/bin/R CMD check --install=check:musicatk.install-out.txt --library=/Library/Frameworks/R.framework/Resources/library --no-vignettes --timings musicatk_2.2.0.tar.gz ### ############################################################################## ############################################################################## * using log directory ‘/Users/biocbuild/bbs-3.21-bioc/meat/musicatk.Rcheck’ * using R version 4.5.0 RC (2025-04-04 r88126) * using platform: aarch64-apple-darwin20 * R was compiled by Apple clang version 14.0.0 (clang-1400.0.29.202) GNU Fortran (GCC) 14.2.0 * running under: macOS Ventura 13.7.1 * using session charset: UTF-8 * using option ‘--no-vignettes’ * checking for file ‘musicatk/DESCRIPTION’ ... OK * checking extension type ... Package * this is package ‘musicatk’ version ‘2.2.0’ * package encoding: UTF-8 * checking package namespace information ... OK * checking package dependencies ... INFO Imports includes 45 non-default packages. Importing from so many packages makes the package vulnerable to any of them becoming unavailable. Move as many as possible to Suggests and use conditionally. * checking if this is a source package ... OK * checking if there is a namespace ... OK * checking for hidden files and directories ... OK * checking for portable file names ... OK * checking for sufficient/correct file permissions ... OK * checking whether package ‘musicatk’ can be installed ... OK * checking installed package size ... OK * checking package directory ... OK * checking ‘build’ directory ... OK * checking DESCRIPTION meta-information ... OK * checking top-level files ... OK * checking for left-over files ... OK * checking index information ... OK * checking package subdirectories ... OK * checking code files for non-ASCII characters ... OK * checking R files for syntax errors ... OK * checking whether the package can be loaded ... OK * checking whether the package can be loaded with stated dependencies ... OK * checking whether the package can be unloaded cleanly ... OK * checking whether the namespace can be loaded with stated dependencies ... OK * checking whether the namespace can be unloaded cleanly ... OK * checking dependencies in R code ... OK * checking S3 generic/method consistency ... OK * checking replacement functions ... OK * checking foreign function calls ... OK * checking R code for possible problems ... OK * checking Rd files ... OK * checking Rd metadata ... OK * checking Rd cross-references ... NOTE Found the following Rd file(s) with Rd \link{} targets missing package anchors: add_flank_to_variants.Rd: BSgenome-class build_standard_table.Rd: BSgenome-class create_musica_from_variants.Rd: BSgenome-class create_sbs192_table.Rd: BSgenome-class create_sbs96_table.Rd: BSgenome-class extract_variants.Rd: CollapsedVCF-class, ExpandedVCF-class, MAF-class variants.Rd: data.table-class Please provide package anchors for all Rd \link{} targets not in the package itself and the base packages. * checking for missing documentation entries ... OK * checking for code/documentation mismatches ... OK * checking Rd \usage sections ... OK * checking Rd contents ... OK * checking for unstated dependencies in examples ... OK * checking contents of ‘data’ directory ... OK * checking data for non-ASCII characters ... OK * checking LazyData ... OK * checking data for ASCII and uncompressed saves ... OK * checking files in ‘vignettes’ ... OK * checking examples ... OK Examples with CPU (user + system) or elapsed time > 5s user system elapsed plot_k_comparison 81.881 0.72 83.162 compare_k_vals 77.341 0.98 78.627 * checking for unstated dependencies in ‘tests’ ... OK * checking tests ... Running ‘testthat.R’ OK * checking for unstated dependencies in vignettes ... OK * checking package vignettes ... OK * checking running R code from vignettes ... SKIPPED * checking re-building of vignette outputs ... SKIPPED * checking PDF version of manual ... OK * DONE Status: 1 NOTE See ‘/Users/biocbuild/bbs-3.21-bioc/meat/musicatk.Rcheck/00check.log’ for details.
musicatk.Rcheck/00install.out
############################################################################## ############################################################################## ### ### Running command: ### ### /Library/Frameworks/R.framework/Resources/bin/R CMD INSTALL musicatk ### ############################################################################## ############################################################################## * installing to library ‘/Library/Frameworks/R.framework/Versions/4.5-arm64/Resources/library’ * installing *source* package ‘musicatk’ ... ** this is package ‘musicatk’ version ‘2.2.0’ ** using staged installation ** R ** data *** moving datasets to lazyload DB ** inst ** byte-compile and prepare package for lazy loading ** help *** installing help indices ** building package indices ** installing vignettes ** testing if installed package can be loaded from temporary location ** testing if installed package can be loaded from final location ** testing if installed package keeps a record of temporary installation path * DONE (musicatk)
musicatk.Rcheck/tests/testthat.Rout
R version 4.5.0 RC (2025-04-04 r88126) -- "How About a Twenty-Six" Copyright (C) 2025 The R Foundation for Statistical Computing Platform: aarch64-apple-darwin20 R is free software and comes with ABSOLUTELY NO WARRANTY. You are welcome to redistribute it under certain conditions. Type 'license()' or 'licence()' for distribution details. R is a collaborative project with many contributors. Type 'contributors()' for more information and 'citation()' on how to cite R or R packages in publications. Type 'demo()' for some demos, 'help()' for on-line help, or 'help.start()' for an HTML browser interface to help. Type 'q()' to quit R. > library("testthat") > library("musicatk") Loading required package: NMF Loading required package: registry Loading required package: rngtools Loading required package: cluster NMF - BioConductor layer [OK] | Shared memory capabilities [NO: synchronicity] | Cores 2/2 To enable shared memory capabilities, try: install.extras(' NMF ') Attaching package: 'NMF' The following object is masked from 'package:generics': fit The following object is masked from 'package:testthat': compare > > test_check("musicatk") [ FAIL 0 | WARN 2 | SKIP 0 | PASS 41 ] [ FAIL 0 | WARN 2 | SKIP 0 | PASS 41 ] > > proc.time() user system elapsed 8.593 0.336 8.997
musicatk.Rcheck/musicatk-Ex.timings
name | user | system | elapsed | |
add_flank_to_variants | 1.187 | 0.080 | 1.281 | |
add_variant_type | 0.007 | 0.002 | 0.010 | |
annotate_replication_strand | 0.045 | 0.004 | 0.049 | |
annotate_transcript_strand | 0.452 | 0.017 | 0.468 | |
annotate_variant_length | 0.005 | 0.002 | 0.006 | |
annotate_variant_type | 0.001 | 0.001 | 0.002 | |
auto_predict_grid | 1.132 | 0.038 | 1.175 | |
build_custom_table | 0.316 | 0.015 | 0.331 | |
build_standard_table | 2.230 | 0.382 | 2.695 | |
built_tables | 0.001 | 0.001 | 0.003 | |
cluster_exposure | 0.007 | 0.001 | 0.009 | |
combine_count_tables | 0.768 | 0.104 | 0.963 | |
combine_predict_grid | 0.167 | 0.011 | 0.180 | |
compare_cosmic_v2 | 0.895 | 0.013 | 0.909 | |
compare_cosmic_v3 | 0.492 | 0.006 | 0.503 | |
compare_k_vals | 77.341 | 0.980 | 78.627 | |
compare_results | 0.556 | 0.029 | 0.587 | |
cosmic_v2_subtype_map | 0.001 | 0.000 | 0.001 | |
create_musica_from_counts | 0.002 | 0.001 | 0.003 | |
create_musica_from_variants | 0.442 | 0.091 | 0.337 | |
create_result_model | 0.001 | 0.000 | 0.001 | |
create_umap | 2.348 | 0.034 | 2.384 | |
credible_intervals | 0.001 | 0.001 | 0.003 | |
discover_signatures | 0.228 | 0.037 | 0.265 | |
drop_annotation | 0.001 | 0.001 | 0.002 | |
exposure_differential_analysis | 0.004 | 0.001 | 0.005 | |
exposures | 0.006 | 0.001 | 0.007 | |
extract_count_tables | 0.001 | 0.001 | 0.002 | |
extract_variants | 1.412 | 0.074 | 1.277 | |
extract_variants_from_maf | 0.069 | 0.004 | 0.037 | |
extract_variants_from_maf_file | 0.055 | 0.004 | 0.029 | |
extract_variants_from_matrix | 0.066 | 0.004 | 0.035 | |
extract_variants_from_vcf | 0.368 | 0.020 | 0.205 | |
extract_variants_from_vcf_file | 0.129 | 0.002 | 0.132 | |
generate_result_grid | 0.135 | 0.002 | 0.138 | |
get_modality | 0.002 | 0.002 | 0.003 | |
get_model | 0.002 | 0.001 | 0.002 | |
get_result_list_entry | 0.001 | 0.000 | 0.002 | |
hyperparameter | 0.000 | 0.001 | 0.002 | |
k_select | 0.203 | 0.005 | 0.207 | |
metrics | 0.001 | 0.001 | 0.001 | |
modality | 0.001 | 0.001 | 0.001 | |
model_id | 0.001 | 0.001 | 0.002 | |
musicatk | 0 | 0 | 0 | |
name_signatures | 0.009 | 0.001 | 0.011 | |
num_signatures | 0.001 | 0.001 | 0.002 | |
other_parameters | 0.001 | 0.001 | 0.002 | |
parameter | 0.001 | 0.001 | 0.002 | |
pipe | 0.001 | 0.000 | 0.002 | |
plot_cluster | 2.225 | 0.048 | 2.297 | |
plot_differential_analysis | 0.050 | 0.002 | 0.052 | |
plot_exposures | 0.097 | 0.011 | 0.108 | |
plot_heatmap | 0.250 | 0.011 | 0.260 | |
plot_k_comparison | 81.881 | 0.720 | 83.162 | |
plot_sample_counts | 0.164 | 0.022 | 0.186 | |
plot_sample_reconstruction_error | 0.236 | 0.012 | 0.248 | |
plot_signatures | 0.241 | 0.004 | 0.246 | |
plot_umap | 2.394 | 0.027 | 2.444 | |
predict_exposure | 0.377 | 0.052 | 0.436 | |
rc | 0.001 | 0.000 | 0.000 | |
result_list | 0.001 | 0.001 | 0.002 | |
samp_annot | 0.002 | 0.002 | 0.004 | |
sample_names | 0.001 | 0.001 | 0.002 | |
select_genome | 0 | 0 | 0 | |
signatures | 0.005 | 0.003 | 0.008 | |
subset_musica_by_annotation | 0.002 | 0.001 | 0.002 | |
subset_musica_by_counts | 0.003 | 0.001 | 0.004 | |
subset_variant_by_type | 0.002 | 0.001 | 0.003 | |
subset_variants_by_samples | 0.002 | 0.001 | 0.003 | |
table_selected | 0.001 | 0.001 | 0.001 | |
tables | 0.001 | 0.001 | 0.002 | |
umap | 0.001 | 0.001 | 0.002 | |
variants | 0.002 | 0.001 | 0.003 | |