Back to Multiple platform build/check report for BioC 3.21:   simplified   long
ABCDEFGHIJKL[M]NOPQRSTUVWXYZ

This page was generated on 2025-05-08 11:42 -0400 (Thu, 08 May 2025).

HostnameOSArch (*)R versionInstalled pkgs
nebbiolo1Linux (Ubuntu 24.04.1 LTS)x86_644.5.0 RC (2025-04-04 r88126) -- "How About a Twenty-Six" 4833
palomino7Windows Server 2022 Datacenterx644.5.0 RC (2025-04-04 r88126 ucrt) -- "How About a Twenty-Six" 4574
merida1macOS 12.7.5 Montereyx86_644.5.0 RC (2025-04-04 r88126) -- "How About a Twenty-Six" 4599
kjohnson1macOS 13.6.6 Venturaarm644.5.0 RC (2025-04-04 r88129) -- "How About a Twenty-Six" 4553
kunpeng2Linux (openEuler 24.03 LTS)aarch64R Under development (unstable) (2025-02-19 r87757) -- "Unsuffered Consequences" 4570
Click on any hostname to see more info about the system (e.g. compilers)      (*) as reported by 'uname -p', except on Windows and Mac OS X

Package 1411/2341HostnameOS / ArchINSTALLBUILDCHECKBUILD BIN
musicatk 2.2.0  (landing page)
Joshua D. Campbell
Snapshot Date: 2025-05-05 13:40 -0400 (Mon, 05 May 2025)
git_url: https://git.bioconductor.org/packages/musicatk
git_branch: RELEASE_3_21
git_last_commit: 030212f
git_last_commit_date: 2025-04-15 12:12:56 -0400 (Tue, 15 Apr 2025)
nebbiolo1Linux (Ubuntu 24.04.1 LTS) / x86_64  OK    OK    OK  UNNEEDED, same version is already published
palomino7Windows Server 2022 Datacenter / x64  OK    OK    OK    OK  UNNEEDED, same version is already published
merida1macOS 12.7.5 Monterey / x86_64  OK    OK    OK    OK  UNNEEDED, same version is already published
kjohnson1macOS 13.6.6 Ventura / arm64  OK    OK    OK    OK  UNNEEDED, same version is already published
kunpeng2Linux (openEuler 24.03 LTS) / aarch64  OK    OK    OK  


CHECK results for musicatk on palomino7

To the developers/maintainers of the musicatk package:
- Allow up to 24 hours (and sometimes 48 hours) for your latest push to git@git.bioconductor.org:packages/musicatk.git to reflect on this report. See Troubleshooting Build Report for more information.
- Use the following Renviron settings to reproduce errors and warnings.
- If 'R CMD check' started to fail recently on the Linux builder(s) over a missing dependency, add the missing dependency to 'Suggests:' in your DESCRIPTION file. See Renviron.bioc for more information.

raw results


Summary

Package: musicatk
Version: 2.2.0
Command: E:\biocbuild\bbs-3.21-bioc\R\bin\R.exe CMD check --no-multiarch --install=check:musicatk.install-out.txt --library=E:\biocbuild\bbs-3.21-bioc\R\library --no-vignettes --timings musicatk_2.2.0.tar.gz
StartedAt: 2025-05-06 04:36:22 -0400 (Tue, 06 May 2025)
EndedAt: 2025-05-06 04:51:13 -0400 (Tue, 06 May 2025)
EllapsedTime: 891.1 seconds
RetCode: 0
Status:   OK  
CheckDir: musicatk.Rcheck
Warnings: 0

Command output

##############################################################################
##############################################################################
###
### Running command:
###
###   E:\biocbuild\bbs-3.21-bioc\R\bin\R.exe CMD check --no-multiarch --install=check:musicatk.install-out.txt --library=E:\biocbuild\bbs-3.21-bioc\R\library --no-vignettes --timings musicatk_2.2.0.tar.gz
###
##############################################################################
##############################################################################


* using log directory 'E:/biocbuild/bbs-3.21-bioc/meat/musicatk.Rcheck'
* using R version 4.5.0 RC (2025-04-04 r88126 ucrt)
* using platform: x86_64-w64-mingw32
* R was compiled by
    gcc.exe (GCC) 14.2.0
    GNU Fortran (GCC) 14.2.0
* running under: Windows Server 2022 x64 (build 20348)
* using session charset: UTF-8
* using option '--no-vignettes'
* checking for file 'musicatk/DESCRIPTION' ... OK
* checking extension type ... Package
* this is package 'musicatk' version '2.2.0'
* package encoding: UTF-8
* checking package namespace information ... OK
* checking package dependencies ... INFO
Imports includes 45 non-default packages.
Importing from so many packages makes the package vulnerable to any of
them becoming unavailable.  Move as many as possible to Suggests and
use conditionally.
* checking if this is a source package ... OK
* checking if there is a namespace ... OK
* checking for hidden files and directories ... OK
* checking for portable file names ... OK
* checking whether package 'musicatk' can be installed ... OK
* checking installed package size ... OK
* checking package directory ... OK
* checking 'build' directory ... OK
* checking DESCRIPTION meta-information ... OK
* checking top-level files ... OK
* checking for left-over files ... OK
* checking index information ... OK
* checking package subdirectories ... OK
* checking code files for non-ASCII characters ... OK
* checking R files for syntax errors ... OK
* checking whether the package can be loaded ... OK
* checking whether the package can be loaded with stated dependencies ... OK
* checking whether the package can be unloaded cleanly ... OK
* checking whether the namespace can be loaded with stated dependencies ... OK
* checking whether the namespace can be unloaded cleanly ... OK
* checking dependencies in R code ... OK
* checking S3 generic/method consistency ... OK
* checking replacement functions ... OK
* checking foreign function calls ... OK
* checking R code for possible problems ... OK
* checking Rd files ... OK
* checking Rd metadata ... OK
* checking Rd cross-references ... NOTE
Found the following Rd file(s) with Rd \link{} targets missing package
anchors:
  add_flank_to_variants.Rd: BSgenome-class
  build_standard_table.Rd: BSgenome-class
  create_musica_from_variants.Rd: BSgenome-class
  create_sbs192_table.Rd: BSgenome-class
  create_sbs96_table.Rd: BSgenome-class
  extract_variants.Rd: CollapsedVCF-class, ExpandedVCF-class, MAF-class
  variants.Rd: data.table-class
Please provide package anchors for all Rd \link{} targets not in the
package itself and the base packages.
* checking for missing documentation entries ... OK
* checking for code/documentation mismatches ... OK
* checking Rd \usage sections ... OK
* checking Rd contents ... OK
* checking for unstated dependencies in examples ... OK
* checking contents of 'data' directory ... OK
* checking data for non-ASCII characters ... OK
* checking LazyData ... OK
* checking data for ASCII and uncompressed saves ... OK
* checking files in 'vignettes' ... OK
* checking examples ... OK
Examples with CPU (user + system) or elapsed time > 5s
                      user system elapsed
plot_k_comparison    84.08   0.53  192.50
compare_k_vals       75.25   0.56  185.10
build_standard_table  9.82   1.81   13.04
plot_cluster          6.52   0.14   13.92
create_umap           5.80   0.09    5.98
plot_umap             5.59   0.06    5.69
extract_variants      4.81   0.15    5.08
* checking for unstated dependencies in 'tests' ... OK
* checking tests ...
  Running 'testthat.R'
 OK
* checking for unstated dependencies in vignettes ... OK
* checking package vignettes ... OK
* checking running R code from vignettes ... SKIPPED
* checking re-building of vignette outputs ... SKIPPED
* checking PDF version of manual ... OK
* DONE

Status: 1 NOTE
See
  'E:/biocbuild/bbs-3.21-bioc/meat/musicatk.Rcheck/00check.log'
for details.


Installation output

musicatk.Rcheck/00install.out

##############################################################################
##############################################################################
###
### Running command:
###
###   E:\biocbuild\bbs-3.21-bioc\R\bin\R.exe CMD INSTALL musicatk
###
##############################################################################
##############################################################################


* installing to library 'E:/biocbuild/bbs-3.21-bioc/R/library'
* installing *source* package 'musicatk' ...
** this is package 'musicatk' version '2.2.0'
** using staged installation
** R
** data
*** moving datasets to lazyload DB
** inst
** byte-compile and prepare package for lazy loading
** help
*** installing help indices
** building package indices
** installing vignettes
** testing if installed package can be loaded from temporary location
** testing if installed package can be loaded from final location
** testing if installed package keeps a record of temporary installation path
* DONE (musicatk)

Tests output

musicatk.Rcheck/tests/testthat.Rout


R version 4.5.0 RC (2025-04-04 r88126 ucrt) -- "How About a Twenty-Six"
Copyright (C) 2025 The R Foundation for Statistical Computing
Platform: x86_64-w64-mingw32/x64

R is free software and comes with ABSOLUTELY NO WARRANTY.
You are welcome to redistribute it under certain conditions.
Type 'license()' or 'licence()' for distribution details.

R is a collaborative project with many contributors.
Type 'contributors()' for more information and
'citation()' on how to cite R or R packages in publications.

Type 'demo()' for some demos, 'help()' for on-line help, or
'help.start()' for an HTML browser interface to help.
Type 'q()' to quit R.

> library("testthat")
> library("musicatk")
Loading required package: NMF
Loading required package: registry
Loading required package: rngtools
Loading required package: cluster
NMF - BioConductor layer [OK] | Shared memory capabilities [NO: windows] | Cores 2/2

Attaching package: 'NMF'

The following object is masked from 'package:generics':

    fit

The following object is masked from 'package:testthat':

    compare

> 
> test_check("musicatk")
[ FAIL 0 | WARN 2 | SKIP 0 | PASS 41 ]

[ FAIL 0 | WARN 2 | SKIP 0 | PASS 41 ]
> 
> proc.time()
   user  system elapsed 
  25.67    1.89   27.11 

Example timings

musicatk.Rcheck/musicatk-Ex.timings

nameusersystemelapsed
add_flank_to_variants4.170.334.53
add_variant_type0.030.000.03
annotate_replication_strand0.220.000.22
annotate_transcript_strand2.490.092.58
annotate_variant_length0.010.000.02
annotate_variant_type000
auto_predict_grid2.920.032.97
build_custom_table1.250.051.30
build_standard_table 9.82 1.8113.04
built_tables000
cluster_exposure0.010.020.03
combine_count_tables3.170.513.69
combine_predict_grid0.670.090.76
compare_cosmic_v23.650.113.83
compare_cosmic_v31.730.001.77
compare_k_vals 75.25 0.56185.10
compare_results2.280.022.36
cosmic_v2_subtype_map0.020.000.01
create_musica_from_counts0.010.000.02
create_musica_from_variants0.960.384.58
create_result_model0.010.000.04
create_umap5.800.095.98
credible_intervals0.000.010.01
discover_signatures0.980.151.62
drop_annotation0.000.010.02
exposure_differential_analysis0.000.020.06
exposures0.020.010.03
extract_count_tables0.000.020.01
extract_variants4.810.155.08
extract_variants_from_maf0.170.000.17
extract_variants_from_maf_file0.130.000.12
extract_variants_from_matrix0.120.040.16
extract_variants_from_vcf0.990.041.03
extract_variants_from_vcf_file0.530.030.56
generate_result_grid0.670.000.67
get_modality0.000.020.01
get_model0.000.010.02
get_result_list_entry000
hyperparameter0.000.020.02
k_select1.080.031.27
metrics0.000.020.02
modality0.010.000.02
model_id000
musicatk000
name_signatures0.050.000.05
num_signatures000
other_parameters0.000.010.02
parameter000
pipe0.000.020.03
plot_cluster 6.52 0.1413.92
plot_differential_analysis0.200.000.22
plot_exposures0.480.000.50
plot_heatmap1.500.671.23
plot_k_comparison 84.08 0.53192.50
plot_sample_counts0.670.000.67
plot_sample_reconstruction_error0.970.001.00
plot_signatures0.990.001.02
plot_umap5.590.065.69
predict_exposure1.480.331.83
rc000
result_list0.000.010.01
samp_annot0.000.040.03
sample_names0.020.000.01
select_genome000
signatures0.010.030.05
subset_musica_by_annotation0.000.010.03
subset_musica_by_counts0.030.000.03
subset_variant_by_type0.020.000.02
subset_variants_by_samples0.010.000.02
table_selected0.000.020.02
tables0.020.000.02
umap000
variants0.000.010.02