Back to the "Multiple platform build/check report" A  B  C  D  E  F  G  H  I  J  K  L  M  N  O  P  Q [R] S  T  U  V  W  X  Y  Z 

BioC 3.2: CHECK report for regioneR on perceval

This page was generated on 2015-10-27 17:37:11 -0400 (Tue, 27 Oct 2015).

Package 868/1104HostnameOS / ArchINSTALLBUILDCHECKBUILD BIN
regioneR 1.2.0
Bernat Gel
Snapshot Date: 2015-10-26 19:24:07 -0400 (Mon, 26 Oct 2015)
URL: https://hedgehog.fhcrc.org/bioconductor/branches/RELEASE_3_2/madman/Rpacks/regioneR
Last Changed Rev: 109589 / Revision: 109947
Last Changed Date: 2015-10-13 15:36:05 -0400 (Tue, 13 Oct 2015)
linux1.bioconductor.org Linux (Ubuntu 14.04.2 LTS) / x86_64  OK  OK  OK UNNEEDED, same version exists in internal repository
windows1.bioconductor.org Windows Server 2012 R2 Enterprise SP1 (64-bit) / x64  OK  OK  OK  OK UNNEEDED, same version exists in internal repository
perceval Mac OS X Snow Leopard (10.6.8) / x86_64  OK  OK [ OK ] OK UNNEEDED, same version exists in internal repository
oaxaca Mac OS X Mavericks (10.9.5) / x86_64  OK  OK  OK  OK UNNEEDED, same version exists in internal repository

Summary

Package: regioneR
Version: 1.2.0
Command: /Library/Frameworks/R.framework/Versions/Current/Resources/bin/R CMD check --no-vignettes --timings regioneR_1.2.0.tar.gz
StartedAt: 2015-10-27 11:34:26 -0400 (Tue, 27 Oct 2015)
EndedAt: 2015-10-27 11:45:53 -0400 (Tue, 27 Oct 2015)
EllapsedTime: 686.9 seconds
RetCode: 0
Status:  OK 
CheckDir: regioneR.Rcheck
Warnings: 0

Command output

##############################################################################
##############################################################################
###
### Running command:
###
###   /Library/Frameworks/R.framework/Versions/Current/Resources/bin/R CMD check --no-vignettes --timings regioneR_1.2.0.tar.gz
###
##############################################################################
##############################################################################


* using log directory ‘/Users/biocbuild/bbs-3.2-bioc/meat/regioneR.Rcheck’
* using R version 3.2.2 Patched (2015-10-08 r69496)
* using platform: x86_64-apple-darwin10.8.0 (64-bit)
* using session charset: UTF-8
* using option ‘--no-vignettes’
* checking for file ‘regioneR/DESCRIPTION’ ... OK
* checking extension type ... Package
* this is package ‘regioneR’ version ‘1.2.0’
* checking package namespace information ... OK
* checking package dependencies ... OK
* checking if this is a source package ... OK
* checking if there is a namespace ... OK
* checking for hidden files and directories ... OK
* checking for portable file names ... OK
* checking for sufficient/correct file permissions ... OK
* checking whether package ‘regioneR’ can be installed ... [19s/19s] OK
* checking installed package size ... OK
* checking package directory ... OK
* checking ‘build’ directory ... OK
* checking DESCRIPTION meta-information ... NOTE
Packages listed in more than one of Depends, Imports, Suggests, Enhances:
  ‘memoise’ ‘GenomicRanges’ ‘BSgenome’ ‘rtracklayer’ ‘parallel’
A package should be listed in only one of these fields.
* checking top-level files ... OK
* checking for left-over files ... OK
* checking index information ... OK
* checking package subdirectories ... OK
* checking R files for non-ASCII characters ... OK
* checking R files for syntax errors ... OK
* checking whether the package can be loaded ... OK
* checking whether the package can be loaded with stated dependencies ... OK
* checking whether the package can be unloaded cleanly ... OK
* checking whether the namespace can be loaded with stated dependencies ... OK
* checking whether the namespace can be unloaded cleanly ... OK
* checking dependencies in R code ... OK
* checking S3 generic/method consistency ... OK
* checking replacement functions ... OK
* checking foreign function calls ... OK
* checking R code for possible problems ... NOTE
copySeqLevels: no visible global function definition for ‘seqlevels<-’
copySeqLevels: no visible global function definition for ‘seqlevels’
createRandomRegions: no visible global function definition for
  ‘seqlevels’
filterChromosomes: no visible global function definition for
  ‘keepSeqlevels’
randomizeRegions: no visible global function definition for ‘seqlevels’
randomizeRegions: no visible global function definition for ‘IRanges’
resampleRegions: no visible global function definition for ‘seqlevels’
toGRanges: no visible global function definition for ‘IRanges’
* checking Rd files ... OK
* checking Rd metadata ... OK
* checking Rd cross-references ... OK
* checking for missing documentation entries ... OK
* checking for code/documentation mismatches ... OK
* checking Rd \usage sections ... OK
* checking Rd contents ... OK
* checking for unstated dependencies in examples ... OK
* checking sizes of PDF files under ‘inst/doc’ ... OK
* checking installed files from ‘inst/doc’ ... OK
* checking files in ‘vignettes’ ... OK
* checking examples ... [360s/374s] OK
Examples with CPU or elapsed time > 5s
                           user system elapsed
createRandomRegions      49.725  6.724  56.453
filterChromosomes        48.812  6.257  55.087
circularRandomizeRegions 48.591  6.294  64.628
maskFromBSGenome         46.554  6.227  52.795
getMask                  45.942  6.013  51.961
randomizeRegions         45.397  5.233  50.636
localZScore               4.077  0.390   6.042
characterToBSGenome       0.675  0.194   5.353
* checking for unstated dependencies in ‘tests’ ... OK
* checking tests ...
  Running ‘testthat.R’ [131s/135s]
 [131s/135s] OK
* checking for unstated dependencies in vignettes ... OK
* checking package vignettes in ‘inst/doc’ ... OK
* checking running R code from vignettes ... SKIPPED
* checking re-building of vignette outputs ... SKIPPED
* checking PDF version of manual ... OK
* DONE

Status: 2 NOTEs
See
  ‘/Users/biocbuild/bbs-3.2-bioc/meat/regioneR.Rcheck/00check.log’
for details.


regioneR.Rcheck/00install.out:

* installing *source* package ‘regioneR’ ...
** R
** inst
** preparing package for lazy loading
** help
*** installing help indices
** building package indices
** installing vignettes
** testing if installed package can be loaded
* DONE (regioneR)

regioneR.Rcheck/regioneR-Ex.timings:

nameusersystemelapsed
characterToBSGenome0.6750.1945.353
circularRandomizeRegions48.591 6.29464.628
commonRegions0.2650.0190.284
createFunctionsList1.0270.4001.427
createRandomRegions49.725 6.72456.453
emptyCacheRegioneR0.0010.0000.001
extendRegions0.1430.0010.144
filterChromosomes48.812 6.25755.087
getChromosomesByOrganism0.0020.0000.001
getGenome0.0580.0000.058
getGenomeAndMask0.4170.1530.571
getMask45.942 6.01351.961
joinRegions0.1640.0010.165
listChrTypes0.020.000.02
localZScore4.0770.3906.042
maskFromBSGenome46.554 6.22752.795
meanDistance0.1090.0000.109
meanInRegions0.1500.0010.151
mergeRegions0.1310.0010.132
numOverlaps0.2080.0000.208
overlapGraphicalSummary0.1870.0010.188
overlapPermTest1.0420.0031.045
overlapRegions0.070.000.07
permTest1.8140.0041.820
plot.localZScoreResults1.5280.1991.730
plot.localZScoreResultsList3.2960.0063.302
plot.permTestResults2.7250.0082.739
plot.permTestResultsList3.1900.2433.446
plotRegions0.0630.0010.064
print.permTestResults1.8090.0021.810
randomizeRegions45.397 5.23350.636
recomputePermTest1.0550.0231.080
resampleRegions0.0700.0010.071
splitRegions0.1090.0010.111
subtractRegions0.1670.0000.169
toDataframe0.0170.0000.018
toGRanges0.0250.0010.025
uniqueRegions0.3370.0020.340