Back to the "Multiple platform build/check report" A  B  C  D  E  F  G  H  I  J  K  L  M  N  O  P  Q [R] S  T  U  V  W  X  Y  Z 

BioC 3.2: CHECK report for regioneR on oaxaca

This page was generated on 2015-10-27 17:42:17 -0400 (Tue, 27 Oct 2015).

Package 868/1104HostnameOS / ArchINSTALLBUILDCHECKBUILD BIN
regioneR 1.2.0
Bernat Gel
Snapshot Date: 2015-10-26 19:24:07 -0400 (Mon, 26 Oct 2015)
URL: https://hedgehog.fhcrc.org/bioconductor/branches/RELEASE_3_2/madman/Rpacks/regioneR
Last Changed Rev: 109589 / Revision: 109947
Last Changed Date: 2015-10-13 15:36:05 -0400 (Tue, 13 Oct 2015)
linux1.bioconductor.org Linux (Ubuntu 14.04.2 LTS) / x86_64  OK  OK  OK UNNEEDED, same version exists in internal repository
windows1.bioconductor.org Windows Server 2012 R2 Enterprise SP1 (64-bit) / x64  OK  OK  OK  OK UNNEEDED, same version exists in internal repository
perceval Mac OS X Snow Leopard (10.6.8) / x86_64  OK  OK  OK  OK UNNEEDED, same version exists in internal repository
oaxaca Mac OS X Mavericks (10.9.5) / x86_64  OK  OK [ OK ] OK UNNEEDED, same version exists in internal repository

Summary

Package: regioneR
Version: 1.2.0
Command: /Library/Frameworks/R.framework/Versions/Current/Resources/bin/R CMD check --no-vignettes --timings regioneR_1.2.0.tar.gz
StartedAt: 2015-10-27 07:07:43 -0400 (Tue, 27 Oct 2015)
EndedAt: 2015-10-27 07:18:15 -0400 (Tue, 27 Oct 2015)
EllapsedTime: 632.5 seconds
RetCode: 0
Status:  OK 
CheckDir: regioneR.Rcheck
Warnings: 0

Command output

##############################################################################
##############################################################################
###
### Running command:
###
###   /Library/Frameworks/R.framework/Versions/Current/Resources/bin/R CMD check --no-vignettes --timings regioneR_1.2.0.tar.gz
###
##############################################################################
##############################################################################


* using log directory ‘/Users/biocbuild/bbs-3.2-bioc/meat/regioneR.Rcheck’
* using R version 3.2.2 (2015-08-14)
* using platform: x86_64-apple-darwin13.4.0 (64-bit)
* using session charset: UTF-8
* using option ‘--no-vignettes’
* checking for file ‘regioneR/DESCRIPTION’ ... OK
* checking extension type ... Package
* this is package ‘regioneR’ version ‘1.2.0’
* checking package namespace information ... OK
* checking package dependencies ... OK
* checking if this is a source package ... OK
* checking if there is a namespace ... OK
* checking for hidden files and directories ... OK
* checking for portable file names ... OK
* checking for sufficient/correct file permissions ... OK
* checking whether package ‘regioneR’ can be installed ... [16s/16s] OK
* checking installed package size ... OK
* checking package directory ... OK
* checking ‘build’ directory ... OK
* checking DESCRIPTION meta-information ... NOTE
Packages listed in more than one of Depends, Imports, Suggests, Enhances:
  ‘memoise’ ‘GenomicRanges’ ‘BSgenome’ ‘rtracklayer’ ‘parallel’
A package should be listed in only one of these fields.
* checking top-level files ... OK
* checking for left-over files ... OK
* checking index information ... OK
* checking package subdirectories ... OK
* checking R files for non-ASCII characters ... OK
* checking R files for syntax errors ... OK
* checking whether the package can be loaded ... OK
* checking whether the package can be loaded with stated dependencies ... OK
* checking whether the package can be unloaded cleanly ... OK
* checking whether the namespace can be loaded with stated dependencies ... OK
* checking whether the namespace can be unloaded cleanly ... OK
* checking dependencies in R code ... OK
* checking S3 generic/method consistency ... OK
* checking replacement functions ... OK
* checking foreign function calls ... OK
* checking R code for possible problems ... NOTE
copySeqLevels: no visible global function definition for ‘seqlevels<-’
copySeqLevels: no visible global function definition for ‘seqlevels’
createRandomRegions: no visible global function definition for
  ‘seqlevels’
filterChromosomes: no visible global function definition for
  ‘keepSeqlevels’
randomizeRegions: no visible global function definition for ‘seqlevels’
randomizeRegions: no visible global function definition for ‘IRanges’
resampleRegions: no visible global function definition for ‘seqlevels’
toGRanges: no visible global function definition for ‘IRanges’
* checking Rd files ... OK
* checking Rd metadata ... OK
* checking Rd cross-references ... OK
* checking for missing documentation entries ... OK
* checking for code/documentation mismatches ... OK
* checking Rd \usage sections ... OK
* checking Rd contents ... OK
* checking for unstated dependencies in examples ... OK
* checking sizes of PDF files under ‘inst/doc’ ... OK
* checking installed files from ‘inst/doc’ ... OK
* checking files in ‘vignettes’ ... OK
* checking examples ... [345s/376s] OK
Examples with CPU or elapsed time > 5s
                           user system elapsed
maskFromBSGenome         50.883  4.598  55.607
filterChromosomes        50.187  4.616  54.849
getMask                  49.791  4.470  54.299
randomizeRegions         49.516  3.935  60.387
createRandomRegions      43.171  2.867  46.038
circularRandomizeRegions 42.611  3.313  61.072
localZScore               4.426  0.431   6.766
characterToBSGenome       0.378  0.060   9.490
* checking for unstated dependencies in ‘tests’ ... OK
* checking tests ...
  Running ‘testthat.R’ [127s/135s]
 [127s/135s] OK
* checking for unstated dependencies in vignettes ... OK
* checking package vignettes in ‘inst/doc’ ... OK
* checking running R code from vignettes ... SKIPPED
* checking re-building of vignette outputs ... SKIPPED
* checking PDF version of manual ... OK
* DONE

Status: 2 NOTEs
See
  ‘/Users/biocbuild/bbs-3.2-bioc/meat/regioneR.Rcheck/00check.log’
for details.


regioneR.Rcheck/00install.out:

* installing *source* package ‘regioneR’ ...
** R
** inst
** preparing package for lazy loading
** help
*** installing help indices
** building package indices
** installing vignettes
** testing if installed package can be loaded
* DONE (regioneR)

regioneR.Rcheck/regioneR-Ex.timings:

nameusersystemelapsed
characterToBSGenome0.3780.0609.490
circularRandomizeRegions42.611 3.31361.072
commonRegions0.1430.0120.155
createFunctionsList0.6890.1490.839
createRandomRegions43.171 2.86746.038
emptyCacheRegioneR0.0000.0000.001
extendRegions0.0810.0000.082
filterChromosomes50.187 4.61654.849
getChromosomesByOrganism0.0010.0010.001
getGenome0.0550.0000.056
getGenomeAndMask0.3200.0960.416
getMask49.791 4.47054.299
joinRegions0.1930.0010.194
listChrTypes0.0220.0000.022
localZScore4.4260.4316.766
maskFromBSGenome50.883 4.59855.607
meanDistance0.1170.0010.118
meanInRegions0.1820.0000.183
mergeRegions0.1630.0010.165
numOverlaps0.2190.0000.221
overlapGraphicalSummary0.2130.0010.229
overlapPermTest1.0650.0031.070
overlapRegions0.0640.0000.065
permTest1.8660.0471.916
plot.localZScoreResults1.6630.0031.668
plot.localZScoreResultsList3.6710.0063.685
plot.permTestResults3.0390.1943.238
plot.permTestResultsList3.0430.0073.072
plotRegions0.0580.0010.075
print.permTestResults1.9580.0031.963
randomizeRegions49.516 3.93560.387
recomputePermTest1.1940.0161.217
resampleRegions0.0840.0000.085
splitRegions0.1270.0010.131
subtractRegions0.2180.0010.220
toDataframe0.0190.0000.020
toGRanges0.0290.0010.030
uniqueRegions0.3600.0010.362