Back to the "Multiple platform build/check report" A  B [C] D  E  F  G  H  I  J  K  L  M  N  O  P  Q  R  S  T  U  V  W  X  Y  Z 

BioC 3.2: CHECK report for ChIPpeakAnno on oaxaca

This page was generated on 2015-10-27 17:39:00 -0400 (Tue, 27 Oct 2015).

Package 165/1104HostnameOS / ArchINSTALLBUILDCHECKBUILD BIN
ChIPpeakAnno 3.4.0
Lihua Julie Zhu , Jianhong Ou
Snapshot Date: 2015-10-26 19:24:07 -0400 (Mon, 26 Oct 2015)
URL: https://hedgehog.fhcrc.org/bioconductor/branches/RELEASE_3_2/madman/Rpacks/ChIPpeakAnno
Last Changed Rev: 109589 / Revision: 109947
Last Changed Date: 2015-10-13 15:36:05 -0400 (Tue, 13 Oct 2015)
linux1.bioconductor.org Linux (Ubuntu 14.04.2 LTS) / x86_64  OK  OK  OK UNNEEDED, same version exists in internal repository
windows1.bioconductor.org Windows Server 2012 R2 Enterprise SP1 (64-bit) / x64  OK  OK  OK  OK UNNEEDED, same version exists in internal repository
perceval Mac OS X Snow Leopard (10.6.8) / x86_64  OK  OK  OK  OK UNNEEDED, same version exists in internal repository
oaxaca Mac OS X Mavericks (10.9.5) / x86_64  OK  OK [ OK ] OK UNNEEDED, same version exists in internal repository

Summary

Package: ChIPpeakAnno
Version: 3.4.0
Command: /Library/Frameworks/R.framework/Versions/Current/Resources/bin/R CMD check --no-vignettes --timings ChIPpeakAnno_3.4.0.tar.gz
StartedAt: 2015-10-27 02:09:11 -0400 (Tue, 27 Oct 2015)
EndedAt: 2015-10-27 02:15:37 -0400 (Tue, 27 Oct 2015)
EllapsedTime: 385.1 seconds
RetCode: 0
Status:  OK 
CheckDir: ChIPpeakAnno.Rcheck
Warnings: 0

Command output

##############################################################################
##############################################################################
###
### Running command:
###
###   /Library/Frameworks/R.framework/Versions/Current/Resources/bin/R CMD check --no-vignettes --timings ChIPpeakAnno_3.4.0.tar.gz
###
##############################################################################
##############################################################################


* using log directory ‘/Users/biocbuild/bbs-3.2-bioc/meat/ChIPpeakAnno.Rcheck’
* using R version 3.2.2 (2015-08-14)
* using platform: x86_64-apple-darwin13.4.0 (64-bit)
* using session charset: UTF-8
* using option ‘--no-vignettes’
* checking for file ‘ChIPpeakAnno/DESCRIPTION’ ... OK
* checking extension type ... Package
* this is package ‘ChIPpeakAnno’ version ‘3.4.0’
* checking package namespace information ... OK
* checking package dependencies ... NOTE
Depends: includes the non-default packages:
  ‘grid’ ‘IRanges’ ‘Biostrings’ ‘GenomicRanges’ ‘S4Vectors’
  ‘VennDiagram’
Adding so many packages to the search path is excessive and importing
selectively is preferable.
* checking if this is a source package ... OK
* checking if there is a namespace ... OK
* checking for hidden files and directories ... OK
* checking for portable file names ... OK
* checking for sufficient/correct file permissions ... OK
* checking whether package ‘ChIPpeakAnno’ can be installed ... [26s/27s] OK
* checking installed package size ... NOTE
  installed size is 18.7Mb
  sub-directories of 1Mb or more:
    data     12.7Mb
    extdata   4.7Mb
* checking package directory ... OK
* checking ‘build’ directory ... OK
* checking DESCRIPTION meta-information ... OK
* checking top-level files ... OK
* checking for left-over files ... OK
* checking index information ... OK
* checking package subdirectories ... OK
* checking R files for non-ASCII characters ... OK
* checking R files for syntax errors ... OK
* checking whether the package can be loaded ... OK
* checking whether the package can be loaded with stated dependencies ... OK
* checking whether the package can be unloaded cleanly ... OK
* checking whether the namespace can be loaded with stated dependencies ... OK
* checking whether the namespace can be unloaded cleanly ... OK
* checking dependencies in R code ... OK
* checking S3 generic/method consistency ... OK
* checking replacement functions ... OK
* checking foreign function calls ... OK
* checking R code for possible problems ... OK
* checking Rd files ... OK
* checking Rd metadata ... OK
* checking Rd cross-references ... OK
* checking for missing documentation entries ... OK
* checking for code/documentation mismatches ... OK
* checking Rd \usage sections ... OK
* checking Rd contents ... OK
* checking for unstated dependencies in examples ... OK
* checking contents of ‘data’ directory ... OK
* checking data for non-ASCII characters ... OK
* checking data for ASCII and uncompressed saves ... OK
* checking installed files from ‘inst/doc’ ... OK
* checking files in ‘vignettes’ ... OK
* checking examples ... [35s/45s] OK
Examples with CPU or elapsed time > 5s
            user system elapsed
addGeneIDs 2.069  0.147  11.865
* checking for unstated dependencies in ‘tests’ ... OK
* checking tests ...
  Running ‘runTests.R’ [69s/71s]
 [70s/71s] OK
* checking for unstated dependencies in vignettes ... OK
* checking package vignettes in ‘inst/doc’ ... OK
* checking running R code from vignettes ... SKIPPED
* checking re-building of vignette outputs ... SKIPPED
* checking PDF version of manual ... OK
* DONE

Status: 2 NOTEs
See
  ‘/Users/biocbuild/bbs-3.2-bioc/meat/ChIPpeakAnno.Rcheck/00check.log’
for details.


ChIPpeakAnno.Rcheck/00install.out:

* installing *source* package ‘ChIPpeakAnno’ ...
** R
** data
** inst
** preparing package for lazy loading
** help
*** installing help indices
** building package indices
** installing vignettes
** testing if installed package can be loaded
* DONE (ChIPpeakAnno)

ChIPpeakAnno.Rcheck/ChIPpeakAnno-Ex.timings:

nameusersystemelapsed
BED2RangedData0.0810.0010.082
ChIPpeakAnno-package0.0010.0000.002
ExonPlusUtr.human.GRCh374.6070.1084.720
GFF2RangedData0.0220.0000.023
HOT.spots0.1690.0290.198
Peaks.Ste12.Replicate10.0330.0020.035
Peaks.Ste12.Replicate20.0230.0020.024
Peaks.Ste12.Replicate30.0270.0020.027
TSS.human.GRCh370.1640.0210.185
TSS.human.GRCh380.8260.0140.841
TSS.human.NCBI360.2540.0270.281
TSS.mouse.GRCm380.6020.0410.648
TSS.mouse.NCBIM370.1360.0250.162
TSS.rat.RGSC3.40.1170.0220.139
TSS.rat.Rnor_5.00.1090.0270.136
TSS.zebrafish.Zv80.1040.0270.131
TSS.zebrafish.Zv90.1320.0250.159
addAncestors1.9900.1452.208
addGeneIDs 2.069 0.14711.865
annoGR0.0010.0000.001
annotatePeakInBatch1.2830.0671.353
annotatedPeak0.1280.0080.136
assignChromosomeRegion0.0030.0000.003
binOverFeature0.5120.0270.540
condenseMatrixByColnames0.0290.0000.029
convert2EntrezID0.5590.0120.574
countPatternInSeqs0.1480.0010.149
egOrgMap0.0010.0000.001
enrichedGO0.0030.0000.004
featureAlignedDistribution1.4840.0051.489
featureAlignedHeatmap1.8280.0051.835
featureAlignedSignal1.7340.0461.782
findOverlappingPeaks0.0040.0000.004
findOverlapsOfPeaks0.7300.0060.782
getAllPeakSequence0.7350.0220.829
getAnnotation0.0010.0000.001
getEnrichedGO0.0240.0020.027
getEnrichedPATH0.0020.0000.002
getGeneSeq0.0050.0010.005
getUniqueGOidCount0.0020.0000.003
getVennCounts0.0040.0000.004
hyperGtest0.0030.0000.002
makeVennDiagram0.0070.0000.007
mergePlusMinusPeaks0.0030.0000.002
myPeakList0.0430.0020.045
peakPermTest0.0030.0000.003
peaksNearBDP0.0020.0000.003
pie10.0120.0000.013
preparePool0.0020.0010.002
summarizePatternInPeaks0.6930.0230.716
toGRanges0.0380.0010.039
translatePattern0.0010.0000.001
wgEncodeTfbsV30.2630.0100.273
write2FASTA0.0140.0000.015