| Back to Build/check report for BioC 3.15 experimental data |
|
This page was generated on 2022-10-18 14:50:12 -0400 (Tue, 18 Oct 2022).
| Hostname | OS | Arch (*) | R version | Installed pkgs |
|---|---|---|---|---|
| nebbiolo1 | Linux (Ubuntu 20.04.5 LTS) | x86_64 | 4.2.1 (2022-06-23) -- "Funny-Looking Kid" | 4386 |
| Click on any hostname to see more info about the system (e.g. compilers) (*) as reported by 'uname -p', except on Windows and Mac OS X | ||||
|
To the developers/maintainers of the FlowSorted.CordBloodCombined.450k package: Make sure to use the following settings in order to reproduce any error or warning you see on this page. |
| Package 130/410 | Hostname | OS / Arch | INSTALL | BUILD | CHECK | ||||||||
| FlowSorted.CordBloodCombined.450k 1.12.0 (landing page) Lucas A. Salas
| nebbiolo1 | Linux (Ubuntu 20.04.5 LTS) / x86_64 | OK | OK | OK | ||||||||
| Package: FlowSorted.CordBloodCombined.450k |
| Version: 1.12.0 |
| Command: /home/biocbuild/bbs-3.15-bioc/R/bin/R CMD build --keep-empty-dirs --no-resave-data FlowSorted.CordBloodCombined.450k |
| StartedAt: 2022-10-18 10:21:51 -0400 (Tue, 18 Oct 2022) |
| EndedAt: 2022-10-18 10:23:00 -0400 (Tue, 18 Oct 2022) |
| EllapsedTime: 68.8 seconds |
| RetCode: 0 |
| Status: OK |
| PackageFile: FlowSorted.CordBloodCombined.450k_1.12.0.tar.gz |
| PackageFileSize: 59.79 KiB |
############################################################################## ############################################################################## ### ### Running command: ### ### /home/biocbuild/bbs-3.15-bioc/R/bin/R CMD build --keep-empty-dirs --no-resave-data FlowSorted.CordBloodCombined.450k ### ############################################################################## ############################################################################## * checking for file ‘FlowSorted.CordBloodCombined.450k/DESCRIPTION’ ... OK * preparing ‘FlowSorted.CordBloodCombined.450k’: * checking DESCRIPTION meta-information ... OK * installing the package to build vignettes * creating vignettes ... OK * checking for LF line-endings in source and make files and shell scripts * checking for empty or unneeded directories * building ‘FlowSorted.CordBloodCombined.450k_1.12.0.tar.gz’