* using log directory 'E:/biocbld/bbs-2.9-data-experiment/meat/mosaicsExample.Rcheck'
* using R version 2.14.0 Under development (unstable) (2011-06-03 r56036)
* using platform: i386-pc-mingw32 (32-bit)
* using session charset: ISO8859-1
* using option '--no-vignettes'
* checking for file 'mosaicsExample/DESCRIPTION' ... OK
* checking extension type ... Package
* this is package 'mosaicsExample' version '0.99.3'
* checking package dependencies ... OK
* checking if this is a source package ... OK
* checking whether package 'mosaicsExample' can be installed ... OK
* checking installed package size ... NOTE
installed size is 82.4Mb
sub-directories of 1Mb or more:
data 7.7Mb
extdata 74.6Mb
* checking package directory ... OK
* checking for portable file names ... OK
* checking DESCRIPTION meta-information ... OK
* checking top-level files ... OK
* checking index information ... OK
* checking package subdirectories ... OK
* checking whether the package can be loaded ... OK
* checking whether the package can be loaded with stated dependencies ... OK
* checking whether the package can be unloaded cleanly ... OK
* checking Rd files ... OK
* checking Rd metadata ... OK
* checking Rd cross-references ... OK
* checking for missing documentation entries ... OK
* checking for code/documentation mismatches ... OK
* checking Rd \usage sections ... OK
* checking Rd contents ... OK
* checking for unstated dependencies in examples ... OK
* checking contents of 'data' directory ... OK
* checking data for non-ASCII characters ... OK
* checking data for ASCII and uncompressed saves ... OK
* checking examples ... OK
* checking PDF version of manual ... OK