Back to the "Multiple platform build/check report" |
Package 73/98 | Hostname | OS / Arch | BUILD | CHECK | BUILD BIN | ||||
mosaicsExample 0.99.3 Dongjun Chung
| wilson2 | Linux (openSUSE 11.4) / x86_64 | OK | OK | |||||
liverpool | Windows Server 2003 R2 (32-bit) / x64 | [ OK ] | OK | OK | |||||
pitt | Mac OS X Leopard (10.5.8) / i386 | OK | OK | OK |
Package: mosaicsExample |
Version: 0.99.3 |
Command: chmod a+r mosaicsExample -R && E:\biocbld\bbs-2.9-bioc\R\bin\R.exe CMD build --keep-empty-dirs --no-resave-data mosaicsExample |
StartedAt: 2011-07-06 14:31:54 -0700 (Wed, 06 Jul 2011) |
EndedAt: 2011-07-06 14:32:15 -0700 (Wed, 06 Jul 2011) |
EllapsedTime: 20.1 seconds |
RetCode: 0 |
Status: OK |
PackageFile: mosaicsExample_0.99.3.tar.gz |
PackageFileSize: 19.89 MiB |
* checking for file 'mosaicsExample/DESCRIPTION' ... OK * preparing 'mosaicsExample': * checking DESCRIPTION meta-information ... OK * checking for LF line-endings in source and make files * checking for empty or unneeded directories * looking to see if a 'data/datalist' file should be added * building 'mosaicsExample_0.99.3.tar.gz'