BioC experimental data: CHECK report for phastCons100way.UCSC.hg19 on zin2
This page was generated on 2014-04-15 17:30:33 -0700 (Tue, 15 Apr 2014).
phastCons100way.UCSC.hg19 1.0.0 Robert Castelo
Snapshot Date: 2014-04-15 07:15:35 -0700 (Tue, 15 Apr 2014) | URL: https://hedgehog.fhcrc.org/bioc-data/branches/RELEASE_2_14/experiment/pkgs/phastCons100way.UCSC.hg19 | Last Changed Rev: 2799 / Revision: 2809 | Last Changed Date: 2014-04-11 14:27:08 -0700 (Fri, 11 Apr 2014) |
| zin2 | Linux (Ubuntu 12.04.4 LTS) / x86_64 | OK | [ OK ] | |
moscato2 | Windows Server 2008 R2 Enterprise SP1 (64-bit) / x64 | OK | OK | OK |
petty | Mac OS X Snow Leopard (10.6.8) / x86_64 | OK | OK | OK |
Summary
Package: phastCons100way.UCSC.hg19 |
Version: 1.0.0 |
Command: /home/biocbuild/bbs-2.14-bioc/R/bin/R CMD check --no-vignettes --timings phastCons100way.UCSC.hg19_1.0.0.tar.gz |
StartedAt: 2014-04-15 11:23:45 -0700 (Tue, 15 Apr 2014) |
EndedAt: 2014-04-15 11:31:27 -0700 (Tue, 15 Apr 2014) |
EllapsedTime: 462.4 seconds |
RetCode: 0 |
Status: OK |
CheckDir: phastCons100way.UCSC.hg19.Rcheck |
Warnings: 0 |
Command output
* using log directory ‘/home/biocbuild/bbs-2.14-data-experiment/meat/phastCons100way.UCSC.hg19.Rcheck’
* using R version 3.1.0 (2014-04-10)
* using platform: x86_64-unknown-linux-gnu (64-bit)
* using session charset: UTF-8
* using option ‘--no-vignettes’
* checking for file ‘phastCons100way.UCSC.hg19/DESCRIPTION’ ... OK
* this is package ‘phastCons100way.UCSC.hg19’ version ‘1.0.0’
* checking package namespace information ... OK
* checking package dependencies ... OK
* checking if this is a source package ... OK
* checking if there is a namespace ... OK
* checking for hidden files and directories ... OK
* checking for portable file names ... OK
* checking for sufficient/correct file permissions ... OK
* checking whether package ‘phastCons100way.UCSC.hg19’ can be installed ... [36s/40s] OK
* checking installed package size ... NOTE
installed size is 229.9Mb
sub-directories of 1Mb or more:
extdata 229.8Mb
* checking package directory ... OK
* checking DESCRIPTION meta-information ... OK
* checking top-level files ... OK
* checking for left-over files ... OK
* checking index information ... OK
* checking package subdirectories ... OK
* checking R files for non-ASCII characters ... OK
* checking R files for syntax errors ... OK
* checking whether the package can be loaded ... OK
* checking whether the package can be loaded with stated dependencies ... OK
* checking whether the package can be unloaded cleanly ... OK
* checking whether the namespace can be loaded with stated dependencies ... OK
* checking whether the namespace can be unloaded cleanly ... OK
* checking dependencies in R code ... OK
* checking S3 generic/method consistency ... OK
* checking replacement functions ... OK
* checking foreign function calls ... OK
* checking R code for possible problems ... OK
* checking Rd files ... OK
* checking Rd metadata ... OK
* checking Rd cross-references ... OK
* checking for missing documentation entries ... OK
* checking for code/documentation mismatches ... OK
* checking Rd \usage sections ... OK
* checking Rd contents ... OK
* checking for unstated dependencies in examples ... OK
* checking examples ... [23s/24s] OK
* checking PDF version of manual ... OK
NOTE: There was 1 note.
See
‘/home/biocbuild/bbs-2.14-data-experiment/meat/phastCons100way.UCSC.hg19.Rcheck/00check.log’
for details.
phastCons100way.UCSC.hg19.Rcheck/00install.out:
* installing *source* package ‘phastCons100way.UCSC.hg19’ ...
** R
** inst
** preparing package for lazy loading
Note: the specification for S3 class “AsIs” in package ‘RJSONIO’ seems equivalent to one from package ‘BiocGenerics’: not turning on duplicate class definitions for this class.
** help
*** installing help indices
** building package indices
** testing if installed package can be loaded
Note: the specification for S3 class “AsIs” in package ‘RJSONIO’ seems equivalent to one from package ‘BiocGenerics’: not turning on duplicate class definitions for this class.
* DONE (phastCons100way.UCSC.hg19)
phastCons100way.UCSC.hg19.Rcheck/phastCons100way.UCSC.hg19-Ex.timings:
name | user | system | elapsed
|
phastCons100way.UCSC.hg19-package | 0.340 | 0.028 | 0.369 |
|