Scanning files
adding: DESCRIPTION (188 bytes security) (deflated 36%)
adding: extdata/ (256 bytes security) (stored 0%)
adding: extdata/phastCons100way.rda (188 bytes security) (deflated 1%)
adding: extdata/README (188 bytes security) (deflated 63%)
adding: extdata/refgenomeGD.rda (188 bytes security) (stored 0%)
adding: help/ (256 bytes security) (stored 0%)
adding: help/aliases.rds (188 bytes security) (stored 0%)
adding: help/AnIndex (188 bytes security) (deflated 65%)
adding: help/paths.rds (188 bytes security) (stored 0%)
adding: help/phastCons100way.UCSC.hg19.rdb (188 bytes security) (stored 0%)
adding: help/phastCons100way.UCSC.hg19.rdx (188 bytes security) (stored 0%)
adding: html/ (256 bytes security) (stored 0%)
adding: html/00Index.html (188 bytes security) (deflated 58%)
adding: html/R.css (188 bytes security) (deflated 70%)
adding: INDEX (188 bytes security) (deflated 36%)
adding: MD5 (188 bytes security) (deflated 44%)
adding: Meta/ (256 bytes security) (stored 0%)
adding: Meta/hsearch.rds (188 bytes security) (stored 0%)
adding: Meta/links.rds (188 bytes security) (stored 0%)
adding: Meta/nsInfo.rds (188 bytes security) (stored 0%)
adding: Meta/package.rds (188 bytes security) (stored 0%)
adding: Meta/Rd.rds (188 bytes security) (stored 0%)
adding: NAMESPACE (188 bytes security) (deflated 26%)
adding: R/ (256 bytes security) (stored 0%)
adding: R/phastCons100way.UCSC.hg19 (188 bytes security) (deflated 41%)
adding: R/phastCons100way.UCSC.hg19.rdb (188 bytes security) (deflated 3%)
adding: R/phastCons100way.UCSC.hg19.rdx (188 bytes security) (stored 0%)