Back to Build/check report for BioC 3.23 experimental data
ABCDEF[G]HIJKLMNOPQRSTUVWXYZ

This page was generated on 2025-11-27 15:01 -0500 (Thu, 27 Nov 2025).

HostnameOSArch (*)R versionInstalled pkgs
nebbiolo1Linux (Ubuntu 24.04.3 LTS)x86_64R Under development (unstable) (2025-10-20 r88955) -- "Unsuffered Consequences" 4866
Click on any hostname to see more info about the system (e.g. compilers)      (*) as reported by 'uname -p', except on Windows and Mac OS X

Package 148/431HostnameOS / ArchINSTALLBUILDCHECK
geneLenDataBase 1.47.0  (landing page)
Federico Marini
Snapshot Date: 2025-11-27 07:00 -0500 (Thu, 27 Nov 2025)
git_url: https://git.bioconductor.org/packages/geneLenDataBase
git_branch: devel
git_last_commit: 8b3da6c
git_last_commit_date: 2025-10-29 09:31:54 -0500 (Wed, 29 Oct 2025)
nebbiolo1Linux (Ubuntu 24.04.3 LTS) / x86_64  OK    OK    OK  UNNEEDED, same version is already published


CHECK results for geneLenDataBase on nebbiolo1

To the developers/maintainers of the geneLenDataBase package:
- Use the following Renviron settings to reproduce errors and warnings.
- If 'R CMD check' started to fail recently on the Linux builder(s) over a missing dependency, add the missing dependency to 'Suggests:' in your DESCRIPTION file. See Renviron.bioc for more information.

raw results


Summary

Package: geneLenDataBase
Version: 1.47.0
Command: /home/biocbuild/bbs-3.23-bioc/R/bin/R CMD check --install=check:geneLenDataBase.install-out.txt --library=/home/biocbuild/bbs-3.23-bioc/R/site-library --timings geneLenDataBase_1.47.0.tar.gz
StartedAt: 2025-11-27 12:25:00 -0500 (Thu, 27 Nov 2025)
EndedAt: 2025-11-27 12:34:15 -0500 (Thu, 27 Nov 2025)
EllapsedTime: 554.8 seconds
RetCode: 0
Status:   OK  
CheckDir: geneLenDataBase.Rcheck
Warnings: 0

Command output

##############################################################################
##############################################################################
###
### Running command:
###
###   /home/biocbuild/bbs-3.23-bioc/R/bin/R CMD check --install=check:geneLenDataBase.install-out.txt --library=/home/biocbuild/bbs-3.23-bioc/R/site-library --timings geneLenDataBase_1.47.0.tar.gz
###
##############################################################################
##############################################################################


* using log directory ‘/home/biocbuild/bbs-3.23-data-experiment/meat/geneLenDataBase.Rcheck’
* using R Under development (unstable) (2025-10-20 r88955)
* using platform: x86_64-pc-linux-gnu
* R was compiled by
    gcc (Ubuntu 13.3.0-6ubuntu2~24.04) 13.3.0
    GNU Fortran (Ubuntu 13.3.0-6ubuntu2~24.04) 13.3.0
* running under: Ubuntu 24.04.3 LTS
* using session charset: UTF-8
* checking for file ‘geneLenDataBase/DESCRIPTION’ ... OK
* this is package ‘geneLenDataBase’ version ‘1.47.0’
* package encoding: UTF-8
* checking package namespace information ... OK
* checking package dependencies ... OK
* checking if this is a source package ... OK
* checking if there is a namespace ... OK
* checking for hidden files and directories ... OK
* checking for portable file names ... OK
* checking for sufficient/correct file permissions ... OK
* checking whether package ‘geneLenDataBase’ can be installed ... OK
* checking installed package size ... INFO
  installed size is 100.0Mb
  sub-directories of 1Mb or more:
    data  99.5Mb
* checking package directory ... OK
* checking DESCRIPTION meta-information ... OK
* checking top-level files ... OK
* checking for left-over files ... OK
* checking index information ... OK
* checking package subdirectories ... OK
* checking code files for non-ASCII characters ... OK
* checking R files for syntax errors ... OK
* checking whether the package can be loaded ... OK
* checking whether the package can be loaded with stated dependencies ... OK
* checking whether the package can be unloaded cleanly ... OK
* checking whether the namespace can be loaded with stated dependencies ... OK
* checking whether the namespace can be unloaded cleanly ... OK
* checking loading without being on the library search path ... OK
* checking dependencies in R code ... NOTE
Unexported object imported by a ':::' call: ‘txdbmaker:::.UCSC_TXNAME2GENEID_MAPDEFS’
  See the note in ?`:::` about the use of this operator.
* checking S3 generic/method consistency ... OK
* checking replacement functions ... OK
* checking foreign function calls ... OK
* checking R code for possible problems ... OK
* checking Rd files ... OK
* checking Rd metadata ... OK
* checking Rd cross-references ... OK
* checking for missing documentation entries ... OK
* checking for code/documentation mismatches ... OK
* checking Rd \usage sections ... OK
* checking Rd contents ... OK
* checking for unstated dependencies in examples ... OK
* checking contents of ‘data’ directory ... OK
* checking data for non-ASCII characters ... OK
* checking data for ASCII and uncompressed saves ... OK
* checking examples ... OK
Examples with CPU (user + system) or elapsed time > 5s
                 user system elapsed
supportedGeneIDs 2.59  0.295   5.652
* checking PDF version of manual ... OK
* DONE

Status: 1 NOTE
See
  ‘/home/biocbuild/bbs-3.23-data-experiment/meat/geneLenDataBase.Rcheck/00check.log’
for details.


Installation output

geneLenDataBase.Rcheck/00install.out

##############################################################################
##############################################################################
###
### Running command:
###
###   /home/biocbuild/bbs-3.23-bioc/R/bin/R CMD INSTALL geneLenDataBase
###
##############################################################################
##############################################################################


* installing to library ‘/home/biocbuild/bbs-3.23-bioc/R/site-library’
* installing *source* package ‘geneLenDataBase’ ...
** this is package ‘geneLenDataBase’ version ‘1.47.0’
** using staged installation
** R
** data
** byte-compile and prepare package for lazy loading
** help
*** installing help indices
** building package indices
** testing if installed package can be loaded from temporary location
** testing if installed package can be loaded from final location
** testing if installed package keeps a record of temporary installation path
* DONE (geneLenDataBase)

Tests output


Example timings

geneLenDataBase.Rcheck/geneLenDataBase-Ex.timings

nameusersystemelapsed
anoCar1.ensGene.LENGTH0.0760.0040.080
anoCar1.genscan.LENGTH0.0470.0020.049
anoCar1.xenoRefGene.LENGTH0.8370.0070.844
anoGam1.ensGene.LENGTH0.0590.0000.059
anoGam1.geneid.LENGTH0.0440.0000.044
anoGam1.genscan.LENGTH0.0400.0010.041
apiMel1.genscan.LENGTH0.0360.0000.037
apiMel2.ensGene.LENGTH0.0880.0010.089
apiMel2.geneid.LENGTH0.0470.0010.048
apiMel2.genscan.LENGTH0.1010.0050.106
aplCal1.xenoRefGene.LENGTH0.4250.0000.425
bosTau2.geneSymbol.LENGTH0.0370.0030.039
bosTau2.geneid.LENGTH0.2370.0080.245
bosTau2.genscan.LENGTH0.0870.0010.088
bosTau2.refGene.LENGTH0.0410.0000.041
bosTau2.sgpGene.LENGTH0.1020.0020.104
bosTau3.ensGene.LENGTH0.1030.0040.107
bosTau3.geneSymbol.LENGTH0.0360.0020.037
bosTau3.geneid.LENGTH0.1210.0020.123
bosTau3.genscan.LENGTH0.1200.0020.123
bosTau3.refGene.LENGTH0.0340.0000.034
bosTau3.sgpGene.LENGTH0.0960.0000.096
bosTau4.ensGene.LENGTH0.0970.0030.100
bosTau4.geneSymbol.LENGTH0.0330.0020.035
bosTau4.genscan.LENGTH0.0660.0010.067
bosTau4.nscanGene.LENGTH0.0280.0010.029
bosTau4.refGene.LENGTH0.0320.0010.033
braFlo1.xenoRefGene.LENGTH0.4290.0090.438
caeJap1.xenoRefGene.LENGTH0.3840.0060.390
caePb1.xenoRefGene.LENGTH0.4950.0050.500
caePb2.xenoRefGene.LENGTH0.4670.0030.470
caeRem2.xenoRefGene.LENGTH0.4250.0030.428
caeRem3.xenoRefGene.LENGTH0.3910.0040.395
calJac1.genscan.LENGTH0.2390.0100.249
calJac1.nscanGene.LENGTH0.1050.0070.112
calJac1.xenoRefGene.LENGTH0.7020.0030.705
canFam1.ensGene.LENGTH0.1110.0010.112
canFam1.geneSymbol.LENGTH0.0040.0010.005
canFam1.genscan.LENGTH0.0590.0030.062
canFam1.nscanGene.LENGTH0.0630.0000.063
canFam1.refGene.LENGTH0.0040.0010.005
canFam1.xenoRefGene.LENGTH0.5870.0020.589
canFam2.ensGene.LENGTH0.0960.0010.097
canFam2.geneSymbol.LENGTH0.0060.0000.006
canFam2.genscan.LENGTH0.0560.0000.056
canFam2.nscanGene.LENGTH0.0600.0010.061
canFam2.refGene.LENGTH0.0040.0010.005
canFam2.xenoRefGene.LENGTH0.6110.0060.617
cavPor3.ensGene.LENGTH0.0910.0020.092
cavPor3.genscan.LENGTH0.1020.0020.103
cavPor3.nscanGene.LENGTH0.0840.0000.085
cavPor3.xenoRefGene.LENGTH0.6940.0180.712
cb1.xenoRefGene.LENGTH0.4320.0030.435
cb3.xenoRefGene.LENGTH0.3850.0020.387
ce2.geneSymbol.LENGTH0.0720.0020.074
ce2.geneid.LENGTH0.0640.0010.065
ce2.refGene.LENGTH0.0670.0020.069
ce4.geneSymbol.LENGTH0.0670.0030.070
ce4.refGene.LENGTH0.0640.0000.064
ce4.xenoRefGene.LENGTH0.0850.0020.087
ce6.ensGene.LENGTH0.1020.0010.103
ce6.geneSymbol.LENGTH0.0690.0010.070
ce6.refGene.LENGTH0.0640.0010.065
ce6.xenoRefGene.LENGTH0.0850.0010.086
ci1.geneSymbol.LENGTH0.0040.0020.006
ci1.refGene.LENGTH0.0060.0000.006
ci1.xenoRefGene.LENGTH0.1790.0030.182
ci2.ensGene.LENGTH0.0710.0000.071
ci2.geneSymbol.LENGTH0.0020.0030.005
ci2.refGene.LENGTH0.0030.0010.005
ci2.xenoRefGene.LENGTH0.3110.0050.316
danRer3.ensGene.LENGTH0.3720.0240.396
danRer3.geneSymbol.LENGTH0.0560.0000.055
danRer3.refGene.LENGTH0.050.000.05
danRer4.ensGene.LENGTH0.1250.0010.126
danRer4.geneSymbol.LENGTH0.0510.0020.053
danRer4.genscan.LENGTH0.0590.0030.062
danRer4.nscanGene.LENGTH0.0900.0010.091
danRer4.refGene.LENGTH0.0490.0010.050
danRer5.ensGene.LENGTH0.1260.0000.126
danRer5.geneSymbol.LENGTH0.0480.0020.050
danRer5.refGene.LENGTH0.0450.0010.046
danRer5.vegaGene.LENGTH0.0480.0010.049
danRer5.vegaPseudoGene.LENGTH0.0030.0000.003
danRer6.ensGene.LENGTH0.1180.0020.120
danRer6.geneSymbol.LENGTH0.0540.0000.054
danRer6.refGene.LENGTH0.0480.0000.047
danRer6.xenoRefGene.LENGTH0.5710.0070.578
dm1.geneSymbol.LENGTH0.0660.0020.068
dm1.genscan.LENGTH0.0240.0010.025
dm1.refGene.LENGTH0.0590.0010.060
dm2.geneSymbol.LENGTH0.0630.0010.065
dm2.geneid.LENGTH0.0380.0000.038
dm2.genscan.LENGTH0.8760.1381.016
dm2.nscanGene.LENGTH0.0480.0010.049
dm2.refGene.LENGTH0.0600.0020.062
dm3.geneSymbol.LENGTH0.0710.0010.071
dm3.nscanPasaGene.LENGTH0.0490.0000.051
dm3.refGene.LENGTH0.0670.0020.070
downloadLengthFromUCSC0.0000.0000.001
dp2.genscan.LENGTH0.0330.0000.033
dp2.xenoRefGene.LENGTH0.2360.0040.240
dp3.geneid.LENGTH0.0370.0000.038
dp3.genscan.LENGTH0.0250.0000.025
dp3.xenoRefGene.LENGTH0.1130.0010.114
droAna1.geneid.LENGTH0.0650.0010.066
droAna1.genscan.LENGTH0.0210.0010.022
droAna1.xenoRefGene.LENGTH0.2050.0010.206
droAna2.genscan.LENGTH0.0460.0010.047
droAna2.xenoRefGene.LENGTH0.2610.0020.262
droEre1.genscan.LENGTH0.0260.0010.027
droEre1.xenoRefGene.LENGTH0.2450.0030.249
droGri1.genscan.LENGTH0.0360.0010.037
droGri1.xenoRefGene.LENGTH0.2730.0020.275
droMoj1.geneid.LENGTH0.1190.0000.119
droMoj1.genscan.LENGTH0.0510.0030.054
droMoj1.xenoRefGene.LENGTH0.2220.0030.225
droMoj2.genscan.LENGTH0.0370.0000.037
droMoj2.xenoRefGene.LENGTH0.2750.0010.276
droPer1.genscan.LENGTH0.0350.0030.038
droPer1.xenoRefGene.LENGTH0.2690.0100.279
droSec1.genscan.LENGTH0.0280.0000.028
droSec1.xenoRefGene.LENGTH0.2670.0020.269
droSim1.geneid.LENGTH0.0340.0020.036
droSim1.genscan.LENGTH0.0220.0010.023
droSim1.xenoRefGene.LENGTH0.2200.0010.221
droVir1.geneid.LENGTH0.0990.0010.101
droVir1.genscan.LENGTH0.0400.0010.041
droVir1.xenoRefGene.LENGTH0.2380.0030.241
droVir2.genscan.LENGTH0.0340.0000.034
droVir2.xenoRefGene.LENGTH0.2720.0010.273
droYak1.geneid.LENGTH0.0380.0000.038
droYak1.genscan.LENGTH0.0270.0000.027
droYak1.xenoRefGene.LENGTH0.2120.0030.215
droYak2.genscan.LENGTH0.0250.0010.026
droYak2.xenoRefGene.LENGTH0.2660.0020.268
equCab1.geneSymbol.LENGTH0.0060.0000.005
equCab1.geneid.LENGTH0.0860.0010.087
equCab1.nscanGene.LENGTH0.0380.0020.041
equCab1.refGene.LENGTH0.0050.0000.005
equCab1.sgpGene.LENGTH0.0670.0010.068
equCab2.ensGene.LENGTH0.0970.0030.100
equCab2.geneSymbol.LENGTH0.0060.0000.006
equCab2.nscanGene.LENGTH0.0490.0010.050
equCab2.refGene.LENGTH0.0050.0010.006
equCab2.xenoRefGene.LENGTH0.6960.0110.707
felCat3.ensGene.LENGTH0.1010.0020.103
felCat3.geneSymbol.LENGTH0.0030.0000.004
felCat3.geneid.LENGTH0.5120.0140.526
felCat3.genscan.LENGTH0.1150.0020.118
felCat3.nscanGene.LENGTH0.0910.0010.092
felCat3.refGene.LENGTH0.0030.0010.004
felCat3.sgpGene.LENGTH0.1420.0000.142
felCat3.xenoRefGene.LENGTH1.1240.0001.125
fr1.ensGene.LENGTH0.0760.0020.078
fr1.genscan.LENGTH0.0600.0000.059
fr2.ensGene.LENGTH0.1350.0020.137
galGal2.ensGene.LENGTH0.0560.0010.056
galGal2.geneSymbol.LENGTH0.0170.0000.017
galGal2.geneid.LENGTH0.0390.0000.039
galGal2.genscan.LENGTH0.0530.0000.052
galGal2.refGene.LENGTH0.0150.0000.016
galGal2.sgpGene.LENGTH0.0450.0000.045
galGal3.ensGene.LENGTH0.0740.0010.075
galGal3.geneSymbol.LENGTH0.0150.0010.016
galGal3.genscan.LENGTH0.0460.0010.047
galGal3.nscanGene.LENGTH0.0730.0010.074
galGal3.refGene.LENGTH0.0140.0000.014
galGal3.xenoRefGene.LENGTH0.4950.0010.496
gasAcu1.ensGene.LENGTH0.2760.0060.282
gasAcu1.nscanGene.LENGTH0.0970.0000.097
hg16.acembly.LENGTH0.5680.0210.590
hg16.ensGene.LENGTH0.0680.0020.070
hg16.exoniphy.LENGTH0.2350.0040.239
hg16.geneSymbol.LENGTH0.0980.0060.104
hg16.geneid.LENGTH0.2680.0040.272
hg16.genscan.LENGTH0.0570.0020.059
hg16.knownGene.LENGTH0.1100.0010.111
hg16.refGene.LENGTH0.0920.0010.094
hg16.sgpGene.LENGTH0.0540.0000.054
hg17.acembly.LENGTH0.4030.0020.405
hg17.acescan.LENGTH0.0090.0010.010
hg17.ccdsGene.LENGTH0.0200.0010.022
hg17.ensGene.LENGTH0.1030.0020.105
hg17.exoniphy.LENGTH0.4100.0020.412
hg17.geneSymbol.LENGTH0.0970.0010.098
hg17.geneid.LENGTH0.0690.0020.071
hg17.genscan.LENGTH0.0590.0000.060
hg17.knownGene.LENGTH0.1080.0000.109
hg17.refGene.LENGTH0.0950.0000.095
hg17.sgpGene.LENGTH0.0690.0000.069
hg17.vegaGene.LENGTH0.0400.0000.039
hg17.vegaPseudoGene.LENGTH0.0160.0000.017
hg17.xenoRefGene.LENGTH0.1920.0020.194
hg18.acembly.LENGTH0.4770.0050.482
hg18.acescan.LENGTH0.010.000.01
hg18.ccdsGene.LENGTH0.0330.0010.034
hg18.ensGene.LENGTH0.2040.0230.227
hg18.exoniphy.LENGTH0.4570.0190.476
hg18.geneSymbol.LENGTH0.1050.0000.104
hg18.geneid.LENGTH0.0730.0050.078
hg18.genscan.LENGTH0.0620.0010.062
hg18.knownGene.LENGTH0.1500.0000.149
hg18.knownGeneOld3.LENGTH0.0670.0000.068
hg18.refGene.LENGTH0.1010.0000.101
hg18.sgpGene.LENGTH0.0790.0020.082
hg18.sibGene.LENGTH0.6090.0050.615
hg18.xenoRefGene.LENGTH0.3550.0030.359
hg19.ccdsGene.LENGTH0.0400.0010.041
hg19.ensGene.LENGTH0.3130.0020.315
hg19.exoniphy.LENGTH0.4370.0020.439
hg19.geneSymbol.LENGTH0.1070.0000.107
hg19.knownGene.LENGTH0.1770.0020.180
hg19.nscanGene.LENGTH0.1500.0020.152
hg19.refGene.LENGTH0.1010.0010.102
hg19.xenoRefGene.LENGTH0.3930.0050.397
loxAfr3.xenoRefGene.LENGTH0.8320.0050.837
mm7.ensGene.LENGTH0.5870.0100.598
mm7.geneSymbol.LENGTH0.0840.0020.086
mm7.geneid.LENGTH0.0750.0010.075
mm7.genscan.LENGTH0.0610.0020.062
mm7.knownGene.LENGTH0.0910.0020.092
mm7.refGene.LENGTH0.0830.0010.083
mm7.sgpGene.LENGTH0.0800.0010.081
mm7.xenoRefGene.LENGTH0.3420.0010.343
mm8.ccdsGene.LENGTH0.0210.0010.021
mm8.ensGene.LENGTH0.0800.0000.079
mm8.geneSymbol.LENGTH0.0870.0010.088
mm8.geneid.LENGTH0.0780.0000.078
mm8.genscan.LENGTH0.0600.0000.061
mm8.knownGene.LENGTH0.0930.0020.095
mm8.nscanGene.LENGTH0.0590.0010.060
mm8.refGene.LENGTH0.0860.0000.087
mm8.sgpGene.LENGTH0.0770.0000.078
mm8.sibGene.LENGTH0.2510.0010.252
mm8.xenoRefGene.LENGTH0.3630.0000.362
mm9.acembly.LENGTH0.3190.0010.320
mm9.ccdsGene.LENGTH0.0250.0020.029
mm9.ensGene.LENGTH0.1500.0020.153
mm9.exoniphy.LENGTH0.4250.0020.427
mm9.geneSymbol.LENGTH0.0890.0010.089
mm9.geneid.LENGTH0.0870.0020.088
mm9.genscan.LENGTH0.0650.0010.065
mm9.knownGene.LENGTH0.1090.0010.110
mm9.nscanGene.LENGTH0.060.000.06
mm9.refGene.LENGTH0.0880.0010.089
mm9.sgpGene.LENGTH0.0890.0000.090
mm9.xenoRefGene.LENGTH0.3720.0010.374
monDom1.genscan.LENGTH0.0610.0010.062
monDom4.ensGene.LENGTH0.0730.0010.074
monDom4.geneSymbol.LENGTH0.0020.0020.004
monDom4.genscan.LENGTH0.2680.0000.269
monDom4.nscanGene.LENGTH0.0530.0000.053
monDom4.refGene.LENGTH0.0030.0000.003
monDom4.xenoRefGene.LENGTH0.3570.0020.359
monDom5.ensGene.LENGTH0.1120.0000.111
monDom5.geneSymbol.LENGTH0.0030.0010.004
monDom5.genscan.LENGTH0.0520.0020.055
monDom5.nscanGene.LENGTH0.1060.0020.108
monDom5.refGene.LENGTH0.0040.0000.004
monDom5.xenoRefGene.LENGTH0.6250.0030.628
ornAna1.ensGene.LENGTH0.0960.0020.098
ornAna1.geneSymbol.LENGTH0.0030.0000.003
ornAna1.refGene.LENGTH0.0020.0000.003
ornAna1.xenoRefGene.LENGTH0.5900.0020.592
oryLat2.ensGene.LENGTH0.0770.0010.079
oryLat2.geneSymbol.LENGTH0.0040.0000.004
oryLat2.refGene.LENGTH0.0040.0000.004
oryLat2.xenoRefGene.LENGTH0.5480.0020.550
panTro1.ensGene.LENGTH0.10.00.1
panTro1.geneid.LENGTH0.0480.0010.049
panTro1.genscan.LENGTH0.0580.0020.060
panTro1.xenoRefGene.LENGTH0.1120.0010.114
panTro2.ensGene.LENGTH0.1120.0000.112
panTro2.geneSymbol.LENGTH0.1000.0010.101
panTro2.genscan.LENGTH0.0590.0000.059
panTro2.nscanGene.LENGTH1.1940.1251.319
panTro2.refGene.LENGTH0.0920.0010.093
panTro2.xenoRefGene.LENGTH0.50.00.5
petMar1.xenoRefGene.LENGTH0.2620.0020.264
ponAbe2.ensGene.LENGTH0.0780.0010.079
ponAbe2.geneSymbol.LENGTH0.0100.0010.012
ponAbe2.genscan.LENGTH0.0560.0010.058
ponAbe2.nscanGene.LENGTH0.0540.0000.056
ponAbe2.refGene.LENGTH0.0100.0000.011
ponAbe2.xenoRefGene.LENGTH0.630.000.63
priPac1.xenoRefGene.LENGTH0.3780.0000.379
rheMac2.ensGene.LENGTH0.1260.0010.128
rheMac2.geneSymbol.LENGTH0.0040.0000.006
rheMac2.geneid.LENGTH0.0680.0000.069
rheMac2.nscanGene.LENGTH0.0580.0000.057
rheMac2.refGene.LENGTH0.0030.0010.005
rheMac2.sgpGene.LENGTH0.0640.0010.065
rheMac2.xenoRefGene.LENGTH0.4690.0030.473
rn3.ensGene.LENGTH0.0940.0010.096
rn3.geneSymbol.LENGTH0.0510.0000.050
rn3.geneid.LENGTH0.0460.0010.048
rn3.genscan.LENGTH0.0590.0010.060
rn3.knownGene.LENGTH0.0210.0010.022
rn3.nscanGene.LENGTH0.0580.0000.058
rn3.refGene.LENGTH0.0460.0000.047
rn3.sgpGene.LENGTH0.0530.0000.052
rn3.xenoRefGene.LENGTH0.5540.0080.562
rn4.ensGene.LENGTH0.1280.0020.130
rn4.geneSymbol.LENGTH0.0500.0000.051
rn4.geneid.LENGTH0.080.000.08
rn4.genscan.LENGTH0.0560.0010.057
rn4.knownGene.LENGTH0.0220.0000.024
rn4.nscanGene.LENGTH0.0480.0010.050
rn4.refGene.LENGTH0.0470.0000.047
rn4.sgpGene.LENGTH0.0720.0040.076
rn4.xenoRefGene.LENGTH0.3320.0010.334
sacCer1.ensGene.LENGTH0.0180.0000.017
sacCer2.ensGene.LENGTH0.0160.0010.017
strPur1.geneSymbol.LENGTH0.0040.0000.005
strPur1.genscan.LENGTH0.0630.0010.065
strPur1.refGene.LENGTH0.0040.0000.005
strPur1.xenoRefGene.LENGTH0.5050.0020.507
strPur2.geneSymbol.LENGTH0.0020.0010.004
strPur2.genscan.LENGTH0.1000.0020.104
strPur2.refGene.LENGTH0.0020.0020.003
strPur2.xenoRefGene.LENGTH0.7010.0030.704
supportedGeneIDs2.5900.2955.652
supportedGenomes1.2570.2802.359
taeGut1.ensGene.LENGTH0.0560.0040.060
taeGut1.geneSymbol.LENGTH0.0030.0000.003
taeGut1.genscan.LENGTH0.0300.0080.038
taeGut1.nscanGene.LENGTH0.0220.0020.024
taeGut1.refGene.LENGTH0.0010.0010.003
taeGut1.xenoRefGene.LENGTH0.4610.0090.470
tetNig1.ensGene.LENGTH0.0930.0040.096
tetNig1.geneid.LENGTH0.0640.0030.066
tetNig1.genscan.LENGTH0.0520.0000.053
tetNig1.nscanGene.LENGTH0.0680.0010.069
tetNig2.ensGene.LENGTH0.0710.0020.073
unfactor0.0030.0070.010
xenTro1.genscan.LENGTH0.0810.0070.088
xenTro2.ensGene.LENGTH0.0860.0030.089
xenTro2.geneSymbol.LENGTH0.0300.0010.031
xenTro2.genscan.LENGTH0.0710.0000.070
xenTro2.refGene.LENGTH0.0280.0000.028