| Back to Build/check report for BioC 3.21 experimental data |
|
This page was generated on 2025-10-16 15:01 -0400 (Thu, 16 Oct 2025).
| Hostname | OS | Arch (*) | R version | Installed pkgs |
|---|---|---|---|---|
| nebbiolo1 | Linux (Ubuntu 24.04.3 LTS) | x86_64 | 4.5.1 (2025-06-13) -- "Great Square Root" | 4833 |
| Click on any hostname to see more info about the system (e.g. compilers) (*) as reported by 'uname -p', except on Windows and Mac OS X | ||||
| Package 356/432 | Hostname | OS / Arch | INSTALL | BUILD | CHECK | ||||||||
| scRNAseq 2.22.0 (landing page) Aaron Lun
| nebbiolo1 | Linux (Ubuntu 24.04.3 LTS) / x86_64 | OK | OK | OK | ||||||||
|
To the developers/maintainers of the scRNAseq package: - Use the following Renviron settings to reproduce errors and warnings. - If 'R CMD check' started to fail recently on the Linux builder(s) over a missing dependency, add the missing dependency to 'Suggests:' in your DESCRIPTION file. See Renviron.bioc for more information. |
| Package: scRNAseq |
| Version: 2.22.0 |
| Command: /home/biocbuild/bbs-3.21-bioc/R/bin/R CMD check --install=check:scRNAseq.install-out.txt --library=/home/biocbuild/bbs-3.21-bioc/R/site-library --timings scRNAseq_2.22.0.tar.gz |
| StartedAt: 2025-10-16 12:55:31 -0400 (Thu, 16 Oct 2025) |
| EndedAt: 2025-10-16 13:10:42 -0400 (Thu, 16 Oct 2025) |
| EllapsedTime: 910.9 seconds |
| RetCode: 0 |
| Status: OK |
| CheckDir: scRNAseq.Rcheck |
| Warnings: 0 |
##############################################################################
##############################################################################
###
### Running command:
###
### /home/biocbuild/bbs-3.21-bioc/R/bin/R CMD check --install=check:scRNAseq.install-out.txt --library=/home/biocbuild/bbs-3.21-bioc/R/site-library --timings scRNAseq_2.22.0.tar.gz
###
##############################################################################
##############################################################################
* using log directory ‘/home/biocbuild/bbs-3.21-data-experiment/meat/scRNAseq.Rcheck’
* using R version 4.5.1 (2025-06-13)
* using platform: x86_64-pc-linux-gnu
* R was compiled by
gcc (Ubuntu 13.3.0-6ubuntu2~24.04) 13.3.0
GNU Fortran (Ubuntu 13.3.0-6ubuntu2~24.04) 13.3.0
* running under: Ubuntu 24.04.3 LTS
* using session charset: UTF-8
* checking for file ‘scRNAseq/DESCRIPTION’ ... OK
* this is package ‘scRNAseq’ version ‘2.22.0’
* package encoding: UTF-8
* checking package namespace information ... OK
* checking package dependencies ... OK
* checking if this is a source package ... OK
* checking if there is a namespace ... OK
* checking for hidden files and directories ... NOTE
Found the following hidden files and directories:
.BBSoptions
These were most likely included in error. See section ‘Package
structure’ in the ‘Writing R Extensions’ manual.
* checking for portable file names ... OK
* checking for sufficient/correct file permissions ... OK
* checking whether package ‘scRNAseq’ can be installed ... OK
* checking installed package size ... OK
* checking package directory ... OK
* checking ‘build’ directory ... OK
* checking DESCRIPTION meta-information ... OK
* checking top-level files ... OK
* checking for left-over files ... OK
* checking index information ... OK
* checking package subdirectories ... OK
* checking code files for non-ASCII characters ... OK
* checking R files for syntax errors ... OK
* checking whether the package can be loaded ... OK
* checking whether the package can be loaded with stated dependencies ... OK
* checking whether the package can be unloaded cleanly ... OK
* checking whether the namespace can be loaded with stated dependencies ... OK
* checking whether the namespace can be unloaded cleanly ... OK
* checking loading without being on the library search path ... OK
* checking dependencies in R code ... OK
* checking S3 generic/method consistency ... OK
* checking replacement functions ... OK
* checking foreign function calls ... OK
* checking R code for possible problems ... OK
* checking Rd files ... OK
* checking Rd metadata ... OK
* checking Rd cross-references ... OK
* checking for missing documentation entries ... OK
* checking for code/documentation mismatches ... OK
* checking Rd \usage sections ... OK
* checking Rd contents ... OK
* checking for unstated dependencies in examples ... OK
* checking files in ‘vignettes’ ... OK
* checking examples ... OK
Examples with CPU (user + system) or elapsed time > 5s
user system elapsed
BhaduriOrganoidData 24.219 10.234 35.182
BacherTCellData 17.322 4.605 23.061
ZeiselNervousData 14.220 5.073 20.784
HeOrganAtlasData 12.056 5.943 18.767
JessaBrainData 10.665 4.002 15.945
ErnstSpermatogenesisData 10.021 3.978 15.219
StoeckiusHashingData 8.879 1.019 10.622
AztekinTailData 7.895 1.442 9.548
ZhaoImmuneLiverData 6.525 2.368 9.683
BachMammaryData 6.926 1.220 9.249
LunSpikeInData 5.998 0.969 7.383
GiladiHSCData 5.016 1.695 7.438
ZilionisLungData 4.027 0.783 5.262
NestorowaHSCData 4.244 0.552 5.208
* checking for unstated dependencies in ‘tests’ ... OK
* checking tests ...
Running ‘testthat.R’
OK
* checking for unstated dependencies in vignettes ... OK
* checking package vignettes ... OK
* checking re-building of vignette outputs ... OK
* checking PDF version of manual ... OK
* DONE
Status: 1 NOTE
See
‘/home/biocbuild/bbs-3.21-data-experiment/meat/scRNAseq.Rcheck/00check.log’
for details.
scRNAseq.Rcheck/00install.out
############################################################################## ############################################################################## ### ### Running command: ### ### /home/biocbuild/bbs-3.21-bioc/R/bin/R CMD INSTALL scRNAseq ### ############################################################################## ############################################################################## * installing to library ‘/home/biocbuild/bbs-3.21-bioc/R/site-library’ * installing *source* package ‘scRNAseq’ ... ** this is package ‘scRNAseq’ version ‘2.22.0’ ** using staged installation ** R ** inst ** byte-compile and prepare package for lazy loading ** help *** installing help indices ** building package indices ** installing vignettes ** testing if installed package can be loaded from temporary location ** testing if installed package can be loaded from final location ** testing if installed package keeps a record of temporary installation path * DONE (scRNAseq)
scRNAseq.Rcheck/tests/testthat.Rout
R version 4.5.1 (2025-06-13) -- "Great Square Root"
Copyright (C) 2025 The R Foundation for Statistical Computing
Platform: x86_64-pc-linux-gnu
R is free software and comes with ABSOLUTELY NO WARRANTY.
You are welcome to redistribute it under certain conditions.
Type 'license()' or 'licence()' for distribution details.
R is a collaborative project with many contributors.
Type 'contributors()' for more information and
'citation()' on how to cite R or R packages in publications.
Type 'demo()' for some demos, 'help()' for on-line help, or
'help.start()' for an HTML browser interface to help.
Type 'q()' to quit R.
> library(testthat)
> library(scRNAseq)
Loading required package: SingleCellExperiment
Loading required package: SummarizedExperiment
Loading required package: MatrixGenerics
Loading required package: matrixStats
Attaching package: 'MatrixGenerics'
The following objects are masked from 'package:matrixStats':
colAlls, colAnyNAs, colAnys, colAvgsPerRowSet, colCollapse,
colCounts, colCummaxs, colCummins, colCumprods, colCumsums,
colDiffs, colIQRDiffs, colIQRs, colLogSumExps, colMadDiffs,
colMads, colMaxs, colMeans2, colMedians, colMins, colOrderStats,
colProds, colQuantiles, colRanges, colRanks, colSdDiffs, colSds,
colSums2, colTabulates, colVarDiffs, colVars, colWeightedMads,
colWeightedMeans, colWeightedMedians, colWeightedSds,
colWeightedVars, rowAlls, rowAnyNAs, rowAnys, rowAvgsPerColSet,
rowCollapse, rowCounts, rowCummaxs, rowCummins, rowCumprods,
rowCumsums, rowDiffs, rowIQRDiffs, rowIQRs, rowLogSumExps,
rowMadDiffs, rowMads, rowMaxs, rowMeans2, rowMedians, rowMins,
rowOrderStats, rowProds, rowQuantiles, rowRanges, rowRanks,
rowSdDiffs, rowSds, rowSums2, rowTabulates, rowVarDiffs, rowVars,
rowWeightedMads, rowWeightedMeans, rowWeightedMedians,
rowWeightedSds, rowWeightedVars
Loading required package: GenomicRanges
Loading required package: stats4
Loading required package: BiocGenerics
Loading required package: generics
Attaching package: 'generics'
The following objects are masked from 'package:base':
as.difftime, as.factor, as.ordered, intersect, is.element, setdiff,
setequal, union
Attaching package: 'BiocGenerics'
The following objects are masked from 'package:stats':
IQR, mad, sd, var, xtabs
The following objects are masked from 'package:base':
Filter, Find, Map, Position, Reduce, anyDuplicated, aperm, append,
as.data.frame, basename, cbind, colnames, dirname, do.call,
duplicated, eval, evalq, get, grep, grepl, is.unsorted, lapply,
mapply, match, mget, order, paste, pmax, pmax.int, pmin, pmin.int,
rank, rbind, rownames, sapply, saveRDS, table, tapply, unique,
unsplit, which.max, which.min
Loading required package: S4Vectors
Attaching package: 'S4Vectors'
The following object is masked from 'package:utils':
findMatches
The following objects are masked from 'package:base':
I, expand.grid, unname
Loading required package: IRanges
Loading required package: GenomeInfoDb
Loading required package: Biobase
Welcome to Bioconductor
Vignettes contain introductory material; view with
'browseVignettes()'. To cite Bioconductor, see
'citation("Biobase")', and for packages 'citation("pkgname")'.
Attaching package: 'Biobase'
The following object is masked from 'package:MatrixGenerics':
rowMedians
The following objects are masked from 'package:matrixStats':
anyMissing, rowMedians
> test_check("scRNAseq")
[ FAIL 0 | WARN 35 | SKIP 1 | PASS 186 ]
══ Skipped tests (1) ═══════════════════════════════════════════════════════════
• is.null(gh_token) is TRUE (1): 'test-uploadDirectory.R:59:5'
[ FAIL 0 | WARN 35 | SKIP 1 | PASS 186 ]
Warning message:
call dbDisconnect() when finished working with a connection
>
> proc.time()
user system elapsed
286.577 46.051 351.959
scRNAseq.Rcheck/scRNAseq-Ex.timings
| name | user | system | elapsed | |
| AztekinTailData | 7.895 | 1.442 | 9.548 | |
| BachMammaryData | 6.926 | 1.220 | 9.249 | |
| BacherTCellData | 17.322 | 4.605 | 23.061 | |
| BaronPancreasData | 1.039 | 0.130 | 1.310 | |
| BhaduriOrganoidData | 24.219 | 10.234 | 35.182 | |
| BuettnerESCData | 3.057 | 0.646 | 4.000 | |
| BunisHSPCData | 1.013 | 0.455 | 1.587 | |
| CampbellBrainData | 1.769 | 0.958 | 2.990 | |
| ChenBrainData | 0.937 | 0.439 | 1.517 | |
| DarmanisBrainData | 0.246 | 0.022 | 0.274 | |
| ERCCSpikeInConcentrations | 0.017 | 0.004 | 0.022 | |
| ErnstSpermatogenesisData | 10.021 | 3.978 | 15.219 | |
| FletcherOlfactoryData | 0.776 | 0.239 | 1.027 | |
| GiladiHSCData | 5.016 | 1.695 | 7.438 | |
| GrunHSCData | 0.223 | 0.032 | 0.261 | |
| GrunPancreasData | 0.611 | 0.265 | 0.888 | |
| HeOrganAtlasData | 12.056 | 5.943 | 18.767 | |
| HermannSpermatogenesisData | 0.787 | 0.212 | 1.076 | |
| HuCortexData | 0.510 | 0.169 | 0.738 | |
| JessaBrainData | 10.665 | 4.002 | 15.945 | |
| KolodziejczykESCData | 3.273 | 0.756 | 4.363 | |
| KotliarovPBMCData | 2.309 | 0.185 | 2.778 | |
| LaMannoBrainData | 1.606 | 0.173 | 1.826 | |
| LawlorPancreasData | 0.787 | 0.072 | 0.862 | |
| LedergorMyelomaData | 1.360 | 0.105 | 1.662 | |
| LengESCData | 0.494 | 0.058 | 0.555 | |
| LunSpikeInData | 5.998 | 0.969 | 7.383 | |
| MacoskoRetinaData | 1.610 | 0.195 | 2.038 | |
| MairPBMCData | 0.552 | 0.030 | 0.590 | |
| MarquesBrainData | 0.649 | 0.054 | 0.777 | |
| MessmerESCData | 3.632 | 0.591 | 4.454 | |
| MuraroPancreasData | 0.885 | 0.036 | 0.941 | |
| NestorowaHSCData | 4.244 | 0.552 | 5.208 | |
| NowakowskiCortexData | 1.421 | 0.090 | 1.534 | |
| PaulHSCData | 2.887 | 0.120 | 3.077 | |
| PollenGliaData | 0.222 | 0.010 | 0.235 | |
| ReprocessedData | 1.953 | 0.118 | 2.079 | |
| RichardTCellData | 3.030 | 0.430 | 3.669 | |
| RomanovBrainData | 0.475 | 0.061 | 0.583 | |
| SegerstolpePancreasData | 1.188 | 0.241 | 1.526 | |
| ShekharRetinaData | 2.086 | 0.494 | 2.794 | |
| StoeckiusHashingData | 8.879 | 1.019 | 10.622 | |
| TasicBrainData | 1.702 | 0.296 | 2.001 | |
| UsoskinBrainData | 0.495 | 0.061 | 0.567 | |
| WuKidneyData | 0.364 | 0.024 | 0.404 | |
| XinPancreasData | 0.956 | 0.178 | 1.149 | |
| ZeiselBrainData | 0.897 | 0.200 | 1.121 | |
| ZeiselNervousData | 14.220 | 5.073 | 20.784 | |
| ZhaoImmuneLiverData | 6.525 | 2.368 | 9.683 | |
| ZhongPrefrontalData | 0.591 | 0.106 | 0.763 | |
| ZilionisLungData | 4.027 | 0.783 | 5.262 | |
| countErccMolecules | 0.033 | 0.000 | 0.033 | |
| fetchDataset | 0.579 | 0.093 | 0.673 | |
| listDatasets | 0.01 | 0.00 | 0.01 | |
| listPaths | 0.481 | 0.011 | 1.536 | |
| listVersions | 0.010 | 0.000 | 0.482 | |
| polishDataset | 0.110 | 0.002 | 0.113 | |
| saveDataset | 0.748 | 0.039 | 0.697 | |
| searchDatasets | 1.642 | 0.009 | 1.849 | |
| surveyDatasets | 0.895 | 0.006 | 0.900 | |