Welcome to mirrors.dotsrc.org

All our mirrors of open source software are available via http, https, ftp and an onion service. More information about our mirrors including statistics and contact information is available on our mirror info pages.

For information about dotsrc.org and our other services please go to our website.

Index of /bioconductor/checkResults/release/bioc-LATEST/

File Name  ↓ File Size  ↓ Date  ↓ 
Parent directory/--
XVector/-2025-05-15 15:47:59
wppi/-2025-05-15 15:47:59
zellkonverter/-2025-05-15 15:47:59
XAItest/-2025-05-15 15:47:59
zinbwave/-2025-05-15 15:47:59
wiggleplotr/-2025-05-15 15:47:59
wpm/-2025-05-15 15:47:59
zFPKM/-2025-05-15 15:47:59
webbioc/-2025-05-15 15:47:59
xCell2/-2025-05-15 15:47:59
xmapbridge/-2025-05-15 15:47:59
zenith/-2025-05-15 15:47:59
vtpnet/-2025-05-15 15:47:59
zitools/-2025-05-15 15:47:59
XeniumIO/-2025-05-15 15:47:59
XNAString/-2025-05-15 15:47:59
wateRmelon/-2025-05-15 15:47:59
xcore/-2025-05-15 15:47:59
Wrench/-2025-05-15 15:47:59
XDE/-2025-05-15 15:47:59
ZygosityPredictor/-2025-05-15 15:47:59
XINA/-2025-05-15 15:47:59
xenLite/-2025-05-15 15:47:59
vsclust/-2025-05-15 15:47:59
weaver/-2025-05-15 15:47:59
widgetTools/-2025-05-15 15:47:59
Xeva/-2025-05-15 15:47:59
zlibbioc/-2025-05-15 15:47:59
vsn/-2025-05-15 15:47:59
vulcan/-2025-05-15 15:47:59
yamss/-2025-05-15 15:47:59
yarn/-2025-05-15 15:47:59
waddR/-2025-05-15 15:47:59
weitrix/-2025-05-15 15:47:59
wavClusteR/-2025-05-15 15:47:59
xcms/-2025-05-15 15:47:59
YAPSA/-2025-05-15 15:47:59
VAExprs/-2025-05-15 15:47:58
ViSEAGO/-2025-05-15 15:47:58
VaSP/-2025-05-15 15:47:58
uSORT/-2025-05-15 15:47:58
VegaMC/-2025-05-15 15:47:58
vbmp/-2025-05-15 15:47:58
VDJdive/-2025-05-15 15:47:58
variancePartition/-2025-05-15 15:47:58
VariantExperiment/-2025-05-15 15:47:58
VariantAnnotation/-2025-05-15 15:47:58
vissE/-2025-05-15 15:47:58
UPDhmm/-2025-05-15 15:47:58
vmrseq/-2025-05-15 15:47:58
VanillaICE/-2025-05-15 15:47:58
velociraptor/-2025-05-15 15:47:58
VarCon/-2025-05-15 15:47:58
VisiumIO/-2025-05-15 15:47:58
VariantTools/-2025-05-15 15:47:58
visiumStitched/-2025-05-15 15:47:58
veloviz/-2025-05-15 15:47:58
VERSO/-2025-05-15 15:47:58
VennDetail/-2025-05-15 15:47:58
VariantFiltering/-2025-05-15 15:47:58
VCFArray/-2025-05-15 15:47:58
viper/-2025-05-15 15:47:58
vidger/-2025-05-15 15:47:58
Voyager/-2025-05-15 15:47:58
VplotR/-2025-05-15 15:47:58
updateObject/-2025-05-15 15:47:57
tximport/-2025-05-15 15:47:57
uncoverappLib/-2025-05-15 15:47:57
txdbmaker/-2025-05-15 15:47:57
ttgsea/-2025-05-15 15:47:57
Uniquorn/-2025-05-15 15:47:57
txcutr/-2025-05-15 15:47:57
tweeDEseq/-2025-05-15 15:47:57
UCSC.utils/-2025-05-15 15:47:57
Ularcirc/-2025-05-15 15:47:57
twilight/-2025-05-15 15:47:57
UNDO/-2025-05-15 15:47:57
twoddpcr/-2025-05-15 15:47:57
TypeInfo/-2025-05-15 15:47:57
universalmotif/-2025-05-15 15:47:57
TurboNorm/-2025-05-15 15:47:57
TTMap/-2025-05-15 15:47:57
TSCAN/-2025-05-15 15:47:57
TSAR/-2025-05-15 15:47:57
UniProt.ws/-2025-05-15 15:47:57
UMI4Cats/-2025-05-15 15:47:57
TVTB/-2025-05-15 15:47:57
UCell/-2025-05-15 15:47:57
TRONCO/-2025-05-15 15:47:57
unifiedWMWqPCR/-2025-05-15 15:47:57
tximeta/-2025-05-15 15:47:57
transite/-2025-05-15 15:47:56
TreeSummarizedExperiment/-2025-05-15 15:47:56
Trendy/-2025-05-15 15:47:56
tricycle/-2025-05-15 15:47:56
tRNAdbImport/-2025-05-15 15:47:56
transomics2cytoscape/-2025-05-15 15:47:56
tRanslatome/-2025-05-15 15:47:56
tRNA/-2025-05-15 15:47:56
transmogR/-2025-05-15 15:47:56
TREG/-2025-05-15 15:47:56
traviz/-2025-05-15 15:47:56
traseR/-2025-05-15 15:47:56
TransView/-2025-05-15 15:47:56
TrIdent/-2025-05-15 15:47:56
treekoR/-2025-05-15 15:47:56
treeclimbR/-2025-05-15 15:47:56
trio/-2025-05-15 15:47:56
TreeAndLeaf/-2025-05-15 15:47:56
triplex/-2025-05-15 15:47:56
treeio/-2025-05-15 15:47:56
transformGamPoi/-2025-05-15 15:47:56
tripr/-2025-05-15 15:47:56
TRESS/-2025-05-15 15:47:56
trigger/-2025-05-15 15:47:56
tRNAscanImport/-2025-05-15 15:47:56
tracktables/-2025-05-15 15:47:55
transcriptR/-2025-05-15 15:47:55
TPP2D/-2025-05-15 15:47:55
timescape/-2025-05-15 15:47:55
trackViewer/-2025-05-15 15:47:55
transcriptogramer/-2025-05-15 15:47:55
tpSVG/-2025-05-15 15:47:55
TrajectoryGeometry/-2025-05-15 15:47:55
topGO/-2025-05-15 15:47:55
topdownr/-2025-05-15 15:47:55
tLOH/-2025-05-15 15:47:55
topconfects/-2025-05-15 15:47:55
tradeSeq/-2025-05-15 15:47:55
TMSig/-2025-05-15 15:47:55
TrajectoryUtils/-2025-05-15 15:47:55
ToxicoGx/-2025-05-15 15:47:55
TitanCNA/-2025-05-15 15:47:55
tomoseqr/-2025-05-15 15:47:55
TissueEnrich/-2025-05-15 15:47:55
tomoda/-2025-05-15 15:47:55
TPP/-2025-05-15 15:47:55
TOP/-2025-05-15 15:47:55
TIN/-2025-05-15 15:47:55
tkWidgets/-2025-05-15 15:47:55
TnT/-2025-05-15 15:47:55
TOAST/-2025-05-15 15:47:55
TMixClust/-2025-05-15 15:47:55
tidytof/-2025-05-15 15:47:54
timeOmics/-2025-05-15 15:47:54
tidyomics/-2025-05-15 15:47:54
tenXplore/-2025-05-15 15:47:54
tidySummarizedExperiment/-2025-05-15 15:47:54
tidySingleCellExperiment/-2025-05-15 15:47:54
tigre/-2025-05-15 15:47:54
timecourse/-2025-05-15 15:47:54
tilingArray/-2025-05-15 15:47:54
TEQC/-2025-05-15 15:47:54
TFARM/-2025-05-15 15:47:54
TENxIO/-2025-05-15 15:47:54
terraTCGAdata/-2025-05-15 15:47:54
TFBSTools/-2025-05-15 15:47:54
TENET/-2025-05-15 15:47:54
TFEA.ChIP/-2025-05-15 15:47:54
tidyFlowCore/-2025-05-15 15:47:54
tidysbml/-2025-05-15 15:47:54
TFHAZ/-2025-05-15 15:47:54
TileDBArray/-2025-05-15 15:47:54
tidyCoverage/-2025-05-15 15:47:54
ternarynet/-2025-05-15 15:47:54
TFutils/-2025-05-15 15:47:54
terapadog/-2025-05-15 15:47:54
tidybulk/-2025-05-15 15:47:54
tidySpatialExperiment/-2025-05-15 15:47:54
tanggle/-2025-05-15 15:47:53
TADCompare/-2025-05-15 15:47:53
TargetSearch/-2025-05-15 15:47:53
SynExtend/-2025-05-15 15:47:53
tadar/-2025-05-15 15:47:53
TCC/-2025-05-15 15:47:53
synlet/-2025-05-15 15:47:53
TDbasedUFEadv/-2025-05-15 15:47:53
TDbasedUFE/-2025-05-15 15:47:53
TaxSEA/-2025-05-15 15:47:53
syntenet/-2025-05-15 15:47:53
TCGAbiolinks/-2025-05-15 15:47:53
systemPipeR/-2025-05-15 15:47:53
systemPipeTools/-2025-05-15 15:47:53
synergyfinder/-2025-05-15 15:47:53
TCGAutils/-2025-05-15 15:47:53
TAPseq/-2025-05-15 15:47:53
TBSignatureProfiler/-2025-05-15 15:47:53
TargetScore/-2025-05-15 15:47:53
TCseq/-2025-05-15 15:47:53
systemPipeShiny/-2025-05-15 15:47:53
SynMut/-2025-05-15 15:47:53
TEKRABber/-2025-05-15 15:47:53
TargetDecoy/-2025-05-15 15:47:53
target/-2025-05-15 15:47:53
synapter/-2025-05-15 15:47:53
surfaltr/-2025-05-15 15:47:52
Summix/-2025-05-15 15:47:52
StructuralVariantAnnotation/-2025-05-15 15:47:52
survtype/-2025-05-15 15:47:52
SVMDO/-2025-05-15 15:47:52
switchde/-2025-05-15 15:47:52
sva/-2025-05-15 15:47:52
synapsis/-2025-05-15 15:47:52
survClust/-2025-05-15 15:47:52
SurfR/-2025-05-15 15:47:52
SubCellBarCode/-2025-05-15 15:47:52
supraHex/-2025-05-15 15:47:52
switchBox/-2025-05-15 15:47:52
SUITOR/-2025-05-15 15:47:52
survcomp/-2025-05-15 15:47:52
SVP/-2025-05-15 15:47:52
structToolbox/-2025-05-15 15:47:52
SummarizedExperiment/-2025-05-15 15:47:52
SWATH2stats/-2025-05-15 15:47:52
svaNUMT/-2025-05-15 15:47:52
subSeq/-2025-05-15 15:47:52
swfdr/-2025-05-15 15:47:52
SwathXtend/-2025-05-15 15:47:52
Structstrings/-2025-05-15 15:47:52
supersigs/-2025-05-15 15:47:52
svaRetro/-2025-05-15 15:47:52
ssize/-2025-05-15 15:47:51
STRINGdb/-2025-05-15 15:47:51
STdeconvolve/-2025-05-15 15:47:51
sscu/-2025-05-15 15:47:51
sSNAPPY/-2025-05-15 15:47:51
sSeq/-2025-05-15 15:47:51
Streamer/-2025-05-15 15:47:51
StabMap/-2025-05-15 15:47:51
standR/-2025-05-15 15:47:51
sRACIPE/-2025-05-15 15:47:51
stageR/-2025-05-15 15:47:51
squallms/-2025-05-15 15:47:51
ssviz/-2025-05-15 15:47:51
strandCheckR/-2025-05-15 15:47:51
staRank/-2025-05-15 15:47:51
Statial/-2025-05-15 15:47:51
SRAdb/-2025-05-15 15:47:51
stepNorm/-2025-05-15 15:47:51
STATegRa/-2025-05-15 15:47:51
struct/-2025-05-15 15:47:51
ssrch/-2025-05-15 15:47:51
srnadiff/-2025-05-15 15:47:51
stJoincount/-2025-05-15 15:47:51
SQLDataFrame/-2025-05-15 15:47:51
statTarget/-2025-05-15 15:47:51
ssPATHS/-2025-05-15 15:47:51
SpectralTAD/-2025-05-15 15:47:50
spkTools/-2025-05-15 15:47:50
spikeLI/-2025-05-15 15:47:50
Spectra/-2025-05-15 15:47:50
spqn/-2025-05-15 15:47:50
SPONGE/-2025-05-15 15:47:50
SPLINTER/-2025-05-15 15:47:50
spillR/-2025-05-15 15:47:50
SpliceWiz/-2025-05-15 15:47:50
SpeCond/-2025-05-15 15:47:50
SplicingFactory/-2025-05-15 15:47:50
spicyR/-2025-05-15 15:47:50
splots/-2025-05-15 15:47:50
SPsimSeq/-2025-05-15 15:47:50
SPOTlight/-2025-05-15 15:47:50
SplineDV/-2025-05-15 15:47:50
spoon/-2025-05-15 15:47:50
spiky/-2025-05-15 15:47:50
SPEM/-2025-05-15 15:47:50
SpotSweeper/-2025-05-15 15:47:50
splineTimeR/-2025-05-15 15:47:50
SpectraQL/-2025-05-15 15:47:50
SplicingGraphs/-2025-05-15 15:47:50
splatter/-2025-05-15 15:47:50
SpotClean/-2025-05-15 15:47:50
SPIAT/-2025-05-15 15:47:50
SPIA/-2025-05-15 15:47:50
sparsenetgls/-2025-05-15 15:47:49
sparseMatrixStats/-2025-05-15 15:47:49
spatzie/-2025-05-15 15:47:49
sosta/-2025-05-15 15:47:49
SparseArray/-2025-05-15 15:47:49
spacexr/-2025-05-15 15:47:49
Spaniel/-2025-05-15 15:47:49
spaSim/-2025-05-15 15:47:49
SpaceMarkers/-2025-05-15 15:47:49
SpatialDecon/-2025-05-15 15:47:49
SpatialExperimentIO/-2025-05-15 15:47:49
SpatialFeatureExperiment/-2025-05-15 15:47:49
SpatialExperiment/-2025-05-15 15:47:49
spatialSimGP/-2025-05-15 15:47:49
specL/-2025-05-15 15:47:49
SpatialCPie/-2025-05-15 15:47:49
SparseSignatures/-2025-05-15 15:47:49
SpaNorm/-2025-05-15 15:47:49
speckle/-2025-05-15 15:47:49
SOMNiBUS/-2025-05-15 15:47:49
SpatialOmicsOverlay/-2025-05-15 15:47:49
sparrow/-2025-05-15 15:47:49
SomaticSignatures/-2025-05-15 15:47:49
spatialDE/-2025-05-15 15:47:49
spatialFDA/-2025-05-15 15:47:49
spatialHeatmap/-2025-05-15 15:47:49
SpacePAC/-2025-05-15 15:47:49
Site2Target/-2025-05-15 15:47:48
smoothclust/-2025-05-15 15:47:48
smartid/-2025-05-15 15:47:48
sizepower/-2025-05-15 15:47:48
smoppix/-2025-05-15 15:47:48
SingleMoleculeFootprinting/-2025-05-15 15:47:48
SNPRelate/-2025-05-15 15:47:48
SMITE/-2025-05-15 15:47:48
snpStats/-2025-05-15 15:47:48
sketchR/-2025-05-15 15:47:48
SMAD/-2025-05-15 15:47:48
singscore/-2025-05-15 15:47:48
soGGi/-2025-05-15 15:47:48
slalom/-2025-05-15 15:47:48
SiPSiC/-2025-05-15 15:47:48
SNPediaR/-2025-05-15 15:47:48
sitadela/-2025-05-15 15:47:48
SNPhood/-2025-05-15 15:47:48
slingshot/-2025-05-15 15:47:48
snm/-2025-05-15 15:47:48
snapcount/-2025-05-15 15:47:48
SingleR/-2025-05-15 15:47:48
sitePath/-2025-05-15 15:47:48
SNAGEE/-2025-05-15 15:47:48
skewr/-2025-05-15 15:47:48
SLqPCR/-2025-05-15 15:47:48
snifter/-2025-05-15 15:47:48
simplifyEnrichment/-2025-05-15 15:47:47
signeR/-2025-05-15 15:47:47
sigFeature/-2025-05-15 15:47:47
SigsPack/-2025-05-15 15:47:47
SIM/-2025-05-15 15:47:47
similaRpeak/-2025-05-15 15:47:47
siggenes/-2025-05-15 15:47:47
signatureSearch/-2025-05-15 15:47:47
singleCellTK/-2025-05-15 15:47:47
SimFFPE/-2025-05-15 15:47:47
SingleCellExperiment/-2025-05-15 15:47:47
SIMD/-2025-05-15 15:47:47
SigCheck/-2025-05-15 15:47:47
simPIC/-2025-05-15 15:47:47
sincell/-2025-05-15 15:47:47
SingleCellAlleleExperiment/-2025-05-15 15:47:47
SingleCellSignalR/-2025-05-15 15:47:47
SimBu/-2025-05-15 15:47:47
SigFuge/-2025-05-15 15:47:47
signifinder/-2025-05-15 15:47:47
sights/-2025-05-15 15:47:47
SIMAT/-2025-05-15 15:47:47
sigsquared/-2025-05-15 15:47:47
SIMLR/-2025-05-15 15:47:47
simpleSeg/-2025-05-15 15:47:47
simona/-2025-05-15 15:47:47
SICtools/-2025-05-15 15:47:46
ShortRead/-2025-05-15 15:47:46
seqcombo/-2025-05-15 15:47:46
SIAMCAT/-2025-05-15 15:47:46
seqCAT/-2025-05-15 15:47:46
SharedObject/-2025-05-15 15:47:46
SeqSQC/-2025-05-15 15:47:46
SEraster/-2025-05-15 15:47:46
SeqVarTools/-2025-05-15 15:47:46
seqsetvis/-2025-05-15 15:47:46
SeqArray/-2025-05-15 15:47:46
shinyepico/-2025-05-15 15:47:46
seqTools/-2025-05-15 15:47:46
SeqGate/-2025-05-15 15:47:46
SGSeq/-2025-05-15 15:47:46
SeqGSEA/-2025-05-15 15:47:46
shinyDSP/-2025-05-15 15:47:46
shiny.gosling/-2025-05-15 15:47:46
SEtools/-2025-05-15 15:47:46
shinyMethyl/-2025-05-15 15:47:46
seqLogo/-2025-05-15 15:47:46
seqPattern/-2025-05-15 15:47:46
sevenC/-2025-05-15 15:47:46
SGCP/-2025-05-15 15:47:46
sevenbridges/-2025-05-15 15:47:46
sesame/-2025-05-15 15:47:46
scShapes/-2025-05-15 15:47:45
segmenter/-2025-05-15 15:47:45
scviR/-2025-05-15 15:47:45
SemDist/-2025-05-15 15:47:45
scry/-2025-05-15 15:47:45
scruff/-2025-05-15 15:47:45
semisup/-2025-05-15 15:47:45
SDAMS/-2025-05-15 15:47:45
seqArchR/-2025-05-15 15:47:45
selectKSigs/-2025-05-15 15:47:45
SELEX/-2025-05-15 15:47:45
seahtrue/-2025-05-15 15:47:45
sechm/-2025-05-15 15:47:45
seq.hotSPOT/-2025-05-15 15:47:45
scTreeViz/-2025-05-15 15:47:45
scRNAseqApp/-2025-05-15 15:47:45
scRepertoire/-2025-05-15 15:47:45
seq2pathway/-2025-05-15 15:47:45
segmentSeq/-2025-05-15 15:47:45
scTHI/-2025-05-15 15:47:45
scTensor/-2025-05-15 15:47:45
ScreenR/-2025-05-15 15:47:45
seqArchRplus/-2025-05-15 15:47:45
scRecover/-2025-05-15 15:47:45
scuttle/-2025-05-15 15:47:45
screenCounter/-2025-05-15 15:47:45
scTGIF/-2025-05-15 15:47:45
SCnorm/-2025-05-15 15:47:44
scQTLtools/-2025-05-15 15:47:44
scone/-2025-05-15 15:47:44
scHiCcompare/-2025-05-15 15:47:44
schex/-2025-05-15 15:47:44
scrapper/-2025-05-15 15:47:44
scoreInvHap/-2025-05-15 15:47:44
scPCA/-2025-05-15 15:47:44
scp/-2025-05-15 15:47:44
scoup/-2025-05-15 15:47:44
scGPS/-2025-05-15 15:47:44
Sconify/-2025-05-15 15:47:44
scReClassify/-2025-05-15 15:47:44
scHOT/-2025-05-15 15:47:44
SCOPE/-2025-05-15 15:47:44
scider/-2025-05-15 15:47:44
scMitoMut/-2025-05-15 15:47:44
scMerge/-2025-05-15 15:47:44
scmap/-2025-05-15 15:47:44
scran/-2025-05-15 15:47:44
scPipe/-2025-05-15 15:47:44
scifer/-2025-05-15 15:47:44
scMultiSim/-2025-05-15 15:47:44
scmeth/-2025-05-15 15:47:44
scMET/-2025-05-15 15:47:44
scAnnotatR/-2025-05-15 15:47:43
scCB2/-2025-05-15 15:47:43
scClassify/-2025-05-15 15:47:43
scFeatures/-2025-05-15 15:47:43
SCFA/-2025-05-15 15:47:43
scDotPlot/-2025-05-15 15:47:43
scDDboost/-2025-05-15 15:47:43
SCBN/-2025-05-15 15:47:43
scDblFinder/-2025-05-15 15:47:43
scFeatureFilter/-2025-05-15 15:47:43
scBFA/-2025-05-15 15:47:43
SCArray.sat/-2025-05-15 15:47:43
scds/-2025-05-15 15:47:43
scBubbletree/-2025-05-15 15:47:43
scDD/-2025-05-15 15:47:43
scDiagnostics/-2025-05-15 15:47:43
scde/-2025-05-15 15:47:43
scanMiR/-2025-05-15 15:47:43
scater/-2025-05-15 15:47:43
scanMiRApp/-2025-05-15 15:47:43
scDataviz/-2025-05-15 15:47:43
scDesign3/-2025-05-15 15:47:43
sccomp/-2025-05-15 15:47:43
SCANVIS/-2025-05-15 15:47:43
scatterHatch/-2025-05-15 15:47:43
SCArray/-2025-05-15 15:47:43
saseR/-2025-05-15 15:47:42
SC3/-2025-05-15 15:47:42
sarks/-2025-05-15 15:47:42
SANTA/-2025-05-15 15:47:42
RVS/-2025-05-15 15:47:42
ScaledMatrix/-2025-05-15 15:47:42
SARC/-2025-05-15 15:47:42
RUVSeq/-2025-05-15 15:47:42
SamSPECTRAL/-2025-05-15 15:47:42
sangeranalyseR/-2025-05-15 15:47:42
RUVnormalize/-2025-05-15 15:47:42
safe/-2025-05-15 15:47:42
sangerseqR/-2025-05-15 15:47:42
SBGNview/-2025-05-15 15:47:42
SBMLR/-2025-05-15 15:47:42
sampleClassifier/-2025-05-15 15:47:42
Rvisdiff/-2025-05-15 15:47:42
satuRn/-2025-05-15 15:47:42
Scale4C/-2025-05-15 15:47:42
rWikiPathways/-2025-05-15 15:47:42
RUVcorr/-2025-05-15 15:47:42
SAIGEgds/-2025-05-15 15:47:42
S4Arrays/-2025-05-15 15:47:42
sagenhaft/-2025-05-15 15:47:42
S4Vectors/-2025-05-15 15:47:42
SCAN.UPC/-2025-05-15 15:47:42
RTCGA/-2025-05-15 15:47:41
rsbml/-2025-05-15 15:47:41
rTRMui/-2025-05-15 15:47:41
Rtreemix/-2025-05-15 15:47:41
rRDP/-2025-05-15 15:47:41
RSVSim/-2025-05-15 15:47:41
Rtpca/-2025-05-15 15:47:41
RTNsurvival/-2025-05-15 15:47:41
rScudo/-2025-05-15 15:47:41
rqubic/-2025-05-15 15:47:41
RTCA/-2025-05-15 15:47:41
RTCGAToolbox/-2025-05-15 15:47:41
Rsamtools/-2025-05-15 15:47:41
RRHO/-2025-05-15 15:47:41
rTRM/-2025-05-15 15:47:41
RTopper/-2025-05-15 15:47:41
RUCova/-2025-05-15 15:47:41
rsemmed/-2025-05-15 15:47:41
rrvgo/-2025-05-15 15:47:41
rSWeeP/-2025-05-15 15:47:41
rtracklayer/-2025-05-15 15:47:41
runibic/-2025-05-15 15:47:41
RSeqAn/-2025-05-15 15:47:41
RTN/-2025-05-15 15:47:41
RTNduals/-2025-05-15 15:47:41
Rsubread/-2025-05-15 15:47:41
ROC/-2025-05-15 15:47:40
RNAseqCovarImpute/-2025-05-15 15:47:40
RNASeqPower/-2025-05-15 15:47:40
ROSeq/-2025-05-15 15:47:40
RNAmodR.RiboMethSeq/-2025-05-15 15:47:40
rpx/-2025-05-15 15:47:40
RNAmodR.ML/-2025-05-15 15:47:40
rprimer/-2025-05-15 15:47:40
RolDE/-2025-05-15 15:47:40
roastgsa/-2025-05-15 15:47:40
RnaSeqSampleSize/-2025-05-15 15:47:40
rqt/-2025-05-15 15:47:40
RProtoBufLib/-2025-05-15 15:47:40
ropls/-2025-05-15 15:47:40
RNAmodR.AlkAnilineSeq/-2025-05-15 15:47:40
ROCpAI/-2025-05-15 15:47:40
ROTS/-2025-05-15 15:47:40
ROntoTools/-2025-05-15 15:47:40
roar/-2025-05-15 15:47:40
Rnits/-2025-05-15 15:47:40
RnBeads/-2025-05-15 15:47:40
rnaseqcomp/-2025-05-15 15:47:40
rols/-2025-05-15 15:47:40
Rqc/-2025-05-15 15:47:40
RNAsense/-2025-05-15 15:47:40
RPA/-2025-05-15 15:47:40
rmelting/-2025-05-15 15:47:39
RITAN/-2025-05-15 15:47:39
Rigraphlib/-2025-05-15 15:47:39
ribor/-2025-05-15 15:47:39
RJMCMCNucleosomes/-2025-05-15 15:47:39
RiboProfiling/-2025-05-15 15:47:39
RiboCrypt/-2025-05-15 15:47:39
RImmPort/-2025-05-15 15:47:39
RNAAgeCalc/-2025-05-15 15:47:39
rmspc/-2025-05-15 15:47:39
RIVER/-2025-05-15 15:47:39
RMassBank/-2025-05-15 15:47:39
RNAdecay/-2025-05-15 15:47:39
RiboDiPA/-2025-05-15 15:47:39
rifi/-2025-05-15 15:47:39
RLassoCox/-2025-05-15 15:47:39
rifiComparative/-2025-05-15 15:47:39
rigvf/-2025-05-15 15:47:39
riboSeqR/-2025-05-15 15:47:39
ribosomeProfilingQC/-2025-05-15 15:47:39
RNAmodR/-2025-05-15 15:47:39
Rhtslib/-2025-05-15 15:47:39
rnaEditr/-2025-05-15 15:47:39
Rmmquant/-2025-05-15 15:47:39
RLMM/-2025-05-15 15:47:39
Rmagpie/-2025-05-15 15:47:39
RGSEA/-2025-05-15 15:47:38
rGREAT/-2025-05-15 15:47:38
RESOLVE/-2025-05-15 15:47:38
rhdf5filters/-2025-05-15 15:47:38
ResidualMatrix/-2025-05-15 15:47:38
rexposome/-2025-05-15 15:47:38
RepViz/-2025-05-15 15:47:38
retrofit/-2025-05-15 15:47:38
rhdf5client/-2025-05-15 15:47:38
RFLOMICS/-2025-05-15 15:47:38
ReportingTools/-2025-05-15 15:47:38
Rhdf5lib/-2025-05-15 15:47:38
rgoslin/-2025-05-15 15:47:38
Rgraphviz/-2025-05-15 15:47:38
rGenomeTracks/-2025-05-15 15:47:38
Rhisat2/-2025-05-15 15:47:38
RGraph2js/-2025-05-15 15:47:38
RgnTX/-2025-05-15 15:47:38
rhdf5/-2025-05-15 15:47:38
ReUseData/-2025-05-15 15:47:38
rGADEM/-2025-05-15 15:47:38
rfaRm/-2025-05-15 15:47:38
rgsepd/-2025-05-15 15:47:38
Rfastp/-2025-05-15 15:47:38
RGMQL/-2025-05-15 15:47:38
rhinotypeR/-2025-05-15 15:47:38
rfPred/-2025-05-15 15:47:38
reconsi/-2025-05-15 15:47:37
recount/-2025-05-15 15:47:37
RegionalST/-2025-05-15 15:47:37
ReactomeGSA/-2025-05-15 15:47:37
ReducedExperiment/-2025-05-15 15:47:37
ReadqPCR/-2025-05-15 15:47:37
REBET/-2025-05-15 15:47:37
regioneR/-2025-05-15 15:47:37
RDRToolbox/-2025-05-15 15:47:37
regionalpcs/-2025-05-15 15:47:37
regioneReloaded/-2025-05-15 15:47:37
RedeR/-2025-05-15 15:47:37
recountmethylation/-2025-05-15 15:47:37
regsplice/-2025-05-15 15:47:37
receptLoss/-2025-05-15 15:47:37
regionReport/-2025-05-15 15:47:37
recoup/-2025-05-15 15:47:37
ReactomePA/-2025-05-15 15:47:37
ReactomeContentService4R/-2025-05-15 15:47:37
ReactomeGraph4R/-2025-05-15 15:47:37
REDseq/-2025-05-15 15:47:37
RedisParam/-2025-05-15 15:47:37
RegEnrich/-2025-05-15 15:47:37
regutools/-2025-05-15 15:47:37
Repitools/-2025-05-15 15:47:37
recount3/-2025-05-15 15:47:37
rebook/-2025-05-15 15:47:37
REMP/-2025-05-15 15:47:37
RCy3/-2025-05-15 15:47:36
Rcollectl/-2025-05-15 15:47:36
RCX/-2025-05-15 15:47:36
RCASPAR/-2025-05-15 15:47:36
rBiopaxParser/-2025-05-15 15:47:36
rBLAST/-2025-05-15 15:47:36
RCyjs/-2025-05-15 15:47:36
Rdisop/-2025-05-15 15:47:36
rcellminer/-2025-05-15 15:47:36
Rbowtie2/-2025-05-15 15:47:36
Rcpi/-2025-05-15 15:47:36
rbsurv/-2025-05-15 15:47:36
RcwlPipelines/-2025-05-15 15:47:36
RBioinf/-2025-05-15 15:47:36
Rcwl/-2025-05-15 15:47:36
Rbwa/-2025-05-15 15:47:36
RCM/-2025-05-15 15:47:36
RBioFormats/-2025-05-15 15:47:36
RCSL/-2025-05-15 15:47:36
rCGH/-2025-05-15 15:47:36
Rbowtie/-2025-05-15 15:47:36
RCAS/-2025-05-15 15:47:36
RcisTarget/-2025-05-15 15:47:36
RBM/-2025-05-15 15:47:36
RBGL/-2025-05-15 15:47:35
RankProd/-2025-05-15 15:47:35
rawrr/-2025-05-15 15:47:35
rawDiag/-2025-05-15 15:47:35
randPack/-2025-05-15 15:47:35
randRotation/-2025-05-15 15:47:35
Rarr/-2025-05-15 15:47:35
RbcBook1/-2025-05-15 15:47:35
Rbec/-2025-05-15 15:47:35
RareVariantVis/-2025-05-15 15:47:35
RAREsim/-2025-05-15 15:47:35
r3Cseq/-2025-05-15 15:47:34
qusage/-2025-05-15 15:47:34
R453Plus1Toolbox/-2025-05-15 15:47:34
qsea/-2025-05-15 15:47:34
Qtlizer/-2025-05-15 15:47:34
RAIDS/-2025-05-15 15:47:34
QSutils/-2025-05-15 15:47:34
QTLExperiment/-2025-05-15 15:47:34
qsmooth/-2025-05-15 15:47:34
QUBIC/-2025-05-15 15:47:34
QRscore/-2025-05-15 15:47:34
qPLEXanalyzer/-2025-05-15 15:47:34
R4RNA/-2025-05-15 15:47:34
quantro/-2025-05-15 15:47:34
RaggedExperiment/-2025-05-15 15:47:34
quantsmooth/-2025-05-15 15:47:34
qvalue/-2025-05-15 15:47:34
QuaternaryProd/-2025-05-15 15:47:34
RadioGx/-2025-05-15 15:47:34
quantiseqr/-2025-05-15 15:47:34
QuasR/-2025-05-15 15:47:34
R3CPET/-2025-05-15 15:47:34
QuartPAC/-2025-05-15 15:47:34
qsvaR/-2025-05-15 15:47:34
rain/-2025-05-15 15:47:34
ramwas/-2025-05-15 15:47:34
ramr/-2025-05-15 15:47:34
qpgraph/-2025-05-15 15:47:34
raer/-2025-05-15 15:47:34
Pviz/-2025-05-15 15:47:33
pwalign/-2025-05-15 15:47:33
pRolocGUI/-2025-05-15 15:47:33
protGear/-2025-05-15 15:47:33
PWMEnrich/-2025-05-15 15:47:33
qpcrNorm/-2025-05-15 15:47:33
PRONE/-2025-05-15 15:47:33
ptairMS/-2025-05-15 15:47:33
proteinProfiles/-2025-05-15 15:47:33
ProteoMM/-2025-05-15 15:47:33
qckitfastq/-2025-05-15 15:47:33
pvac/-2025-05-15 15:47:33
qmtools/-2025-05-15 15:47:33
QDNAseq/-2025-05-15 15:47:33
PROMISE/-2025-05-15 15:47:33
PureCN/-2025-05-15 15:47:33
puma/-2025-05-15 15:47:33
ProtGenerics/-2025-05-15 15:47:33
PROPS/-2025-05-15 15:47:33
ProteoDisco/-2025-05-15 15:47:33
PROPER/-2025-05-15 15:47:33
Prostar/-2025-05-15 15:47:33
qcmetrics/-2025-05-15 15:47:33
psichomics/-2025-05-15 15:47:33
QFeatures/-2025-05-15 15:47:33
PSMatch/-2025-05-15 15:47:33
pvca/-2025-05-15 15:47:33
progeny/-2025-05-15 15:47:32
profileScoreDist/-2025-05-15 15:47:32
POWSC/-2025-05-15 15:47:32
PROcess/-2025-05-15 15:47:32
POMA/-2025-05-15 15:47:32
pram/-2025-05-15 15:47:32
proBAMr/-2025-05-15 15:47:32
PrInCE/-2025-05-15 15:47:32
pRoloc/-2025-05-15 15:47:32
powerTCR/-2025-05-15 15:47:32
proActiv/-2025-05-15 15:47:32
preprocessCore/-2025-05-15 15:47:32
profileplyr/-2025-05-15 15:47:32
pqsfinder/-2025-05-15 15:47:32
poem/-2025-05-15 15:47:32
PREDA/-2025-05-15 15:47:32
PolySTest/-2025-05-15 15:47:32
pogos/-2025-05-15 15:47:32
prebs/-2025-05-15 15:47:32
PPInfer/-2025-05-15 15:47:32
ppcseq/-2025-05-15 15:47:32
preciseTAD/-2025-05-15 15:47:32
primirTSS/-2025-05-15 15:47:32
Polytect/-2025-05-15 15:47:32
proDA/-2025-05-15 15:47:32
procoil/-2025-05-15 15:47:32
projectR/-2025-05-15 15:47:32
plasmut/-2025-05-15 15:47:31
plgem/-2025-05-15 15:47:31
plyranges/-2025-05-15 15:47:31
pmm/-2025-05-15 15:47:31
planet/-2025-05-15 15:47:31
planttfhunter/-2025-05-15 15:47:31
pipeComp/-2025-05-15 15:47:31
Pirat/-2025-05-15 15:47:31
PLSDAbatch/-2025-05-15 15:47:31
plier/-2025-05-15 15:47:31
plotgardener/-2025-05-15 15:47:31
plotGrouper/-2025-05-15 15:47:31
pmp/-2025-05-15 15:47:31
PICS/-2025-05-15 15:47:31
Pigengene/-2025-05-15 15:47:31
pickgene/-2025-05-15 15:47:31
PLPE/-2025-05-15 15:47:31
PIUMA/-2025-05-15 15:47:31
podkat/-2025-05-15 15:47:31
PICB/-2025-05-15 15:47:31
phyloseq/-2025-05-15 15:47:31
pipeFrame/-2025-05-15 15:47:31
PIPETS/-2025-05-15 15:47:31
PoDCall/-2025-05-15 15:47:31
plyxp/-2025-05-15 15:47:31
plyinteractions/-2025-05-15 15:47:31
PING/-2025-05-15 15:47:31
piano/-2025-05-15 15:47:31
peco/-2025-05-15 15:47:30
phantasusLite/-2025-05-15 15:47:30
pgca/-2025-05-15 15:47:30
Pedixplorer/-2025-05-15 15:47:30
phosphonormalizer/-2025-05-15 15:47:30
pepStat/-2025-05-15 15:47:30
PhenStat/-2025-05-15 15:47:30
periodicDNA/-2025-05-15 15:47:30
PepsNMR/-2025-05-15 15:47:30
philr/-2025-05-15 15:47:30
pfamAnalyzeR/-2025-05-15 15:47:30
PECA/-2025-05-15 15:47:30
phenomis/-2025-05-15 15:47:30
phenopath/-2025-05-15 15:47:30
phantasus/-2025-05-15 15:47:30
PhyloProfile/-2025-05-15 15:47:30
phenoTest/-2025-05-15 15:47:30
pgxRpi/-2025-05-15 15:47:30
PhIPData/-2025-05-15 15:47:30
PepSetTest/-2025-05-15 15:47:30
pengls/-2025-05-15 15:47:30
PhenoGeneRanker/-2025-05-15 15:47:30
PharmacoGx/-2025-05-15 15:47:30
pepXMLTab/-2025-05-15 15:47:30
PhosR/-2025-05-15 15:47:30
peakPantheR/-2025-05-15 15:47:30
pathwayPCA/-2025-05-15 15:47:29
partCNV/-2025-05-15 15:47:29
pathMED/-2025-05-15 15:47:29
pcaMethods/-2025-05-15 15:47:29
PAST/-2025-05-15 15:47:29
parglms/-2025-05-15 15:47:29
paxtoolsr/-2025-05-15 15:47:29
PANR/-2025-05-15 15:47:29
PathNet/-2025-05-15 15:47:29
PDATK/-2025-05-15 15:47:29
panelcn.mops/-2025-05-15 15:47:29
pathlinkR/-2025-05-15 15:47:29
pathview/-2025-05-15 15:47:29
pathifier/-2025-05-15 15:47:29
pcaExplorer/-2025-05-15 15:47:29
PCAN/-2025-05-15 15:47:29
pareg/-2025-05-15 15:47:29
PathoStat/-2025-05-15 15:47:29
pdInfoBuilder/-2025-05-15 15:47:29
pathRender/-2025-05-15 15:47:29
panp/-2025-05-15 15:47:29
PeacoQC/-2025-05-15 15:47:29
PCAtools/-2025-05-15 15:47:29
PanViz/-2025-05-15 15:47:29
Path2PPI/-2025-05-15 15:47:29
parody/-2025-05-15 15:47:29
PanomiR/-2025-05-15 15:47:29
PAIRADISE/-2025-05-15 15:47:28
OUTRIDER/-2025-05-15 15:47:28
OutSplice/-2025-05-15 15:47:28
ORFik/-2025-05-15 15:47:28
oppar/-2025-05-15 15:47:28
paircompviz/-2025-05-15 15:47:28
OPWeight/-2025-05-15 15:47:28
ORFhunteR/-2025-05-15 15:47:28
oppti/-2025-05-15 15:47:28
packFinder/-2025-05-15 15:47:28
OrderedList/-2025-05-15 15:47:28
padma/-2025-05-15 15:47:28
orthos/-2025-05-15 15:47:28
OTUbase/-2025-05-15 15:47:28
pairkat/-2025-05-15 15:47:28
pairedGSEA/-2025-05-15 15:47:28
optimalFlow/-2025-05-15 15:47:28
OrganismDbi/-2025-05-15 15:47:28
PADOG/-2025-05-15 15:47:28
OSTA.data/-2025-05-15 15:47:28
Oscope/-2025-05-15 15:47:28
OSAT/-2025-05-15 15:47:28
Organism.dplyr/-2025-05-15 15:47:28
pandaR/-2025-05-15 15:47:28
pageRank/-2025-05-15 15:47:28
orthogene/-2025-05-15 15:47:28
OVESEG/-2025-05-15 15:47:28
PAA/-2025-05-15 15:47:28
ompBAM/-2025-05-15 15:47:27
OncoScore/-2025-05-15 15:47:27
oncomix/-2025-05-15 15:47:27
ontoProc/-2025-05-15 15:47:27
Omixer/-2025-05-15 15:47:27
omXplore/-2025-05-15 15:47:27
omicplotR/-2025-05-15 15:47:27
OLINgui/-2025-05-15 15:47:27
oligoClasses/-2025-05-15 15:47:27
oncoscanR/-2025-05-15 15:47:27
OmicCircos/-2025-05-15 15:47:27
OmaDB/-2025-05-15 15:47:27
oposSOM/-2025-05-15 15:47:27
OmicsMLRepoR/-2025-05-15 15:47:27
openCyto/-2025-05-15 15:47:27
OpenStats/-2025-05-15 15:47:27
OMICsPCA/-2025-05-15 15:47:27
OLIN/-2025-05-15 15:47:27
omicsViewer/-2025-05-15 15:47:27
onlineFDR/-2025-05-15 15:47:27
omada/-2025-05-15 15:47:27
omicsPrint/-2025-05-15 15:47:27
omicRexposome/-2025-05-15 15:47:27
openPrimeR/-2025-05-15 15:47:27
OmnipathR/-2025-05-15 15:47:27
OncoSimulR/-2025-05-15 15:47:27
omicade4/-2025-05-15 15:47:27
nondetects/-2025-05-15 15:47:26
nnNorm/-2025-05-15 15:47:26
npGSEA/-2025-05-15 15:47:26
nucleR/-2025-05-15 15:47:26
NormqPCR/-2025-05-15 15:47:26
normr/-2025-05-15 15:47:26
nuCpos/-2025-05-15 15:47:26
NoRCE/-2025-05-15 15:47:26
NPARC/-2025-05-15 15:47:26
oligo/-2025-05-15 15:47:26
octad/-2025-05-15 15:47:26
normalize450K/-2025-05-15 15:47:26
NeuCA/-2025-05-15 15:47:26
netZooR/-2025-05-15 15:47:26
NuPoP/-2025-05-15 15:47:26
NewWave/-2025-05-15 15:47:26
ngsReports/-2025-05-15 15:47:26
NTW/-2025-05-15 15:47:26
occugene/-2025-05-15 15:47:26
nipalsMCIA/-2025-05-15 15:47:26
NormalyzerDE/-2025-05-15 15:47:26
odseq/-2025-05-15 15:47:26
nullranges/-2025-05-15 15:47:26
nnSVG/-2025-05-15 15:47:26
OCplus/-2025-05-15 15:47:26
OGRE/-2025-05-15 15:47:26
nucleoSim/-2025-05-15 15:47:26
NOISeq/-2025-05-15 15:47:26
netSmooth/-2025-05-15 15:47:25
mzR/-2025-05-15 15:47:25
NetSAM/-2025-05-15 15:47:25
ncRNAtools/-2025-05-15 15:47:25
NanoTube/-2025-05-15 15:47:25
Nebulosa/-2025-05-15 15:47:25
ndexr/-2025-05-15 15:47:25
nethet/-2025-05-15 15:47:25
NanoMethViz/-2025-05-15 15:47:25
netboost/-2025-05-15 15:47:25
netDx/-2025-05-15 15:47:25
mzID/-2025-05-15 15:47:25
NanoStringNCTools/-2025-05-15 15:47:25
mygene/-2025-05-15 15:47:25
NBAMSeq/-2025-05-15 15:47:25
netprioR/-2025-05-15 15:47:25
nempi/-2025-05-15 15:47:25
myvariant/-2025-05-15 15:47:25
ncGTW/-2025-05-15 15:47:25
nearBynding/-2025-05-15 15:47:25
ncdfFlow/-2025-05-15 15:47:25
NetActivity/-2025-05-15 15:47:25
NCIgraph/-2025-05-15 15:47:25
NetPathMiner/-2025-05-15 15:47:25
netresponse/-2025-05-15 15:47:25
NanoStringDiff/-2025-05-15 15:47:25
NADfinder/-2025-05-15 15:47:25
MultiRNAflow/-2025-05-15 15:47:24
MVCClass/-2025-05-15 15:47:24
MultiDataSet/-2025-05-15 15:47:24
multistateQTL/-2025-05-15 15:47:24
multtest/-2025-05-15 15:47:24
MultiMed/-2025-05-15 15:47:24
multiMiR/-2025-05-15 15:47:24
multiGSEA/-2025-05-15 15:47:24
multiClust/-2025-05-15 15:47:24
MultimodalExperiment/-2025-05-15 15:47:24
MultiAssayExperiment/-2025-05-15 15:47:24
Mulcom/-2025-05-15 15:47:24
multiscan/-2025-05-15 15:47:24
MultiBaC/-2025-05-15 15:47:24
muscat/-2025-05-15 15:47:24
multicrispr/-2025-05-15 15:47:24
multiWGCNA/-2025-05-15 15:47:24
MutationalPatterns/-2025-05-15 15:47:24
MSstatsShiny/-2025-05-15 15:47:24
MuData/-2025-05-15 15:47:24
musicatk/-2025-05-15 15:47:24
muscle/-2025-05-15 15:47:24
MSstatsTMT/-2025-05-15 15:47:24
multiHiCcompare/-2025-05-15 15:47:24
MungeSumstats/-2025-05-15 15:47:24
mumosa/-2025-05-15 15:47:24
MWASTools/-2025-05-15 15:47:24
MSstatsLOBD/-2025-05-15 15:47:23
MsExperiment/-2025-05-15 15:47:23
mslp/-2025-05-15 15:47:23
MsCoreUtils/-2025-05-15 15:47:23
msgbsR/-2025-05-15 15:47:23
MSPrep/-2025-05-15 15:47:23
msqrob2/-2025-05-15 15:47:23
MSstatsConvert/-2025-05-15 15:47:23
MSnbase/-2025-05-15 15:47:23
MSstatsQCgui/-2025-05-15 15:47:23
MSstatsPTM/-2025-05-15 15:47:23
MSnID/-2025-05-15 15:47:23
MSstatsLiP/-2025-05-15 15:47:23
MsDataHub/-2025-05-15 15:47:23
msPurity/-2025-05-15 15:47:23
MsBackendSql/-2025-05-15 15:47:23
MSstatsQC/-2025-05-15 15:47:23
msImpute/-2025-05-15 15:47:23
msmsTests/-2025-05-15 15:47:23
MSstats/-2025-05-15 15:47:23
mspms/-2025-05-15 15:47:23
MSstatsBig/-2025-05-15 15:47:23
MsQuality/-2025-05-15 15:47:23
MSstatsBioNet/-2025-05-15 15:47:23
msmsEDA/-2025-05-15 15:47:23
MsFeatures/-2025-05-15 15:47:23
MsBackendRawFileReader/-2025-05-15 15:47:22
mosbi/-2025-05-15 15:47:22
motifStack/-2025-05-15 15:47:22
MoonlightR/-2025-05-15 15:47:22
motifmatchr/-2025-05-15 15:47:22
mosdef/-2025-05-15 15:47:22
motifTestR/-2025-05-15 15:47:22
MPFE/-2025-05-15 15:47:22
Moonlight2R/-2025-05-15 15:47:22
MsBackendMassbank/-2025-05-15 15:47:22
MPRAnalyze/-2025-05-15 15:47:22
MotifPeeker/-2025-05-15 15:47:22
msa/-2025-05-15 15:47:22
MsBackendMetaboLights/-2025-05-15 15:47:22
MOSClip/-2025-05-15 15:47:22
mpra/-2025-05-15 15:47:22
MsBackendMsp/-2025-05-15 15:47:22
MouseFM/-2025-05-15 15:47:22
monocle/-2025-05-15 15:47:22
MotifDb/-2025-05-15 15:47:22
motifbreakR/-2025-05-15 15:47:22
motifcounter/-2025-05-15 15:47:22
MsBackendMgf/-2025-05-15 15:47:22
Motif2Site/-2025-05-15 15:47:22
MPAC/-2025-05-15 15:47:22
MOSim/-2025-05-15 15:47:22
MSA2dist/-2025-05-15 15:47:22
mosaics/-2025-05-15 15:47:22
mixOmics/-2025-05-15 15:47:21
Modstrings/-2025-05-15 15:47:21
mitch/-2025-05-15 15:47:21
MMDiff2/-2025-05-15 15:47:21
mirTarRnaSeq/-2025-05-15 15:47:21
missRows/-2025-05-15 15:47:21
MoleculeExperiment/-2025-05-15 15:47:21
ModCon/-2025-05-15 15:47:21
MOFA2/-2025-05-15 15:47:21
moanin/-2025-05-15 15:47:21
mnem/-2025-05-15 15:47:21
MOGAMUN/-2025-05-15 15:47:21
MODA/-2025-05-15 15:47:21
mitoClone2/-2025-05-15 15:47:21
MMUPHin/-2025-05-15 15:47:21
MLInterfaces/-2025-05-15 15:47:21
mist/-2025-05-15 15:47:21
mogsa/-2025-05-15 15:47:21
mistyR/-2025-05-15 15:47:21
mitology/-2025-05-15 15:47:21
monaLisa/-2025-05-15 15:47:21
MLP/-2025-05-15 15:47:21
miRspongeR/-2025-05-15 15:47:21
MOMA/-2025-05-15 15:47:21
missMethyl/-2025-05-15 15:47:21
MLSeq/-2025-05-15 15:47:21
miRSM/-2025-05-15 15:47:21
mobileRNA/-2025-05-15 15:47:21
microRNA/-2025-05-15 15:47:20
MiPP/-2025-05-15 15:47:20
MicrobiotaProcess/-2025-05-15 15:47:20
MICSQTL/-2025-05-15 15:47:20
miRcomp/-2025-05-15 15:47:20
microSTASIS/-2025-05-15 15:47:20
midasHLA/-2025-05-15 15:47:20
minet/-2025-05-15 15:47:20
microbiomeExplorer/-2025-05-15 15:47:20
MIRA/-2025-05-15 15:47:20
miRNApath/-2025-05-15 15:47:20
miRBaseConverter/-2025-05-15 15:47:20
microbiomeDASim/-2025-05-15 15:47:20
mirIntegrator/-2025-05-15 15:47:20
MinimumDistance/-2025-05-15 15:47:20
miRNAtap/-2025-05-15 15:47:20
miRLAB/-2025-05-15 15:47:20
MineICA/-2025-05-15 15:47:20
mina/-2025-05-15 15:47:20
mimager/-2025-05-15 15:47:20
MIRit/-2025-05-15 15:47:20
MiRaGE/-2025-05-15 15:47:20
miRNAmeConverter/-2025-05-15 15:47:20
MicrobiomeProfiler/-2025-05-15 15:47:20
microbiome/-2025-05-15 15:47:20
miQC/-2025-05-15 15:47:20
miloR/-2025-05-15 15:47:20
minfi/-2025-05-15 15:47:20
mia/-2025-05-15 15:47:19
methylGSA/-2025-05-15 15:47:19
methylKit/-2025-05-15 15:47:19
methylPipe/-2025-05-15 15:47:19
miaSim/-2025-05-15 15:47:19
mfa/-2025-05-15 15:47:19
MethylMix/-2025-05-15 15:47:19
MethylSeekR/-2025-05-15 15:47:19
miaDash/-2025-05-15 15:47:19
methylMnM/-2025-05-15 15:47:19
MethylAid/-2025-05-15 15:47:19
methylInheritance/-2025-05-15 15:47:19
MGFR/-2025-05-15 15:47:19
MGnifyR/-2025-05-15 15:47:19
methyLImp2/-2025-05-15 15:47:19
MetNet/-2025-05-15 15:47:19
MetMashR/-2025-05-15 15:47:19
methylumi/-2025-05-15 15:47:19
methylSig/-2025-05-15 15:47:19
MiChip/-2025-05-15 15:47:19
miaViz/-2025-05-15 15:47:19
methylclock/-2025-05-15 15:47:19
Mfuzz/-2025-05-15 15:47:19
MetID/-2025-05-15 15:47:19
methylCC/-2025-05-15 15:47:19
methylscaper/-2025-05-15 15:47:19
MGFM/-2025-05-15 15:47:19
mgsa/-2025-05-15 15:47:19
metahdep/-2025-05-15 15:47:18
metapod/-2025-05-15 15:47:18
metaCCA/-2025-05-15 15:47:18
metabolomicsWorkbenchR/-2025-05-15 15:47:18
methrix/-2025-05-15 15:47:18
MetCirc/-2025-05-15 15:47:18
MetaCyto/-2025-05-15 15:47:18
MetaNeighbor/-2025-05-15 15:47:18
metagenomeSeq/-2025-05-15 15:47:18
methimpute/-2025-05-15 15:47:18
metaMS/-2025-05-15 15:47:18
MetaboDynamics/-2025-05-15 15:47:18
MetaboAnnotation/-2025-05-15 15:47:18
methInheritSim/-2025-05-15 15:47:18
metaSeq/-2025-05-15 15:47:18
MethTargetedNGS/-2025-05-15 15:47:18
metabomxtr/-2025-05-15 15:47:18
MetaPhOR/-2025-05-15 15:47:18
metabinR/-2025-05-15 15:47:18
MetaboSignal/-2025-05-15 15:47:18
MethPed/-2025-05-15 15:47:18
metapone/-2025-05-15 15:47:18
metabCombiner/-2025-05-15 15:47:18
MetaboCoreUtils/-2025-05-15 15:47:18
metaseqR2/-2025-05-15 15:47:18
MethReg/-2025-05-15 15:47:18
metagene2/-2025-05-15 15:47:18
methodical/-2025-05-15 15:47:18
MEDIPS/-2025-05-15 15:47:17
MEB/-2025-05-15 15:47:17
MBttest/-2025-05-15 15:47:17
MDTS/-2025-05-15 15:47:17
MBECS/-2025-05-15 15:47:17
MEAL/-2025-05-15 15:47:17
MBCB/-2025-05-15 15:47:17
mCSEA/-2025-05-15 15:47:17
MBQN/-2025-05-15 15:47:17
mBPCR/-2025-05-15 15:47:17
mdp/-2025-05-15 15:47:17
MBASED/-2025-05-15 15:47:17
messina/-2025-05-15 15:47:17
mbkmeans/-2025-05-15 15:47:17
MCbiclust/-2025-05-15 15:47:17
Mergeomics/-2025-05-15 15:47:17
MeasurementError.cor/-2025-05-15 15:47:17
memes/-2025-05-15 15:47:17
MEAT/-2025-05-15 15:47:17
meshr/-2025-05-15 15:47:17
MeSHDbi/-2025-05-15 15:47:17
megadepth/-2025-05-15 15:47:17
MEDME/-2025-05-15 15:47:17
Melissa/-2025-05-15 15:47:17
MEIGOR/-2025-05-15 15:47:17
MesKit/-2025-05-15 15:47:17
meshes/-2025-05-15 15:47:17
mdqc/-2025-05-15 15:47:17
mbQTL/-2025-05-15 15:47:17
MassArray/-2025-05-15 15:47:16
makecdfenv/-2025-05-15 15:47:16
maPredictDSC/-2025-05-15 15:47:16
marr/-2025-05-15 15:47:16
marray/-2025-05-15 15:47:16
MatrixRider/-2025-05-15 15:47:16
MAPFX/-2025-05-15 15:47:16
MAIT/-2025-05-15 15:47:16
MatrixQCvis/-2025-05-15 15:47:16
MANOR/-2025-05-15 15:47:16
MassSpecWavelet/-2025-05-15 15:47:16
maser/-2025-05-15 15:47:16
massiR/-2025-05-15 15:47:16
MantelCorr/-2025-05-15 15:47:16
MAI/-2025-05-15 15:47:16
mapscape/-2025-05-15 15:47:16
MatrixGenerics/-2025-05-15 15:47:16
martini/-2025-05-15 15:47:16
maskBAD/-2025-05-15 15:47:16
matter/-2025-05-15 15:47:16
magpie/-2025-05-15 15:47:16
MBAmethyl/-2025-05-15 15:47:16
magrene/-2025-05-15 15:47:16
matchBox/-2025-05-15 15:47:16
maSigPro/-2025-05-15 15:47:16
MAST/-2025-05-15 15:47:16
mastR/-2025-05-15 15:47:16
mariner/-2025-05-15 15:47:16
m6Aboost/-2025-05-15 15:47:15
M3Drop/-2025-05-15 15:47:15
lute/-2025-05-15 15:47:15
LymphoSeq/-2025-05-15 15:47:15
M3C/-2025-05-15 15:47:15
maCorrPlot/-2025-05-15 15:47:15
LOBSTAHS/-2025-05-15 15:47:15
logicFS/-2025-05-15 15:47:15
LRcell/-2025-05-15 15:47:15
lpsymphony/-2025-05-15 15:47:15
LRBaseDbi/-2025-05-15 15:47:15
MADSEQ/-2025-05-15 15:47:15
MAGAR/-2025-05-15 15:47:15
maftools/-2025-05-15 15:47:15
lpNet/-2025-05-15 15:47:15
LOLA/-2025-05-15 15:47:15
lmdme/-2025-05-15 15:47:15
maaslin3/-2025-05-15 15:47:15
MACSQuantifyR/-2025-05-15 15:47:15
LPE/-2025-05-15 15:47:15
LoomExperiment/-2025-05-15 15:47:15
Macarron/-2025-05-15 15:47:15
Maaslin2/-2025-05-15 15:47:15
made4/-2025-05-15 15:47:15
MAGeCKFlute/-2025-05-15 15:47:15
lumi/-2025-05-15 15:47:15
MACSr/-2025-05-15 15:47:15
loci2path/-2025-05-15 15:47:15
lfa/-2025-05-15 15:47:14
knowYourCG/-2025-05-15 15:47:14
LACE/-2025-05-15 15:47:14
LedPred/-2025-05-15 15:47:14
ldblock/-2025-05-15 15:47:14
lisaClust/-2025-05-15 15:47:14
LBE/-2025-05-15 15:47:14
limmaGUI/-2025-05-15 15:47:14
limpa/-2025-05-15 15:47:14
LinkHD/-2025-05-15 15:47:14
Lheuristic/-2025-05-15 15:47:14
lemur/-2025-05-15 15:47:14
LEA/-2025-05-15 15:47:14
les/-2025-05-15 15:47:14
limpca/-2025-05-15 15:47:14
KnowSeq/-2025-05-15 15:47:14
Linnorm/-2025-05-15 15:47:14
LinTInd/-2025-05-15 15:47:14
koinar/-2025-05-15 15:47:14
lipidr/-2025-05-15 15:47:14
lineagespot/-2025-05-15 15:47:14
LiquidAssociation/-2025-05-15 15:47:14
LimROTS/-2025-05-15 15:47:14
lapmix/-2025-05-15 15:47:14
lefser/-2025-05-15 15:47:14
lionessR/-2025-05-15 15:47:14
levi/-2025-05-15 15:47:14
limma/-2025-05-15 15:47:14
kebabs/-2025-05-15 15:47:13
IsoCorrectoR/-2025-05-15 15:47:13
IsoformSwitchAnalyzeR/-2025-05-15 15:47:13
ivygapSE/-2025-05-15 15:47:13
keggorthology/-2025-05-15 15:47:13
islify/-2025-05-15 15:47:13
KBoost/-2025-05-15 15:47:13
iterativeBMAsurv/-2025-05-15 15:47:13
iSEEu/-2025-05-15 15:47:13
KEGGREST/-2025-05-15 15:47:13
KEGGlincs/-2025-05-15 15:47:13
kissDE/-2025-05-15 15:47:13
ISoLDE/-2025-05-15 15:47:13
IVAS/-2025-05-15 15:47:13
ISLET/-2025-05-15 15:47:13
KinSwingR/-2025-05-15 15:47:13
jazzPanda/-2025-05-15 15:47:13
IsoCorrectoRGUI/-2025-05-15 15:47:13
KEGGgraph/-2025-05-15 15:47:13
iSeq/-2025-05-15 15:47:13
isomiRs/-2025-05-15 15:47:13
isobar/-2025-05-15 15:47:13
KCsmart/-2025-05-15 15:47:13
IWTomics/-2025-05-15 15:47:13
katdetectr/-2025-05-15 15:47:13
kmcut/-2025-05-15 15:47:13
iterativeBMA/-2025-05-15 15:47:13
ITALICS/-2025-05-15 15:47:13
IsoBayes/-2025-05-15 15:47:13
karyoploteR/-2025-05-15 15:47:13
iSEE/-2025-05-15 15:47:12
iPAC/-2025-05-15 15:47:12
iSEEtree/-2025-05-15 15:47:12
intansv/-2025-05-15 15:47:12
InteractiveComplexHeatmap/-2025-05-15 15:47:12
ISAnalytics/-2025-05-15 15:47:12
IRanges/-2025-05-15 15:47:12
iSEEpathways/-2025-05-15 15:47:12
INTACT/-2025-05-15 15:47:12
iSEEde/-2025-05-15 15:47:12
interacCircos/-2025-05-15 15:47:12
interactiveDisplayBase/-2025-05-15 15:47:12
INPower/-2025-05-15 15:47:12
INSPEcT/-2025-05-15 15:47:12
IPO/-2025-05-15 15:47:12
IntEREst/-2025-05-15 15:47:12
iSEEhex/-2025-05-15 15:47:12
interactiveDisplay/-2025-05-15 15:47:12
InterCellar/-2025-05-15 15:47:12
InTAD/-2025-05-15 15:47:12
IntramiRExploreR/-2025-05-15 15:47:12
iPath/-2025-05-15 15:47:12
iSEEhub/-2025-05-15 15:47:12
iSEEindex/-2025-05-15 15:47:12
ipdDb/-2025-05-15 15:47:12
InteractionSet/-2025-05-15 15:47:12
IONiseR/-2025-05-15 15:47:12
iSEEfier/-2025-05-15 15:47:12
idiogram/-2025-05-15 15:47:11
idpr/-2025-05-15 15:47:11
igvShiny/-2025-05-15 15:47:11
IFAA/-2025-05-15 15:47:11
imageTCGA/-2025-05-15 15:47:11
infinityFlow/-2025-05-15 15:47:11
immunoClust/-2025-05-15 15:47:11
immunogenViewer/-2025-05-15 15:47:11
iNETgrate/-2025-05-15 15:47:11
InPAS/-2025-05-15 15:47:11
impute/-2025-05-15 15:47:11
imcRtools/-2025-05-15 15:47:11
IgGeneUsage/-2025-05-15 15:47:11
idr2d/-2025-05-15 15:47:11
Informeasure/-2025-05-15 15:47:11
IMPCdata/-2025-05-15 15:47:11
IMAS/-2025-05-15 15:47:11
illuminaio/-2025-05-15 15:47:11
infercnv/-2025-05-15 15:47:11
ILoReg/-2025-05-15 15:47:11
IHW/-2025-05-15 15:47:11
INDEED/-2025-05-15 15:47:11
IdeoViz/-2025-05-15 15:47:11
iGC/-2025-05-15 15:47:11
immApex/-2025-05-15 15:47:11
immunotation/-2025-05-15 15:47:11
igvR/-2025-05-15 15:47:11
IMMAN/-2025-05-15 15:47:11
hypergraph/-2025-05-15 15:47:10
iClusterPlus/-2025-05-15 15:47:10
HPAanalyze/-2025-05-15 15:47:10
HTSeqGenie/-2025-05-15 15:47:10
iCNV/-2025-05-15 15:47:10
hummingbird/-2025-05-15 15:47:10
iCOBRA/-2025-05-15 15:47:10
HTSFilter/-2025-05-15 15:47:10
ideal/-2025-05-15 15:47:10
Icens/-2025-05-15 15:47:10
iBBiG/-2025-05-15 15:47:10
ibh/-2025-05-15 15:47:10
hpar/-2025-05-15 15:47:10
hyperdraw/-2025-05-15 15:47:10
iASeq/-2025-05-15 15:47:10
iasva/-2025-05-15 15:47:10
icetea/-2025-05-15 15:47:10
HybridExpress/-2025-05-15 15:47:10
iCARE/-2025-05-15 15:47:10
HybridMTest/-2025-05-15 15:47:10
HubPub/-2025-05-15 15:47:10
iCheck/-2025-05-15 15:47:10
hopach/-2025-05-15 15:47:10
iChip/-2025-05-15 15:47:10
HTqPCR/-2025-05-15 15:47:10
iBMQ/-2025-05-15 15:47:10
HPiP/-2025-05-15 15:47:10
HuBMAPR/-2025-05-15 15:47:10
hypeR/-2025-05-15 15:47:10
HiCBricks/-2025-05-15 15:47:09
Herper/-2025-05-15 15:47:09
HilbertCurve/-2025-05-15 15:47:09
hierinf/-2025-05-15 15:47:09
HiLDA/-2025-05-15 15:47:09
HERON/-2025-05-15 15:47:09
HIREewas/-2025-05-15 15:47:09
HiCParser/-2025-05-15 15:47:09
HIBAG/-2025-05-15 15:47:09
HiCDCPlus/-2025-05-15 15:47:09
hermes/-2025-05-15 15:47:09
hierGWAS/-2025-05-15 15:47:09
HoloFoodR/-2025-05-15 15:47:09
HIPPO/-2025-05-15 15:47:09
HilbertVisGUI/-2025-05-15 15:47:09
HicAggR/-2025-05-15 15:47:09
hicVennDiagram/-2025-05-15 15:47:09
HilbertVis/-2025-05-15 15:47:09
HiCDOC/-2025-05-15 15:47:09
hoodscanR/-2025-05-15 15:47:09
HiTC/-2025-05-15 15:47:09
hiAnnotator/-2025-05-15 15:47:09
HMMcopy/-2025-05-15 15:47:09
hmdbQuery/-2025-05-15 15:47:09
HiCcompare/-2025-05-15 15:47:09
HiContacts/-2025-05-15 15:47:09
hipathia/-2025-05-15 15:47:09
HGC/-2025-05-15 15:47:09
hiReadsProcessor/-2025-05-15 15:47:09
HiCool/-2025-05-15 15:47:09
HiCExperiment/-2025-05-15 15:47:09
HEM/-2025-05-15 15:47:08
Gviz/-2025-05-15 15:47:08
Harshlight/-2025-05-15 15:47:08
GSReg/-2025-05-15 15:47:08
HelloRanges/-2025-05-15 15:47:08
h5vc/-2025-05-15 15:47:08
HELP/-2025-05-15 15:47:08
HDTD/-2025-05-15 15:47:08
GWASTools/-2025-05-15 15:47:08
gwasurvivr/-2025-05-15 15:47:08
GWAS.BAYES/-2025-05-15 15:47:08
GUIDEseq/-2025-05-15 15:47:08
hca/-2025-05-15 15:47:08
HarmonizR/-2025-05-15 15:47:08
h5mread/-2025-05-15 15:47:08
GSVA/-2025-05-15 15:47:08
Harman/-2025-05-15 15:47:08
HDF5Array/-2025-05-15 15:47:08
gwascat/-2025-05-15 15:47:08
hapFabia/-2025-05-15 15:47:08
Guitar/-2025-05-15 15:47:08
GSRI/-2025-05-15 15:47:08
gtrellis/-2025-05-15 15:47:08
Heatplus/-2025-05-15 15:47:08
hdxmsqc/-2025-05-15 15:47:08
GWENA/-2025-05-15 15:47:08
gypsum/-2025-05-15 15:47:08
GSgalgoR/-2025-05-15 15:47:08
heatmaps/-2025-05-15 15:47:08
gscreend/-2025-05-15 15:47:07
GSEABenchmarkeR/-2025-05-15 15:47:07
GSEAlm/-2025-05-15 15:47:07
GOTHiC/-2025-05-15 15:47:07
GrafGen/-2025-05-15 15:47:07
granulator/-2025-05-15 15:47:07
GSCA/-2025-05-15 15:47:07
GSEAmining/-2025-05-15 15:47:07
GSALightning/-2025-05-15 15:47:07
GOstats/-2025-05-15 15:47:07
graphite/-2025-05-15 15:47:07
goSTAG/-2025-05-15 15:47:07
GraphPAC/-2025-05-15 15:47:07
GRmetrics/-2025-05-15 15:47:07
GRaNIE/-2025-05-15 15:47:07
gsean/-2025-05-15 15:47:07
GSAR/-2025-05-15 15:47:07
GSEABase/-2025-05-15 15:47:07
GRENITS/-2025-05-15 15:47:07
graph/-2025-05-15 15:47:07
GreyListChIP/-2025-05-15 15:47:07
GraphAT/-2025-05-15 15:47:07
gpls/-2025-05-15 15:47:07
gpuMagic/-2025-05-15 15:47:07
graper/-2025-05-15 15:47:07
groHMM/-2025-05-15 15:47:07
GPA/-2025-05-15 15:47:07
GraphAlignment/-2025-05-15 15:47:07
goTools/-2025-05-15 15:47:07
gmoviz/-2025-05-15 15:47:06
GNOSIS/-2025-05-15 15:47:06
GloScope/-2025-05-15 15:47:06
GlobalAncova/-2025-05-15 15:47:06
GOSemSim/-2025-05-15 15:47:06
goseq/-2025-05-15 15:47:06
ginmappeR/-2025-05-15 15:47:06
GLAD/-2025-05-15 15:47:06
GOpro/-2025-05-15 15:47:06
Glimma/-2025-05-15 15:47:06
GNET2/-2025-05-15 15:47:06
globalSeq/-2025-05-15 15:47:06
goProfiles/-2025-05-15 15:47:06
GIGSEA/-2025-05-15 15:47:06
glmGamPoi/-2025-05-15 15:47:06
glmSparseNet/-2025-05-15 15:47:06
ggtreeExtra/-2025-05-15 15:47:06
ggtreeSpace/-2025-05-15 15:47:06
GmicR/-2025-05-15 15:47:06
GMRP/-2025-05-15 15:47:06
GladiaTOX/-2025-05-15 15:47:06
gmapR/-2025-05-15 15:47:06
goSorensen/-2025-05-15 15:47:06
ggtree/-2025-05-15 15:47:06
gINTomics/-2025-05-15 15:47:06
GOfuncR/-2025-05-15 15:47:06
GOexpress/-2025-05-15 15:47:06
ggtreeDendro/-2025-05-15 15:47:06
girafe/-2025-05-15 15:47:06
globaltest/-2025-05-15 15:47:06
ggkegg/-2025-05-15 15:47:05
ggmanh/-2025-05-15 15:47:05
GEWIST/-2025-05-15 15:47:05
GenProSeq/-2025-05-15 15:47:05
GEOexplorer/-2025-05-15 15:47:05
gep2pep/-2025-05-15 15:47:05
GenomicTuples/-2025-05-15 15:47:05
getDEE2/-2025-05-15 15:47:05
ggspavis/-2025-05-15 15:47:05
GEOmetadb/-2025-05-15 15:47:05
ggbio/-2025-05-15 15:47:05
gg4way/-2025-05-15 15:47:05
ggcyto/-2025-05-15 15:47:05
geyser/-2025-05-15 15:47:05
GEOquery/-2025-05-15 15:47:05
GeoTcgaData/-2025-05-15 15:47:05
ggmsa/-2025-05-15 15:47:05
GeoDiff/-2025-05-15 15:47:05
geva/-2025-05-15 15:47:05
GGPA/-2025-05-15 15:47:05
GEOsubmission/-2025-05-15 15:47:05
ggseqalign/-2025-05-15 15:47:05
GeomxTools/-2025-05-15 15:47:05
GenVisR/-2025-05-15 15:47:05
ggsc/-2025-05-15 15:47:05
GEOfastq/-2025-05-15 15:47:05
geomeTriD/-2025-05-15 15:47:05
gespeR/-2025-05-15 15:47:05
GenomicRanges/-2025-05-15 15:47:04
GenomicFeatures/-2025-05-15 15:47:04
GenomAutomorphism/-2025-05-15 15:47:04
GENIE3/-2025-05-15 15:47:04
GenomicDistributions/-2025-05-15 15:47:04
GenomicPlot/-2025-05-15 15:47:04
geneXtendeR/-2025-05-15 15:47:04
GenomicInteractionNodes/-2025-05-15 15:47:04
GeneTonic/-2025-05-15 15:47:04
genomicInstability/-2025-05-15 15:47:04
GENESIS/-2025-05-15 15:47:04
GeneSelectMMD/-2025-05-15 15:47:04
geneRxCluster/-2025-05-15 15:47:04
GenomicAlignments/-2025-05-15 15:47:04
GenomicFiles/-2025-05-15 15:47:04
GenomeInfoDb/-2025-05-15 15:47:04
genomeIntervals/-2025-05-15 15:47:04
genomation/-2025-05-15 15:47:04
genomes/-2025-05-15 15:47:04
geNetClassifier/-2025-05-15 15:47:04
GeneticsPed/-2025-05-15 15:47:04
GenomicSuperSignature/-2025-05-15 15:47:04
GenomicInteractions/-2025-05-15 15:47:04
GenomicScores/-2025-05-15 15:47:04
GenomicOZone/-2025-05-15 15:47:04
GenomicDataCommons/-2025-05-15 15:47:04
genoCN/-2025-05-15 15:47:04
GeneStructureTools/-2025-05-15 15:47:04
gDRstyle/-2025-05-15 15:47:03
genArise/-2025-05-15 15:47:03
gDR/-2025-05-15 15:47:03
GDCRNATools/-2025-05-15 15:47:03
genefu/-2025-05-15 15:47:03
geneRecommender/-2025-05-15 15:47:03
genefilter/-2025-05-15 15:47:03
GeneRegionScan/-2025-05-15 15:47:03
geneplotter/-2025-05-15 15:47:03
gemini/-2025-05-15 15:47:03
GeneGA/-2025-05-15 15:47:03
GeneMeta/-2025-05-15 15:47:03
GeneOverlap/-2025-05-15 15:47:03
geneAttribution/-2025-05-15 15:47:03
geneplast/-2025-05-15 15:47:03
GeDi/-2025-05-15 15:47:03
GDSArray/-2025-05-15 15:47:03
gDRimport/-2025-05-15 15:47:03
gDRutils/-2025-05-15 15:47:03
gDNAx/-2025-05-15 15:47:03
gdsfmt/-2025-05-15 15:47:03
gcrma/-2025-05-15 15:47:03
geneClassifiers/-2025-05-15 15:47:03
GeneBreak/-2025-05-15 15:47:03
gDRcore/-2025-05-15 15:47:03
GeneNetworkBuilder/-2025-05-15 15:47:03
gemma.R/-2025-05-15 15:47:03
GEM/-2025-05-15 15:47:03
GeneExpressionSignature/-2025-05-15 15:47:03
gatom/-2025-05-15 15:47:02
fmcsR/-2025-05-15 15:47:02
GA4GHshiny/-2025-05-15 15:47:02
funtooNorm/-2025-05-15 15:47:02
gage/-2025-05-15 15:47:02
gaga/-2025-05-15 15:47:02
GAprediction/-2025-05-15 15:47:02
gcapc/-2025-05-15 15:47:02
flowViz/-2025-05-15 15:47:02
funOmics/-2025-05-15 15:47:02
GARS/-2025-05-15 15:47:02
frma/-2025-05-15 15:47:02
GA4GHclient/-2025-05-15 15:47:02
garfield/-2025-05-15 15:47:02
flowWorkspace/-2025-05-15 15:47:02
frmaTools/-2025-05-15 15:47:02
FRASER/-2025-05-15 15:47:02
FRGEpistasis/-2025-05-15 15:47:02
flowTrans/-2025-05-15 15:47:02
G4SNVHunter/-2025-05-15 15:47:02
flowTime/-2025-05-15 15:47:02
fobitools/-2025-05-15 15:47:02
gcatest/-2025-05-15 15:47:02
GBScleanR/-2025-05-15 15:47:02
flowVS/-2025-05-15 15:47:02
GateFinder/-2025-05-15 15:47:02
gCrisprTools/-2025-05-15 15:47:02
FuseSOM/-2025-05-15 15:47:02
frenchFISH/-2025-05-15 15:47:02
fmrs/-2025-05-15 15:47:02
flowMatch/-2025-05-15 15:47:01
flowMerge/-2025-05-15 15:47:01
flowCyBar/-2025-05-15 15:47:01
flagme/-2025-05-15 15:47:01
flowMeans/-2025-05-15 15:47:01
flowCore/-2025-05-15 15:47:01
flowPloidy/-2025-05-15 15:47:01
flowStats/-2025-05-15 15:47:01
flowCHIC/-2025-05-15 15:47:01
flowClean/-2025-05-15 15:47:01
FitHiC/-2025-05-15 15:47:01
FISHalyseR/-2025-05-15 15:47:01
flowGraph/-2025-05-15 15:47:01
flowBin/-2025-05-15 15:47:01
flowClust/-2025-05-15 15:47:01
flowcatchR/-2025-05-15 15:47:01
FlowSOM/-2025-05-15 15:47:01
FLAMES/-2025-05-15 15:47:01
fishpond/-2025-05-15 15:47:01
flowAI/-2025-05-15 15:47:01
flowFP/-2025-05-15 15:47:01
flowBeads/-2025-05-15 15:47:01
flowGate/-2025-05-15 15:47:01
flowSpecs/-2025-05-15 15:47:01
flowDensity/-2025-05-15 15:47:01
flowPlots/-2025-05-15 15:47:01
FindIT2/-2025-05-15 15:47:01
flowPeaks/-2025-05-15 15:47:01
flowCut/-2025-05-15 15:47:01
fcScan/-2025-05-15 15:47:00
FamAgg/-2025-05-15 15:47:00
ExploreModelMatrix/-2025-05-15 15:47:00
faers/-2025-05-15 15:47:00
ExperimentSubset/-2025-05-15 15:47:00
fCCAC/-2025-05-15 15:47:00
FeatSeekR/-2025-05-15 15:47:00
fedup/-2025-05-15 15:47:00
FEAST/-2025-05-15 15:47:00
FELLA/-2025-05-15 15:47:00
FGNet/-2025-05-15 15:47:00
findIPs/-2025-05-15 15:47:00
fastLiquidAssociation/-2025-05-15 15:47:00
extraChIPs/-2025-05-15 15:47:00
fastseg/-2025-05-15 15:47:00
FilterFFPE/-2025-05-15 15:47:00
FastqCleaner/-2025-05-15 15:47:00
ffpe/-2025-05-15 15:47:00
famat/-2025-05-15 15:47:00
fdrame/-2025-05-15 15:47:00
fgsea/-2025-05-15 15:47:00
ExperimentHubData/-2025-05-15 15:47:00
factR/-2025-05-15 15:47:00
fCI/-2025-05-15 15:47:00
ExpressionAtlas/-2025-05-15 15:47:00
factDesign/-2025-05-15 15:47:00
fgga/-2025-05-15 15:47:00
fenr/-2025-05-15 15:47:00
fastreeR/-2025-05-15 15:47:00
fabia/-2025-05-15 15:47:00
ExperimentHub/-2025-05-15 15:46:59
epistack/-2025-05-15 15:46:59
epistasisGA/-2025-05-15 15:46:59
epigraHMM/-2025-05-15 15:46:59
erccdashboard/-2025-05-15 15:46:59
escheR/-2025-05-15 15:46:59
epivizrChart/-2025-05-15 15:46:59
epivizr/-2025-05-15 15:46:59
esetVis/-2025-05-15 15:46:59
epiNEM/-2025-05-15 15:46:59
erma/-2025-05-15 15:46:59
escape/-2025-05-15 15:46:59
epivizrServer/-2025-05-15 15:46:59
ExCluster/-2025-05-15 15:46:59
epivizrData/-2025-05-15 15:46:59
EpiMix/-2025-05-15 15:46:59
EventPointer/-2025-05-15 15:46:59
EWCE/-2025-05-15 15:46:59
EpipwR/-2025-05-15 15:46:59
epiregulon.extra/-2025-05-15 15:46:59
esATAC/-2025-05-15 15:46:59
epimutacions/-2025-05-15 15:46:59
EpiTxDb/-2025-05-15 15:46:59
epigenomix/-2025-05-15 15:46:59
ERSSA/-2025-05-15 15:46:59
epiregulon/-2025-05-15 15:46:59
ExiMiR/-2025-05-15 15:46:59
evaluomeR/-2025-05-15 15:46:59
epivizrStandalone/-2025-05-15 15:46:59
eudysbiome/-2025-05-15 15:46:59
EBSeq/-2025-05-15 15:46:58
ENmix/-2025-05-15 15:46:58
enrichplot/-2025-05-15 15:46:58
EDASeq/-2025-05-15 15:46:58
epidecodeR/-2025-05-15 15:46:58
EnrichDO/-2025-05-15 15:46:58
epialleleR/-2025-05-15 15:46:58
EnrichmentBrowser/-2025-05-15 15:46:58
EGAD/-2025-05-15 15:46:58
ecolitk/-2025-05-15 15:46:58
EMDomics/-2025-05-15 15:46:58
ELMER/-2025-05-15 15:46:58
enrichViewNet/-2025-05-15 15:46:58
EnhancedVolcano/-2025-05-15 15:46:58
eds/-2025-05-15 15:46:58
enhancerHomologSearch/-2025-05-15 15:46:58
EGSEA/-2025-05-15 15:46:58
EpiCompare/-2025-05-15 15:46:58
eiR/-2025-05-15 15:46:58
edgeR/-2025-05-15 15:46:58
ELViS/-2025-05-15 15:46:58
EpiDISH/-2025-05-15 15:46:58
edge/-2025-05-15 15:46:58
EnMCB/-2025-05-15 15:46:58
eisaR/-2025-05-15 15:46:58
EDIRquery/-2025-05-15 15:46:58
ensembldb/-2025-05-15 15:46:58
EnrichedHeatmap/-2025-05-15 15:46:58
EmpiricalBrownsMethod/-2025-05-15 15:46:58
easylift/-2025-05-15 15:46:57
DOSE/-2025-05-15 15:46:57
doseR/-2025-05-15 15:46:57
EBcoexpress/-2025-05-15 15:46:57
dominoSignal/-2025-05-15 15:46:57
easyRNASeq/-2025-05-15 15:46:57
drawProteins/-2025-05-15 15:46:57
EBImage/-2025-05-15 15:46:57
DTA/-2025-05-15 15:46:57
dreamlet/-2025-05-15 15:46:57
dStruct/-2025-05-15 15:46:57
doppelgangR/-2025-05-15 15:46:57
dupRadar/-2025-05-15 15:46:57
drugTargetInteractions/-2025-05-15 15:46:57
EBarrays/-2025-05-15 15:46:57
dyebias/-2025-05-15 15:46:57
easier/-2025-05-15 15:46:57
EasyCellType/-2025-05-15 15:46:57
easyreporting/-2025-05-15 15:46:57
DriverNet/-2025-05-15 15:46:57
DynDoc/-2025-05-15 15:46:57
DropletUtils/-2025-05-15 15:46:57
DrugVsDisease/-2025-05-15 15:46:57
DRIMSeq/-2025-05-15 15:46:57
DuplexDiscovereR/-2025-05-15 15:46:57
EBSEA/-2025-05-15 15:46:57
doubletrouble/-2025-05-15 15:46:57
DSS/-2025-05-15 15:46:57
Dune/-2025-05-15 15:46:57
Doscheda/-2025-05-15 15:46:57
diffHic/-2025-05-15 15:46:56
DMRScan/-2025-05-15 15:46:56
diggit/-2025-05-15 15:46:56
diffuStats/-2025-05-15 15:46:56
DiscoRhythm/-2025-05-15 15:46:56
DMCFB/-2025-05-15 15:46:56
dks/-2025-05-15 15:46:56
DirichletMultinomial/-2025-05-15 15:46:56
DNABarcodes/-2025-05-15 15:46:56
DNAcycP2/-2025-05-15 15:46:56
discordant/-2025-05-15 15:46:56
dinoR/-2025-05-15 15:46:56
DNAfusion/-2025-05-15 15:46:56
DNAcopy/-2025-05-15 15:46:56
DominoEffect/-2025-05-15 15:46:56
Dino/-2025-05-15 15:46:56
diffUTR/-2025-05-15 15:46:56
DNAshapeR/-2025-05-15 15:46:56
DMRcate/-2025-05-15 15:46:56
divergence/-2025-05-15 15:46:56
dir.expiry/-2025-05-15 15:46:56
DMRcaller/-2025-05-15 15:46:56
DiffLogo/-2025-05-15 15:46:56
DMCHMM/-2025-05-15 15:46:56
DNABarcodeCompatibility/-2025-05-15 15:46:56
Director/-2025-05-15 15:46:56
diffGeneAnalysis/-2025-05-15 15:46:56
dmrseq/-2025-05-15 15:46:56
dittoSeq/-2025-05-15 15:46:56
distinct/-2025-05-15 15:46:56
diffcoexp/-2025-05-15 15:46:55
DeMAND/-2025-05-15 15:46:55
DEqMS/-2025-05-15 15:46:55
destiny/-2025-05-15 15:46:55
DifferentialRegulation/-2025-05-15 15:46:55
DEWSeq/-2025-05-15 15:46:55
DiffBind/-2025-05-15 15:46:55
DeMixT/-2025-05-15 15:46:55
DFP/-2025-05-15 15:46:55
DepecheR/-2025-05-15 15:46:55
demuxmix/-2025-05-15 15:46:55
DEsingle/-2025-05-15 15:46:55
densvis/-2025-05-15 15:46:55
DepInfeR/-2025-05-15 15:46:55
demuxSNP/-2025-05-15 15:46:55
derfinder/-2025-05-15 15:46:55
DeProViR/-2025-05-15 15:46:55
diffcyt/-2025-05-15 15:46:55
DEScan2/-2025-05-15 15:46:55
DEsubs/-2025-05-15 15:46:55
derfinderHelper/-2025-05-15 15:46:55
DEXSeq/-2025-05-15 15:46:55
DESpace/-2025-05-15 15:46:55
DFplyr/-2025-05-15 15:46:55
DESeq2/-2025-05-15 15:46:55
DExMA/-2025-05-15 15:46:55
DEP/-2025-05-15 15:46:55
derfinderPlot/-2025-05-15 15:46:55
DIAlignR/-2025-05-15 15:46:55
deltaGseg/-2025-05-15 15:46:55
debrowser/-2025-05-15 15:46:54
DelayedDataFrame/-2025-05-15 15:46:54
deltaCaptureC/-2025-05-15 15:46:54
deepSNV/-2025-05-15 15:46:54
DEGraph/-2025-05-15 15:46:54
DelayedRandomArray/-2025-05-15 15:46:54
DELocal/-2025-05-15 15:46:54
DECIPHER/-2025-05-15 15:46:54
DEFormats/-2025-05-15 15:46:54
decontX/-2025-05-15 15:46:54
decompTumor2Sig/-2025-05-15 15:46:54
DeepPINCS/-2025-05-15 15:46:54
DelayedMatrixStats/-2025-05-15 15:46:54
DeconRNASeq/-2025-05-15 15:46:54
DEGseq/-2025-05-15 15:46:54
DegNorm/-2025-05-15 15:46:54
DeconvoBuddies/-2025-05-15 15:46:54
DelayedArray/-2025-05-15 15:46:54
DelayedTensor/-2025-05-15 15:46:54
dearseq/-2025-05-15 15:46:54
debCAM/-2025-05-15 15:46:54
ddCt/-2025-05-15 15:46:54
dcGSA/-2025-05-15 15:46:54
ddPCRclust/-2025-05-15 15:46:54
decontam/-2025-05-15 15:46:54
DeepTarget/-2025-05-15 15:46:54
DEGreport/-2025-05-15 15:46:54
DegCre/-2025-05-15 15:46:54
decoupleR/-2025-05-15 15:46:54
deconvR/-2025-05-15 15:46:54
DAPAR/-2025-05-15 15:46:53
cypress/-2025-05-15 15:46:53
cytofQC/-2025-05-15 15:46:53
DAMEfinder/-2025-05-15 15:46:53
cytolib/-2025-05-15 15:46:53
cycle/-2025-05-15 15:46:53
dcanr/-2025-05-15 15:46:53
DaMiRseq/-2025-05-15 15:46:53
CytoGLMM/-2025-05-15 15:46:53
dagLogo/-2025-05-15 15:46:53
Damsel/-2025-05-15 15:46:53
cytoKernel/-2025-05-15 15:46:53
CytoML/-2025-05-15 15:46:53
cydar/-2025-05-15 15:46:53
dandelionR/-2025-05-15 15:46:53
dar/-2025-05-15 15:46:53
daMA/-2025-05-15 15:46:53
DART/-2025-05-15 15:46:53
CytoMDS/-2025-05-15 15:46:53
CyTOFpower/-2025-05-15 15:46:53
cytoMEM/-2025-05-15 15:46:53
dce/-2025-05-15 15:46:53
dada2/-2025-05-15 15:46:53
CytoPipelineGUI/-2025-05-15 15:46:53
CytoPipeline/-2025-05-15 15:46:53
cytoviewer/-2025-05-15 15:46:53
DCATS/-2025-05-15 15:46:53
cytomapper/-2025-05-15 15:46:53
CytoDx/-2025-05-15 15:46:53
crisprBase/-2025-05-15 15:46:52
csaw/-2025-05-15 15:46:52
crisprVerse/-2025-05-15 15:46:52
CSSQ/-2025-05-15 15:46:52
ctsGE/-2025-05-15 15:46:52
cyanoFilter/-2025-05-15 15:46:52
CTdata/-2025-05-15 15:46:52
cTRAP/-2025-05-15 15:46:52
crossmeta/-2025-05-15 15:46:52
crisprDesign/-2025-05-15 15:46:52
customCMPdb/-2025-05-15 15:46:52
cummeRbund/-2025-05-15 15:46:52
crisprViz/-2025-05-15 15:46:52
crisprShiny/-2025-05-15 15:46:52
CTSV/-2025-05-15 15:46:52
CTexploreR/-2025-05-15 15:46:52
CTDquerier/-2025-05-15 15:46:52
crisprBowtie/-2025-05-15 15:46:52
crlmm/-2025-05-15 15:46:52
ctc/-2025-05-15 15:46:52
csdR/-2025-05-15 15:46:52
CRISPRseek/-2025-05-15 15:46:52
CuratedAtlasQueryR/-2025-05-15 15:46:52
crisprScore/-2025-05-15 15:46:52
crisprBwa/-2025-05-15 15:46:52
crumblr/-2025-05-15 15:46:52
CrispRVariants/-2025-05-15 15:46:52
customProDB/-2025-05-15 15:46:52
CSAR/-2025-05-15 15:46:52
crupR/-2025-05-15 15:46:52
cqn/-2025-05-15 15:46:51
cosmiq/-2025-05-15 15:46:51
coRdon/-2025-05-15 15:46:51
convert/-2025-05-15 15:46:51
Cormotif/-2025-05-15 15:46:51
consensusSeekeR/-2025-05-15 15:46:51
CoSIA/-2025-05-15 15:46:51
corral/-2025-05-15 15:46:51
consensusOV/-2025-05-15 15:46:51
CRISPRball/-2025-05-15 15:46:51
COSNet/-2025-05-15 15:46:51
CONSTANd/-2025-05-15 15:46:51
consICA/-2025-05-15 15:46:51
condiments/-2025-05-15 15:46:51
CopyNumberPlots/-2025-05-15 15:46:51
CPSM/-2025-05-15 15:46:51
COTAN/-2025-05-15 15:46:51
conumee/-2025-05-15 15:46:51
ConsensusClusterPlus/-2025-05-15 15:46:51
cpvSNP/-2025-05-15 15:46:51
coseq/-2025-05-15 15:46:51
consensusDE/-2025-05-15 15:46:51
consensus/-2025-05-15 15:46:51
countsimQC/-2025-05-15 15:46:51
CoreGx/-2025-05-15 15:46:51
covRNA/-2025-05-15 15:46:51
CONFESS/-2025-05-15 15:46:51
cosmosR/-2025-05-15 15:46:51
copa/-2025-05-15 15:46:51
CoverageView/-2025-05-15 15:46:51
covEB/-2025-05-15 15:46:51
CRImage/-2025-05-15 15:46:51
concordexR/-2025-05-15 15:46:51
cogena/-2025-05-15 15:46:50
CNTools/-2025-05-15 15:46:50
coMethDMR/-2025-05-15 15:46:50
ComPrAn/-2025-05-15 15:46:50
compcodeR/-2025-05-15 15:46:50
combi/-2025-05-15 15:46:50
cola/-2025-05-15 15:46:50
comapr/-2025-05-15 15:46:50
CODEX/-2025-05-15 15:46:50
CNVPanelizer/-2025-05-15 15:46:50
cnvGSA/-2025-05-15 15:46:50
coGPS/-2025-05-15 15:46:50
CoCiteStats/-2025-05-15 15:46:50
CNViz/-2025-05-15 15:46:50
compEpiTools/-2025-05-15 15:46:50
CNVrd2/-2025-05-15 15:46:50
COCOA/-2025-05-15 15:46:50
codelink/-2025-05-15 15:46:50
CNVfilteR/-2025-05-15 15:46:50
CompoundDb/-2025-05-15 15:46:50
CNVMetrics/-2025-05-15 15:46:50
CoGAPS/-2025-05-15 15:46:50
CNVRanger/-2025-05-15 15:46:50
compSPOT/-2025-05-15 15:46:50
ComplexHeatmap/-2025-05-15 15:46:50
CNORode/-2025-05-15 15:46:50
coMET/-2025-05-15 15:46:50
Cogito/-2025-05-15 15:46:50
COMPASS/-2025-05-15 15:46:50
CNORfuzzy/-2025-05-15 15:46:50
cogeqc/-2025-05-15 15:46:50
ClusterFoldSimilarity/-2025-05-15 15:46:49
clusterSeq/-2025-05-15 15:46:49
clustSIGNAL/-2025-05-15 15:46:49
CNORdt/-2025-05-15 15:46:49
Clomial/-2025-05-15 15:46:49
cmapR/-2025-05-15 15:46:49
clippda/-2025-05-15 15:46:49
cleaver/-2025-05-15 15:46:49
CNAnorm/-2025-05-15 15:46:49
cn.mops/-2025-05-15 15:46:49
CluMSID/-2025-05-15 15:46:49
clusterExperiment/-2025-05-15 15:46:49
clipper/-2025-05-15 15:46:49
ClustAll/-2025-05-15 15:46:49
clusterProfiler/-2025-05-15 15:46:49
cn.farms/-2025-05-15 15:46:49
CNEr/-2025-05-15 15:46:49
cliProfiler/-2025-05-15 15:46:49
ClusterJudge/-2025-05-15 15:46:49
CMA/-2025-05-15 15:46:49
CNORfeeder/-2025-05-15 15:46:49
ClusterSignificance/-2025-05-15 15:46:49
clst/-2025-05-15 15:46:49
clstutils/-2025-05-15 15:46:49
clustifyr/-2025-05-15 15:46:49
clustComp/-2025-05-15 15:46:49
cliqueMS/-2025-05-15 15:46:49
clusterStab/-2025-05-15 15:46:49
clevRvis/-2025-05-15 15:46:49
ClustIRR/-2025-05-15 15:46:49
cisPath/-2025-05-15 15:46:48
ClassifyR/-2025-05-15 15:46:48
CircSeqAlignTk/-2025-05-15 15:46:48
ChIPexoQual/-2025-05-15 15:46:48
chipenrich/-2025-05-15 15:46:48
cleanUpdTSeq/-2025-05-15 15:46:48
chromDraw/-2025-05-15 15:46:48
CHRONOS/-2025-05-15 15:46:48
ChromSCape/-2025-05-15 15:46:48
chipseq/-2025-05-15 15:46:48
chromVAR/-2025-05-15 15:46:48
chromstaR/-2025-05-15 15:46:48
chromPlot/-2025-05-15 15:46:48
CleanUpRNAseq/-2025-05-15 15:46:48
ChIPXpress/-2025-05-15 15:46:48
circRNAprofiler/-2025-05-15 15:46:48
CIMICE/-2025-05-15 15:46:48
ChIPsim/-2025-05-15 15:46:48
ChIPanalyser/-2025-05-15 15:46:48
cicero/-2025-05-15 15:46:48
CINdex/-2025-05-15 15:46:48
ChIPseeker/-2025-05-15 15:46:48
chimeraviz/-2025-05-15 15:46:48
chihaya/-2025-05-15 15:46:48
ChIPseqR/-2025-05-15 15:46:48
chopsticks/-2025-05-15 15:46:48
ChIPpeakAnno/-2025-05-15 15:46:48
ChIPComp/-2025-05-15 15:46:48
ChIPQC/-2025-05-15 15:46:48
ChromHeatMap/-2025-05-15 15:46:48
CiteFuse/-2025-05-15 15:46:48
CeTF/-2025-05-15 15:46:47
CGHnormaliter/-2025-05-15 15:46:47
cfdnakit/-2025-05-15 15:46:47
cfDNAPro/-2025-05-15 15:46:47
CGHregions/-2025-05-15 15:46:47
cellscape/-2025-05-15 15:46:47
CFAssay/-2025-05-15 15:46:47
CellNOptR/-2025-05-15 15:46:47
cfTools/-2025-05-15 15:46:47
Cepo/-2025-05-15 15:46:47
ChemmineR/-2025-05-15 15:46:47
ceRNAnetsim/-2025-05-15 15:46:47
chevreulProcess/-2025-05-15 15:46:47
CEMiTool/-2025-05-15 15:46:47
chevreulShiny/-2025-05-15 15:46:47
Chicago/-2025-05-15 15:46:47
CexoR/-2025-05-15 15:46:47
CGHcall/-2025-05-15 15:46:47
ChAMP/-2025-05-15 15:46:47
cellxgenedp/-2025-05-15 15:46:47
CellScore/-2025-05-15 15:46:47
cghMCR/-2025-05-15 15:46:47
CGEN/-2025-05-15 15:46:47
CHETAH/-2025-05-15 15:46:47
CGHbase/-2025-05-15 15:46:47
censcyt/-2025-05-15 15:46:47
chevreulPlot/-2025-05-15 15:46:47
CellMixS/-2025-05-15 15:46:47
CellTrails/-2025-05-15 15:46:47
ChemmineOB/-2025-05-15 15:46:47
CDI/-2025-05-15 15:46:46
CBNplot/-2025-05-15 15:46:46
cbaf/-2025-05-15 15:46:46
cellity/-2025-05-15 15:46:46
CCPROMISE/-2025-05-15 15:46:46
celda/-2025-05-15 15:46:46
cellbaseR/-2025-05-15 15:46:46
CATALYST/-2025-05-15 15:46:46
CellBench/-2025-05-15 15:46:46
ccmap/-2025-05-15 15:46:46
CARNIVAL/-2025-05-15 15:46:46
cBioPortalData/-2025-05-15 15:46:46
celaref/-2025-05-15 15:46:46
cbpManager/-2025-05-15 15:46:46
CellMapper/-2025-05-15 15:46:46
CatsCradle/-2025-05-15 15:46:46
cellmigRation/-2025-05-15 15:46:46
Category/-2025-05-15 15:46:46
CellBarcode/-2025-05-15 15:46:46
categoryCompare/-2025-05-15 15:46:46
CCAFE/-2025-05-15 15:46:46
ccImpute/-2025-05-15 15:46:46
ccrepe/-2025-05-15 15:46:46
ccfindR/-2025-05-15 15:46:46
CARDspa/-2025-05-15 15:46:46
CausalR/-2025-05-15 15:46:46
CBEA/-2025-05-15 15:46:46
CelliD/-2025-05-15 15:46:46
casper/-2025-05-15 15:46:46
CCPlotR/-2025-05-15 15:46:46
BUScorrect/-2025-05-15 15:46:45
CAFE/-2025-05-15 15:46:45
BulkSignalR/-2025-05-15 15:46:45
BridgeDbR/-2025-05-15 15:46:45
CaDrA/-2025-05-15 15:46:45
BUSseq/-2025-05-15 15:46:45
BUS/-2025-05-15 15:46:45
bsseq/-2025-05-15 15:46:45
CAEN/-2025-05-15 15:46:45
BumpyMatrix/-2025-05-15 15:46:45
CAGEr/-2025-05-15 15:46:45
canceR/-2025-05-15 15:46:45
BUSpaRse/-2025-05-15 15:46:45
CAMERA/-2025-05-15 15:46:45
BufferedMatrixMethods/-2025-05-15 15:46:45
calm/-2025-05-15 15:46:45
BUMHMM/-2025-05-15 15:46:45
CAGEfightR/-2025-05-15 15:46:45
BSgenomeForge/-2025-05-15 15:46:45
CardinalIO/-2025-05-15 15:46:45
CaMutQC/-2025-05-15 15:46:45
cageminer/-2025-05-15 15:46:45
BubbleTree/-2025-05-15 15:46:45
bumphunter/-2025-05-15 15:46:45
BrowserViz/-2025-05-15 15:46:45
BSgenome/-2025-05-15 15:46:45
cancerclass/-2025-05-15 15:46:45
Cardinal/-2025-05-15 15:46:45
bugsigdbr/-2025-05-15 15:46:45
cardelino/-2025-05-15 15:46:45
BufferedMatrix/-2025-05-15 15:46:45
broadSeq/-2025-05-15 15:46:45
BioMVCClass/-2025-05-15 15:46:44
blacksheepr/-2025-05-15 15:46:44
breakpointR/-2025-05-15 15:46:44
BLMA/-2025-05-15 15:46:44
biosigner/-2025-05-15 15:46:44
BRAIN/-2025-05-15 15:46:44
BioNet/-2025-05-15 15:46:44
BREW3R.r/-2025-05-15 15:46:44
BioNERO/-2025-05-15 15:46:44
BiSeq/-2025-05-15 15:46:44
biotmle/-2025-05-15 15:46:44
branchpointer/-2025-05-15 15:46:44
blima/-2025-05-15 15:46:44
BreastSubtypeR/-2025-05-15 15:46:44
biscuiteer/-2025-05-15 15:46:44
biovizBase/-2025-05-15 15:46:44
BOBaFIT/-2025-05-15 15:46:44
biomformat/-2025-05-15 15:46:44
BPRMeth/-2025-05-15 15:46:44
BiRewire/-2025-05-15 15:46:44
bnbc/-2025-05-15 15:46:44
biomvRCNS/-2025-05-15 15:46:44
Biostrings/-2025-05-15 15:46:44
bluster/-2025-05-15 15:46:44
BioNAR/-2025-05-15 15:46:44
bnem/-2025-05-15 15:46:44
BloodGen3Module/-2025-05-15 15:46:44
borealis/-2025-05-15 15:46:44
BioTIP/-2025-05-15 15:46:44
BioQC/-2025-05-15 15:46:44
brendaDb/-2025-05-15 15:46:44
biodbChebi/-2025-05-15 15:46:43
BiocIO/-2025-05-15 15:46:43
biodbUniprot/-2025-05-15 15:46:43
biocroxytest/-2025-05-15 15:46:43
biocmake/-2025-05-15 15:46:43
biodbHmdb/-2025-05-15 15:46:43
BiocHubsShiny/-2025-05-15 15:46:43
BiocWorkflowTools/-2025-05-15 15:46:43
BioGA/-2025-05-15 15:46:43
BiocVersion/-2025-05-15 15:46:43
biodbNcbi/-2025-05-15 15:46:43
BiocPkgTools/-2025-05-15 15:46:43
BiocSet/-2025-05-15 15:46:43
BiocSklearn/-2025-05-15 15:46:43
biodb/-2025-05-15 15:46:43
biocthis/-2025-05-15 15:46:43
BiocNeighbors/-2025-05-15 15:46:43
biocGraph/-2025-05-15 15:46:43
BioCor/-2025-05-15 15:46:43
biomaRt/-2025-05-15 15:46:43
bioDist/-2025-05-15 15:46:43
BiocSingular/-2025-05-15 15:46:43
biocViews/-2025-05-15 15:46:43
biodbNci/-2025-05-15 15:46:43
BiocParallel/-2025-05-15 15:46:43
BiocHail/-2025-05-15 15:46:43
BiocStyle/-2025-05-15 15:46:43
bioassayR/-2025-05-15 15:46:42
beadarray/-2025-05-15 15:46:42
BEAT/-2025-05-15 15:46:42
BiocBaseUtils/-2025-05-15 15:46:42
BicARE/-2025-05-15 15:46:42
BiocGenerics/-2025-05-15 15:46:42
BiGGR/-2025-05-15 15:46:42
BiFET/-2025-05-15 15:46:42
bigmelon/-2025-05-15 15:46:42
beer/-2025-05-15 15:46:42
BgeeCall/-2025-05-15 15:46:42
biobroom/-2025-05-15 15:46:42
benchdamic/-2025-05-15 15:46:42
Biobase/-2025-05-15 15:46:42
beachmat.hdf5/-2025-05-15 15:46:42
BioCartaImage/-2025-05-15 15:46:42
BiocFileCache/-2025-05-15 15:46:42
BiocFHIR/-2025-05-15 15:46:42
bgx/-2025-05-15 15:46:42
BG2/-2025-05-15 15:46:42
BiocCheck/-2025-05-15 15:46:42
BiocBook/-2025-05-15 15:46:42
beachmat.tiledb/-2025-05-15 15:46:42
BeadDataPackR/-2025-05-15 15:46:42
biobtreeR/-2025-05-15 15:46:42
bettr/-2025-05-15 15:46:42
betaHMM/-2025-05-15 15:46:42
BindingSiteFinder/-2025-05-15 15:46:42
BERT/-2025-05-15 15:46:42
bioCancer/-2025-05-15 15:46:42
BEclear/-2025-05-15 15:46:42
BgeeDB/-2025-05-15 15:46:42
BEARscc/-2025-05-15 15:46:42
bedbaser/-2025-05-15 15:46:42
basecallQC/-2025-05-15 15:46:41
basilisk/-2025-05-15 15:46:41
batchelor/-2025-05-15 15:46:41
ballgown/-2025-05-15 15:46:41
bambu/-2025-05-15 15:46:41
Basic4Cseq/-2025-05-15 15:46:41
bamsignals/-2025-05-15 15:46:41
bcSeq/-2025-05-15 15:46:41
bayNorm/-2025-05-15 15:46:41
BayesSpace/-2025-05-15 15:46:41
beachmat/-2025-05-15 15:46:41
BadRegionFinder/-2025-05-15 15:46:41
bandle/-2025-05-15 15:46:41
barbieQ/-2025-05-15 15:46:41
barcodetrackR/-2025-05-15 15:46:41
baySeq/-2025-05-15 15:46:41
BCRANK/-2025-05-15 15:46:41
BASiCStan/-2025-05-15 15:46:41
BASiCS/-2025-05-15 15:46:41
BatchQC/-2025-05-15 15:46:41
basilisk.utils/-2025-05-15 15:46:41
BANDITS/-2025-05-15 15:46:41
BaseSpaceR/-2025-05-15 15:46:41
BatchSVG/-2025-05-15 15:46:41
BAGS/-2025-05-15 15:46:41
BADER/-2025-05-15 15:46:41
BasicSTARRseq/-2025-05-15 15:46:41
BBCAnalyzer/-2025-05-15 15:46:41
BayesKnockdown/-2025-05-15 15:46:41
Banksy/-2025-05-15 15:46:41
banocc/-2025-05-15 15:46:41
ASpli/-2025-05-15 15:46:40
awst/-2025-05-15 15:46:40
BaalChIP/-2025-05-15 15:46:40
attract/-2025-05-15 15:46:40
ATACseqTFEA/-2025-05-15 15:46:40
ATACseqQC/-2025-05-15 15:46:40
artMS/-2025-05-15 15:46:40
arrayMvout/-2025-05-15 15:46:40
ASURAT/-2025-05-15 15:46:40
apComplex/-2025-05-15 15:46:40
autonomics/-2025-05-15 15:46:40
appreci8R/-2025-05-15 15:46:40
atena/-2025-05-15 15:46:40
atSNP/-2025-05-15 15:46:40
ASICS/-2025-05-15 15:46:40
APL/-2025-05-15 15:46:40
apeglm/-2025-05-15 15:46:40
ArrayExpress/-2025-05-15 15:46:40
ASEB/-2025-05-15 15:46:40
assorthead/-2025-05-15 15:46:40
AssessORF/-2025-05-15 15:46:40
ASAFE/-2025-05-15 15:46:40
ASGSCA/-2025-05-15 15:46:40
APAlyzer/-2025-05-15 15:46:40
ASSIGN/-2025-05-15 15:46:40
AUCell/-2025-05-15 15:46:40
bacon/-2025-05-15 15:46:40
aroma.light/-2025-05-15 15:46:40
ASSET/-2025-05-15 15:46:40
AWFisher/-2025-05-15 15:46:40
arrayQualityMetrics/-2025-05-15 15:46:40
ARRmNormalization/-2025-05-15 15:46:40
arrayQuality/-2025-05-15 15:46:40
ANF/-2025-05-15 15:46:39
AnVIL/-2025-05-15 15:46:39
annotatr/-2025-05-15 15:46:39
AnnotationForge/-2025-05-15 15:46:39
AnnotationFilter/-2025-05-15 15:46:39
AnVILBilling/-2025-05-15 15:46:39
altcdfenvs/-2025-05-15 15:46:39
AnVILGCP/-2025-05-15 15:46:39
annotate/-2025-05-15 15:46:39
AnnotationHubData/-2025-05-15 15:46:39
antiProfiles/-2025-05-15 15:46:39
anota/-2025-05-15 15:46:39
AnVILWorkflow/-2025-05-15 15:46:39
AnVILAz/-2025-05-15 15:46:39
anota2seq/-2025-05-15 15:46:39
AnnotationHub/-2025-05-15 15:46:39
annaffy/-2025-05-15 15:46:39
AlpsNMR/-2025-05-15 15:46:39
ANCOMBC/-2025-05-15 15:46:39
annotationTools/-2025-05-15 15:46:39
AMOUNTAIN/-2025-05-15 15:46:39
AnnotationDbi/-2025-05-15 15:46:39
AlphaMissenseR/-2025-05-15 15:46:39
AMARETTO/-2025-05-15 15:46:39
amplican/-2025-05-15 15:46:39
Anaquin/-2025-05-15 15:46:39
annmap/-2025-05-15 15:46:39
AneuFinder/-2025-05-15 15:46:39
AnVILBase/-2025-05-15 15:46:39
AnVILPublish/-2025-05-15 15:46:39
animalcules/-2025-05-15 15:46:39
AlphaBeta/-2025-05-15 15:46:39
airpart/-2025-05-15 15:46:38
AGDEX/-2025-05-15 15:46:38
affyPLM/-2025-05-15 15:46:38
alabaster.string/-2025-05-15 15:46:38
alabaster.files/-2025-05-15 15:46:38
alabaster.vcf/-2025-05-15 15:46:38
affycomp/-2025-05-15 15:46:38
affyContam/-2025-05-15 15:46:38
alabaster.mae/-2025-05-15 15:46:38
alabaster.sfe/-2025-05-15 15:46:38
AIMS/-2025-05-15 15:46:38
alabaster.schemas/-2025-05-15 15:46:38
affy/-2025-05-15 15:46:38
AllelicImbalance/-2025-05-15 15:46:38
alabaster.ranges/-2025-05-15 15:46:38
alevinQC/-2025-05-15 15:46:38
alabaster.bumpy/-2025-05-15 15:46:38
alabaster.matrix/-2025-05-15 15:46:38
affyILM/-2025-05-15 15:46:38
alabaster.se/-2025-05-15 15:46:38
alabaster.sce/-2025-05-15 15:46:38
alabaster.spatial/-2025-05-15 15:46:38
affylmGUI/-2025-05-15 15:46:38
AHMassBank/-2025-05-15 15:46:38
agilp/-2025-05-15 15:46:38
affyio/-2025-05-15 15:46:38
aggregateBioVar/-2025-05-15 15:46:38
alabaster/-2025-05-15 15:46:38
ALDEx2/-2025-05-15 15:46:38
AffyRNADegradation/-2025-05-15 15:46:38
affycoretools/-2025-05-15 15:46:38
alabaster.base/-2025-05-15 15:46:38
AgiMicroRna/-2025-05-15 15:46:38
a4Reporting/-2025-05-15 15:46:37
ADImpute/-2025-05-15 15:46:37
a4Base/-2025-05-15 15:46:37
AffiXcan/-2025-05-15 15:46:37
ABSSeq/-2025-05-15 15:46:37
ADAM/-2025-05-15 15:46:37
affxparser/-2025-05-15 15:46:37
ADaCGH2/-2025-05-15 15:46:37
adductomicsR/-2025-05-15 15:46:37
adverSCarial/-2025-05-15 15:46:37
ADAMgui/-2025-05-15 15:46:37
ABarray/-2025-05-15 15:46:37
a4/-2025-05-15 15:46:37
a4Classif/-2025-05-15 15:46:37
a4Preproc/-2025-05-15 15:46:37
ACME/-2025-05-15 15:46:37
adSplit/-2025-05-15 15:46:37
a4Core/-2025-05-15 15:46:37
aCGH/-2025-05-15 15:46:37
ADAPT/-2025-05-15 15:46:37
ACE/-2025-05-15 15:46:37
abseqR/-2025-05-15 15:46:37
acde/-2025-05-15 15:46:37
RbowtieCuda/-2025-05-15 15:39:29
GeneGeneInteR/-2025-05-15 15:38:49
single/-2024-10-24 15:04:43
SummarizedBenchmark/-2024-10-24 15:04:43
Risa/-2024-10-24 15:04:43
RNAinteract/-2024-10-24 15:04:43
psygenet2r/-2024-10-24 15:04:42
polyester/-2024-10-24 15:04:42
RandomWalkRestartMH/-2024-10-24 15:04:42
rDGIdb/-2024-10-24 15:04:42
Pi/-2024-10-24 15:04:42
nanotatoR/-2024-10-24 15:04:41
MQmetrics/-2024-10-24 15:04:41
microbiomeMarker/-2024-10-24 15:04:41
netOmics/-2024-10-24 15:04:41
brainflowprobes/-2024-10-24 15:04:38
BiocOncoTK/-2024-10-24 15:04:38
biodbKegg/-2024-10-24 15:04:38
biodbExpasy/-2024-10-24 15:04:38
CellaRepertorium/-2024-10-24 15:04:38
BRGenomics/-2024-10-24 15:04:38
ATACCoGAPS/-2024-10-24 15:04:37
report.tgz124.2 MiB2025-05-15 15:50:07
long-report.html16.4 MiB2025-05-15 15:48:43
kunpeng2-index.html2.6 MiB2025-05-15 15:48:21
index.html1.3 MiB2025-05-15 15:48:21
kjohnson1-index.html3.4 MiB2025-05-15 15:48:15
merida1-index.html3.4 MiB2025-05-15 15:48:09
palomino7-index.html3.4 MiB2025-05-15 15:48:04
nebbiolo1-index.html3.0 MiB2025-05-15 15:48:01
nebbiolo1-R-instpkgs.html529.6 KiB2025-05-15 15:38:06
120px-Green_Light_Icon.svg.png7.1 KiB2025-05-15 15:38:06
palomino7-R-instpkgs.html470.1 KiB2025-05-15 15:38:06
kjohnson1-R-instpkgs.html605.9 KiB2025-05-15 15:38:06
120px-Red_Light_Icon.svg.png7.0 KiB2025-05-15 15:38:06
report.css11.4 KiB2025-05-15 15:38:06
kunpeng2-NodeInfo.html7.7 KiB2025-05-15 15:38:06
kunpeng2-R-instpkgs.html523.3 KiB2025-05-15 15:38:06
Renviron.bioc3.3 KiB2025-05-15 15:38:06
nebbiolo1-NodeInfo.html7.1 KiB2025-05-15 15:38:06
120px-Blue_Light_Icon.svg.png7.1 KiB2025-05-15 15:38:06
DEVEL3b.png2.6 KiB2025-05-15 15:38:06
kjohnson1-NodeInfo.html6.7 KiB2025-05-15 15:38:06
merida1-NodeInfo.html6.8 KiB2025-05-15 15:38:06
merida1-R-instpkgs.html616.5 KiB2025-05-15 15:38:06
report.js6.0 KiB2025-05-15 15:38:06
palomino7-NodeInfo.html7.0 KiB2025-05-15 15:38:06
skipped-index.dcf24 B2025-05-15 15:38:05
meat-index.dcf241.0 KiB2025-05-15 15:38:05
pkg_dep_graph.txt386.9 KiB2025-05-15 15:38:05
PROPAGATION_STATUS_DB.txt687.7 KiB2025-05-15 15:38:05
BUILD_STATUS_DB.txt1.3 MiB2025-05-15 15:38:05
kjohnson3-index.html3.3 MiB2025-04-22 17:20:44
lconway-index.html3.2 MiB2025-04-22 17:20:39
lconway-R-instpkgs.html616.3 KiB2025-04-22 17:10:45
kjohnson3-R-instpkgs.html605.7 KiB2025-04-22 17:10:45
kjohnson3-NodeInfo.html6.7 KiB2025-04-22 17:10:45
lconway-NodeInfo.html6.7 KiB2025-04-22 17:10:45