Back to Build/check report for BioC 3.22 experimental data
ABCDEFGHIJKLMNOPQR[S]TUVWXYZ

This page was generated on 2025-10-07 15:41 -0400 (Tue, 07 Oct 2025).

HostnameOSArch (*)R versionInstalled pkgs
nebbiolo2Linux (Ubuntu 24.04.3 LTS)x86_644.5.1 Patched (2025-08-23 r88802) -- "Great Square Root" 4853
Click on any hostname to see more info about the system (e.g. compilers)      (*) as reported by 'uname -p', except on Windows and Mac OS X

Package 367/433HostnameOS / ArchINSTALLBUILDCHECK
signatureSearchData 1.23.0  (landing page)
Brendan Gongol
Snapshot Date: 2025-10-07 07:30 -0400 (Tue, 07 Oct 2025)
git_url: https://git.bioconductor.org/packages/signatureSearchData
git_branch: devel
git_last_commit: 25261d4
git_last_commit_date: 2025-04-15 10:14:31 -0400 (Tue, 15 Apr 2025)
nebbiolo2Linux (Ubuntu 24.04.3 LTS) / x86_64  OK    OK    OK  UNNEEDED, same version is already published


CHECK results for signatureSearchData on nebbiolo2

To the developers/maintainers of the signatureSearchData package:
- Use the following Renviron settings to reproduce errors and warnings.
- If 'R CMD check' started to fail recently on the Linux builder(s) over a missing dependency, add the missing dependency to 'Suggests:' in your DESCRIPTION file. See Renviron.bioc for more information.

raw results


Summary

Package: signatureSearchData
Version: 1.23.0
Command: /home/biocbuild/bbs-3.22-bioc/R/bin/R CMD check --install=check:signatureSearchData.install-out.txt --library=/home/biocbuild/bbs-3.22-bioc/R/site-library --timings signatureSearchData_1.23.0.tar.gz
StartedAt: 2025-10-07 13:02:06 -0400 (Tue, 07 Oct 2025)
EndedAt: 2025-10-07 13:03:06 -0400 (Tue, 07 Oct 2025)
EllapsedTime: 59.8 seconds
RetCode: 0
Status:   OK  
CheckDir: signatureSearchData.Rcheck
Warnings: 0

Command output

##############################################################################
##############################################################################
###
### Running command:
###
###   /home/biocbuild/bbs-3.22-bioc/R/bin/R CMD check --install=check:signatureSearchData.install-out.txt --library=/home/biocbuild/bbs-3.22-bioc/R/site-library --timings signatureSearchData_1.23.0.tar.gz
###
##############################################################################
##############################################################################


* using log directory ‘/home/biocbuild/bbs-3.22-data-experiment/meat/signatureSearchData.Rcheck’
* using R version 4.5.1 Patched (2025-08-23 r88802)
* using platform: x86_64-pc-linux-gnu
* R was compiled by
    gcc (Ubuntu 13.3.0-6ubuntu2~24.04) 13.3.0
    GNU Fortran (Ubuntu 13.3.0-6ubuntu2~24.04) 13.3.0
* running under: Ubuntu 24.04.3 LTS
* using session charset: UTF-8
* checking for file ‘signatureSearchData/DESCRIPTION’ ... OK
* this is package ‘signatureSearchData’ version ‘1.23.0’
* package encoding: UTF-8
* checking package namespace information ... OK
* checking package dependencies ... OK
* checking if this is a source package ... OK
* checking if there is a namespace ... OK
* checking for hidden files and directories ... OK
* checking for portable file names ... OK
* checking for sufficient/correct file permissions ... OK
* checking whether package ‘signatureSearchData’ can be installed ... OK
* checking installed package size ... OK
* checking package directory ... OK
* checking ‘build’ directory ... OK
* checking DESCRIPTION meta-information ... OK
* checking top-level files ... OK
* checking for left-over files ... OK
* checking index information ... OK
* checking package subdirectories ... OK
* checking code files for non-ASCII characters ... OK
* checking R files for syntax errors ... OK
* checking whether the package can be loaded ... OK
* checking whether the package can be loaded with stated dependencies ... OK
* checking whether the package can be unloaded cleanly ... OK
* checking whether the namespace can be loaded with stated dependencies ... OK
* checking whether the namespace can be unloaded cleanly ... OK
* checking loading without being on the library search path ... OK
* checking dependencies in R code ... NOTE
Namespaces in Imports field not imported from:
  ‘ExperimentHub’ ‘rhdf5’
  All declared Imports should be used.
* checking S3 generic/method consistency ... OK
* checking replacement functions ... OK
* checking foreign function calls ... OK
* checking R code for possible problems ... OK
* checking Rd files ... OK
* checking Rd metadata ... OK
* checking Rd cross-references ... OK
* checking for missing documentation entries ... OK
* checking for code/documentation mismatches ... OK
* checking Rd \usage sections ... OK
* checking Rd contents ... OK
* checking for unstated dependencies in examples ... OK
* checking files in ‘vignettes’ ... OK
* checking examples ... OK
Examples with CPU (user + system) or elapsed time > 5s
         user system elapsed
ES_NULL 4.883  0.331   5.732
* checking for unstated dependencies in vignettes ... OK
* checking package vignettes ... OK
* checking re-building of vignette outputs ... OK
* checking PDF version of manual ... OK
* DONE

Status: 1 NOTE
See
  ‘/home/biocbuild/bbs-3.22-data-experiment/meat/signatureSearchData.Rcheck/00check.log’
for details.


Installation output

signatureSearchData.Rcheck/00install.out

##############################################################################
##############################################################################
###
### Running command:
###
###   /home/biocbuild/bbs-3.22-bioc/R/bin/R CMD INSTALL signatureSearchData
###
##############################################################################
##############################################################################


* installing to library ‘/home/biocbuild/bbs-3.22-bioc/R/site-library’
* installing *source* package ‘signatureSearchData’ ...
** this is package ‘signatureSearchData’ version ‘1.23.0’
** using staged installation
** R
** inst
** byte-compile and prepare package for lazy loading
** help
*** installing help indices
** building package indices
** installing vignettes
** testing if installed package can be loaded from temporary location
** testing if installed package can be loaded from final location
** testing if installed package keeps a record of temporary installation path
* DONE (signatureSearchData)

Tests output


Example timings

signatureSearchData.Rcheck/signatureSearchData-Ex.timings

nameusersystemelapsed
ES_NULL4.8830.3315.732
GO_DATA0.7430.0761.012
GO_DATA_drug0.7370.0470.960
cmap0.0440.0000.044
cmap_expr0.0420.0000.042
cmap_rank0.0370.0040.042
combineNormRes0.0000.0000.001
combineResults000
dtlink_db_clue_sti0.7250.0270.931
getCmapCEL000
goAnno0.4220.0230.658
goAnno_drug0.4790.0350.692
inst_filter0.0060.0000.007
lincs0.0380.0100.048
lincs_expr0.0440.0020.046
meanExpr0.0410.0040.047
normalizeCel000
probe2gene0.0020.0000.002
runLimma1.9410.1542.097
sampleList1.5130.0191.534
sig_filter0.0050.0000.006
signatureSearchData0.7260.0230.949
taurefList0.4190.0230.744