Back to Build/check report for BioC 3.22 experimental data
ABCDEFGHIJKL[M]NOPQRSTUVWXYZ

This page was generated on 2025-07-01 15:41 -0400 (Tue, 01 Jul 2025).

HostnameOSArch (*)R versionInstalled pkgs
nebbiolo2Linux (Ubuntu 24.04.1 LTS)x86_644.5.1 (2025-06-13) -- "Great Square Root" 4775
Click on any hostname to see more info about the system (e.g. compilers)      (*) as reported by 'uname -p', except on Windows and Mac OS X

Package 248/429HostnameOS / ArchINSTALLBUILDCHECK
miRNATarget 1.47.0  (landing page)
Y-h. Taguchi
Snapshot Date: 2025-07-01 07:30 -0400 (Tue, 01 Jul 2025)
git_url: https://git.bioconductor.org/packages/miRNATarget
git_branch: devel
git_last_commit: 832a005
git_last_commit_date: 2025-04-15 09:19:04 -0400 (Tue, 15 Apr 2025)
nebbiolo2Linux (Ubuntu 24.04.1 LTS) / x86_64  OK    OK    OK  UNNEEDED, same version is already published


CHECK results for miRNATarget on nebbiolo2

To the developers/maintainers of the miRNATarget package:
- Use the following Renviron settings to reproduce errors and warnings.
- If 'R CMD check' started to fail recently on the Linux builder(s) over a missing dependency, add the missing dependency to 'Suggests:' in your DESCRIPTION file. See Renviron.bioc for more information.

raw results


Summary

Package: miRNATarget
Version: 1.47.0
Command: /home/biocbuild/bbs-3.22-bioc/R/bin/R CMD check --install=check:miRNATarget.install-out.txt --library=/home/biocbuild/bbs-3.22-bioc/R/site-library --timings miRNATarget_1.47.0.tar.gz
StartedAt: 2025-07-01 12:43:00 -0400 (Tue, 01 Jul 2025)
EndedAt: 2025-07-01 12:44:25 -0400 (Tue, 01 Jul 2025)
EllapsedTime: 84.4 seconds
RetCode: 0
Status:   OK  
CheckDir: miRNATarget.Rcheck
Warnings: 0

Command output

##############################################################################
##############################################################################
###
### Running command:
###
###   /home/biocbuild/bbs-3.22-bioc/R/bin/R CMD check --install=check:miRNATarget.install-out.txt --library=/home/biocbuild/bbs-3.22-bioc/R/site-library --timings miRNATarget_1.47.0.tar.gz
###
##############################################################################
##############################################################################


* using log directory ‘/home/biocbuild/bbs-3.22-data-experiment/meat/miRNATarget.Rcheck’
* using R version 4.5.1 (2025-06-13)
* using platform: x86_64-pc-linux-gnu
* R was compiled by
    gcc (Ubuntu 13.3.0-6ubuntu2~24.04) 13.3.0
    GNU Fortran (Ubuntu 13.3.0-6ubuntu2~24.04) 13.3.0
* running under: Ubuntu 24.04.2 LTS
* using session charset: UTF-8
* checking for file ‘miRNATarget/DESCRIPTION’ ... OK
* this is package ‘miRNATarget’ version ‘1.47.0’
* checking package namespace information ... OK
* checking package dependencies ... OK
* checking if this is a source package ... OK
* checking if there is a namespace ... OK
* checking for hidden files and directories ... NOTE
Found the following hidden files and directories:
  vignettes/.goutputstream-8N717W
These were most likely included in error. See section ‘Package
structure’ in the ‘Writing R Extensions’ manual.
* checking for portable file names ... OK
* checking for sufficient/correct file permissions ... OK
* checking whether package ‘miRNATarget’ can be installed ... OK
* checking installed package size ... INFO
  installed size is 59.6Mb
  sub-directories of 1Mb or more:
    data  59.3Mb
* checking package directory ... OK
* checking ‘build’ directory ... OK
* checking DESCRIPTION meta-information ... NOTE
Malformed Description field: should contain one or more complete sentences.
* checking top-level files ... OK
* checking for left-over files ... OK
* checking index information ... OK
* checking package subdirectories ... OK
* checking whether the package can be loaded ... OK
* checking whether the package can be loaded with stated dependencies ... OK
* checking whether the package can be unloaded cleanly ... OK
* checking whether the namespace can be loaded with stated dependencies ... OK
* checking whether the namespace can be unloaded cleanly ... OK
* checking loading without being on the library search path ... OK
* checking Rd files ... OK
* checking Rd metadata ... OK
* checking Rd cross-references ... OK
* checking for missing documentation entries ... OK
* checking for code/documentation mismatches ... OK
* checking Rd \usage sections ... OK
* checking Rd contents ... OK
* checking for unstated dependencies in examples ... OK
* checking contents of ‘data’ directory ... OK
* checking data for non-ASCII characters ... OK
* checking data for ASCII and uncompressed saves ... OK
* checking files in ‘vignettes’ ... OK
* checking examples ... OK
* checking for unstated dependencies in vignettes ... OK
* checking package vignettes ... OK
* checking re-building of vignette outputs ... OK
* checking PDF version of manual ... OK
* DONE

Status: 2 NOTEs
See
  ‘/home/biocbuild/bbs-3.22-data-experiment/meat/miRNATarget.Rcheck/00check.log’
for details.


Installation output

miRNATarget.Rcheck/00install.out

##############################################################################
##############################################################################
###
### Running command:
###
###   /home/biocbuild/bbs-3.22-bioc/R/bin/R CMD INSTALL miRNATarget
###
##############################################################################
##############################################################################


* installing to library ‘/home/biocbuild/bbs-3.22-bioc/R/site-library’
* installing *source* package ‘miRNATarget’ ...
** this is package ‘miRNATarget’ version ‘1.47.0’
** using staged installation
** data
** help
*** installing help indices
** building package indices
** installing vignettes
** testing if installed package can be loaded from temporary location
** testing if installed package can be loaded from final location
** testing if installed package keeps a record of temporary installation path
* DONE (miRNATarget)

Tests output


Example timings

miRNATarget.Rcheck/miRNATarget-Ex.timings

nameusersystemelapsed
HS_conv_id0.0160.0020.017
HS_refseq_to_affy_hc_g1100.0030.0010.005
HS_refseq_to_affy_hg_focus0.0160.0010.017
HS_refseq_to_affy_hg_u133_plus_20.0590.0010.060
HS_refseq_to_affy_hg_u133a0.0360.0010.038
HS_refseq_to_affy_hg_u133a_20.0390.0000.040
HS_refseq_to_affy_hg_u133b0.0190.0000.019
HS_refseq_to_affy_hg_u95a0.0250.0000.026
HS_refseq_to_affy_hg_u95av20.0230.0020.024
HS_refseq_to_affy_hg_u95b0.0150.0000.014
HS_refseq_to_affy_hg_u95c0.0110.0000.011
HS_refseq_to_affy_hg_u95d0.0060.0000.007
HS_refseq_to_affy_hg_u95e0.0110.0000.011
HS_refseq_to_affy_huex_1_0_st_v20.7970.0350.831
HS_refseq_to_affy_hugene_1_0_st_v10.0540.0000.053
HS_refseq_to_affy_hugenefl0.0150.0000.015
HS_refseq_to_affy_u133_x3p0.1360.0040.140
HS_refseq_to_agilent_cgh_44b0.0120.0000.013
HS_refseq_to_agilent_wholegenome0.0670.0000.067
HS_refseq_to_canonical_transcript_stable_id0.0640.0010.064
HS_refseq_to_ccds0.0340.0000.033
HS_refseq_to_codelink0.0350.0010.036
HS_refseq_to_efg_agilent_sureprint_g3_ge_8x60k0.0010.0000.001
HS_refseq_to_efg_agilent_wholegenome_4x44k_v10.0000.0010.001
HS_refseq_to_efg_agilent_wholegenome_4x44k_v20.0010.0000.001
HS_refseq_to_embl0.6840.0200.704
HS_refseq_to_ensembl_exon_id0.0010.0010.001
HS_refseq_to_ensembl_gene_id0.1370.0010.137
HS_refseq_to_ensembl_peptide_id0.0430.0010.044
HS_refseq_to_ensembl_transcript_id0.0530.0010.054
HS_refseq_to_entrezgene0.0510.0000.051
HS_refseq_to_hgnc_id0.0470.0000.047
HS_refseq_to_hgnc_symbol0.1100.0040.114
HS_refseq_to_hgnc_transcript_name0.0480.0000.048
HS_refseq_to_illumina_humanht_120.0480.0000.049
HS_refseq_to_illumina_humanwg_6_v10.0440.0000.043
HS_refseq_to_illumina_humanwg_6_v20.0370.0000.037
HS_refseq_to_illumina_humanwg_6_v30.0450.0000.045
HS_refseq_to_interpro0.1160.0000.115
HS_refseq_to_ipi0.1040.0050.109
HS_refseq_to_merops0.0030.0010.004
HS_refseq_to_pdb0.0890.0000.088
HS_refseq_to_pfam0.0670.0000.068
HS_refseq_to_phalanx_onearray0.0380.0000.039
HS_refseq_to_protein_id0.9130.0090.923
HS_refseq_to_refseq_dna0.0550.0020.058
HS_refseq_to_refseq_genomic0.0010.0000.000
HS_refseq_to_refseq_peptide0.0910.0000.091
HS_refseq_to_rfam0.0020.0000.002
HS_refseq_to_rfam_gene_name000
HS_refseq_to_rfam_transcript_name0.0010.0000.001
HS_refseq_to_smart0.0350.0000.034
HS_refseq_to_tigrfam0.0050.0000.004
HS_refseq_to_ucsc0.0480.0000.048
HS_refseq_to_unigene0.0620.0000.062
HS_refseq_to_uniprot_genename0.0430.0000.043
HS_refseq_to_uniprot_genename_transcript_name0.0000.0010.001
HS_refseq_to_uniprot_sptrembl0.0000.0010.001
HS_refseq_to_uniprot_swissprot0.0000.0010.001
HS_refseq_to_uniprot_swissprot_accession0.0010.0000.001
HS_refseq_to_wikigene_id0.0000.0010.001
HS_refseq_to_wikigene_name0.0460.0000.046
MM_conv_id0.0030.0000.002
MM_refseq_to_affy_mg_u74a0.0150.0020.016
MM_refseq_to_affy_mg_u74av20.0130.0010.014
MM_refseq_to_affy_mg_u74b0.0100.0020.012
MM_refseq_to_affy_mg_u74bv20.0120.0000.012
MM_refseq_to_affy_mg_u74c0.0040.0000.004
MM_refseq_to_affy_mg_u74cv20.0050.0010.006
MM_refseq_to_affy_moe430a0.0280.0030.032
MM_refseq_to_affy_moe430b0.0130.0020.015
MM_refseq_to_affy_moex_1_0_st_v10.6540.0070.660
MM_refseq_to_affy_mogene_1_0_st_v10.0370.0000.037
MM_refseq_to_affy_mouse430_20.0430.0000.043
MM_refseq_to_affy_mouse430a_20.0270.0010.028
MM_refseq_to_affy_mu11ksuba0.0090.0000.009
MM_refseq_to_affy_mu11ksubb0.0060.0000.007
MM_refseq_to_agilent_wholegenome0.0530.0010.055
MM_refseq_to_canonical_transcript_stable_id0.0530.0000.053
MM_refseq_to_ccds0.0280.0000.028
MM_refseq_to_codelink0.0280.0010.029
MM_refseq_to_efg_agilent_sureprint_g3_ge_8x60k0.0000.0010.001
MM_refseq_to_efg_agilent_wholegenome_4x44k_v10.0010.0000.001
MM_refseq_to_efg_agilent_wholegenome_4x44k_v20.0010.0000.001
MM_refseq_to_embl0.2760.0020.277
MM_refseq_to_ensembl_exon_id0.0010.0000.001
MM_refseq_to_ensembl_gene_id0.0340.0010.034
MM_refseq_to_ensembl_peptide_id0.0340.0000.035
MM_refseq_to_ensembl_transcript_id0.0370.0000.037
MM_refseq_to_entrezgene0.0310.0000.032
MM_refseq_to_fantom0.0900.0010.092
MM_refseq_to_illumina_mousewg_6_v10.0460.0000.046
MM_refseq_to_illumina_mousewg_6_v20.0460.0010.047
MM_refseq_to_interpro0.0960.0000.097
MM_refseq_to_ipi0.0000.0010.001
MM_refseq_to_merops0.0030.0000.004
MM_refseq_to_mgi_id0.0340.0010.035
MM_refseq_to_mgi_symbol0.0360.0000.037
MM_refseq_to_mgi_transcript_name0.0380.0010.039
MM_refseq_to_pdb0.0090.0000.010
MM_refseq_to_pfam0.0560.0010.057
MM_refseq_to_phalanx_onearray0.0340.0000.033
MM_refseq_to_protein_id0.3690.0010.371
MM_refseq_to_refseq_dna0.0460.0000.046
MM_refseq_to_refseq_peptide0.0710.0000.070
MM_refseq_to_rfam0.0020.0000.002
MM_refseq_to_rfam_gene_name0.0000.0010.001
MM_refseq_to_rfam_transcript_name000
MM_refseq_to_smart0.0290.0000.028
MM_refseq_to_tigrfam0.0040.0000.004
MM_refseq_to_ucsc0.0390.0000.038
MM_refseq_to_unigene0.0500.0000.049
MM_refseq_to_uniprot_genename0.2510.0010.253
MM_refseq_to_uniprot_genename_transcript_name0.0000.0010.001
MM_refseq_to_uniprot_sptrembl0.0000.0010.002
MM_refseq_to_uniprot_swissprot0.0010.0000.001
MM_refseq_to_uniprot_swissprot_accession0.0010.0000.001
MM_refseq_to_wikigene_id0.0010.0000.001
MM_refseq_to_wikigene_name0.0350.0010.035
TBL20.8010.0980.900
TBL2_HS1.2200.1941.415
TBL2_MM0.6690.1300.799
conv_id0.0020.0000.002
id_conv0.030.000.03