Back to Build/check report for BioC 3.22 experimental data
ABCDEF[G]HIJKLMNOPQRSTUVWXYZ

This page was generated on 2025-10-07 15:41 -0400 (Tue, 07 Oct 2025).

HostnameOSArch (*)R versionInstalled pkgs
nebbiolo2Linux (Ubuntu 24.04.3 LTS)x86_644.5.1 Patched (2025-08-23 r88802) -- "Great Square Root" 4853
Click on any hostname to see more info about the system (e.g. compilers)      (*) as reported by 'uname -p', except on Windows and Mac OS X

Package 149/433HostnameOS / ArchINSTALLBUILDCHECK
geneLenDataBase 1.45.0  (landing page)
Federico Marini
Snapshot Date: 2025-10-07 07:30 -0400 (Tue, 07 Oct 2025)
git_url: https://git.bioconductor.org/packages/geneLenDataBase
git_branch: devel
git_last_commit: 109b234
git_last_commit_date: 2025-04-15 09:16:59 -0400 (Tue, 15 Apr 2025)
nebbiolo2Linux (Ubuntu 24.04.3 LTS) / x86_64  OK    OK    OK  UNNEEDED, same version is already published


CHECK results for geneLenDataBase on nebbiolo2

To the developers/maintainers of the geneLenDataBase package:
- Use the following Renviron settings to reproduce errors and warnings.
- If 'R CMD check' started to fail recently on the Linux builder(s) over a missing dependency, add the missing dependency to 'Suggests:' in your DESCRIPTION file. See Renviron.bioc for more information.

raw results


Summary

Package: geneLenDataBase
Version: 1.45.0
Command: /home/biocbuild/bbs-3.22-bioc/R/bin/R CMD check --install=check:geneLenDataBase.install-out.txt --library=/home/biocbuild/bbs-3.22-bioc/R/site-library --timings geneLenDataBase_1.45.0.tar.gz
StartedAt: 2025-10-07 12:24:17 -0400 (Tue, 07 Oct 2025)
EndedAt: 2025-10-07 12:33:28 -0400 (Tue, 07 Oct 2025)
EllapsedTime: 550.7 seconds
RetCode: 0
Status:   OK  
CheckDir: geneLenDataBase.Rcheck
Warnings: 0

Command output

##############################################################################
##############################################################################
###
### Running command:
###
###   /home/biocbuild/bbs-3.22-bioc/R/bin/R CMD check --install=check:geneLenDataBase.install-out.txt --library=/home/biocbuild/bbs-3.22-bioc/R/site-library --timings geneLenDataBase_1.45.0.tar.gz
###
##############################################################################
##############################################################################


* using log directory ‘/home/biocbuild/bbs-3.22-data-experiment/meat/geneLenDataBase.Rcheck’
* using R version 4.5.1 Patched (2025-08-23 r88802)
* using platform: x86_64-pc-linux-gnu
* R was compiled by
    gcc (Ubuntu 13.3.0-6ubuntu2~24.04) 13.3.0
    GNU Fortran (Ubuntu 13.3.0-6ubuntu2~24.04) 13.3.0
* running under: Ubuntu 24.04.3 LTS
* using session charset: UTF-8
* checking for file ‘geneLenDataBase/DESCRIPTION’ ... OK
* this is package ‘geneLenDataBase’ version ‘1.45.0’
* package encoding: UTF-8
* checking package namespace information ... OK
* checking package dependencies ... OK
* checking if this is a source package ... OK
* checking if there is a namespace ... OK
* checking for hidden files and directories ... OK
* checking for portable file names ... OK
* checking for sufficient/correct file permissions ... OK
* checking whether package ‘geneLenDataBase’ can be installed ... OK
* checking installed package size ... INFO
  installed size is 100.3Mb
  sub-directories of 1Mb or more:
    data  99.7Mb
* checking package directory ... OK
* checking DESCRIPTION meta-information ... OK
* checking top-level files ... OK
* checking for left-over files ... OK
* checking index information ... OK
* checking package subdirectories ... OK
* checking code files for non-ASCII characters ... OK
* checking R files for syntax errors ... OK
* checking whether the package can be loaded ... OK
* checking whether the package can be loaded with stated dependencies ... OK
* checking whether the package can be unloaded cleanly ... OK
* checking whether the namespace can be loaded with stated dependencies ... OK
* checking whether the namespace can be unloaded cleanly ... OK
* checking loading without being on the library search path ... OK
* checking dependencies in R code ... NOTE
Unexported object imported by a ':::' call: ‘txdbmaker:::.UCSC_TXNAME2GENEID_MAPDEFS’
  See the note in ?`:::` about the use of this operator.
* checking S3 generic/method consistency ... OK
* checking replacement functions ... OK
* checking foreign function calls ... OK
* checking R code for possible problems ... OK
* checking Rd files ... OK
* checking Rd metadata ... OK
* checking Rd cross-references ... OK
* checking for missing documentation entries ... OK
* checking for code/documentation mismatches ... OK
* checking Rd \usage sections ... OK
* checking Rd contents ... OK
* checking for unstated dependencies in examples ... OK
* checking contents of ‘data’ directory ... OK
* checking data for non-ASCII characters ... OK
* checking data for ASCII and uncompressed saves ... OK
* checking examples ... OK
Examples with CPU (user + system) or elapsed time > 5s
                  user system elapsed
supportedGeneIDs 3.099  0.042   5.356
* checking PDF version of manual ... OK
* DONE

Status: 1 NOTE
See
  ‘/home/biocbuild/bbs-3.22-data-experiment/meat/geneLenDataBase.Rcheck/00check.log’
for details.


Installation output

geneLenDataBase.Rcheck/00install.out

##############################################################################
##############################################################################
###
### Running command:
###
###   /home/biocbuild/bbs-3.22-bioc/R/bin/R CMD INSTALL geneLenDataBase
###
##############################################################################
##############################################################################


* installing to library ‘/home/biocbuild/bbs-3.22-bioc/R/site-library’
* installing *source* package ‘geneLenDataBase’ ...
** this is package ‘geneLenDataBase’ version ‘1.45.0’
** using staged installation
** R
** data
** byte-compile and prepare package for lazy loading
** help
*** installing help indices
** building package indices
** testing if installed package can be loaded from temporary location
** testing if installed package can be loaded from final location
** testing if installed package keeps a record of temporary installation path
* DONE (geneLenDataBase)

Tests output


Example timings

geneLenDataBase.Rcheck/geneLenDataBase-Ex.timings

nameusersystemelapsed
anoCar1.ensGene.LENGTH0.0740.0090.082
anoCar1.genscan.LENGTH0.0490.0000.049
anoCar1.xenoRefGene.LENGTH0.8680.0110.879
anoGam1.ensGene.LENGTH0.0610.0020.063
anoGam1.geneid.LENGTH0.0440.0010.044
anoGam1.genscan.LENGTH0.0420.0000.042
apiMel1.genscan.LENGTH0.0380.0000.038
apiMel2.ensGene.LENGTH0.0880.0060.093
apiMel2.geneid.LENGTH0.1170.0030.121
apiMel2.genscan.LENGTH0.0300.0000.032
aplCal1.xenoRefGene.LENGTH0.4590.0010.462
bosTau2.geneSymbol.LENGTH0.040.000.04
bosTau2.geneid.LENGTH0.2360.0110.247
bosTau2.genscan.LENGTH0.0830.0040.088
bosTau2.refGene.LENGTH0.0380.0020.042
bosTau2.sgpGene.LENGTH0.1030.0010.104
bosTau3.ensGene.LENGTH0.1100.0010.111
bosTau3.geneSymbol.LENGTH0.0360.0000.037
bosTau3.geneid.LENGTH0.1580.0100.168
bosTau3.genscan.LENGTH0.0660.0000.067
bosTau3.refGene.LENGTH0.0320.0000.033
bosTau3.sgpGene.LENGTH0.0900.0000.091
bosTau4.ensGene.LENGTH0.1020.0000.102
bosTau4.geneSymbol.LENGTH0.0320.0010.032
bosTau4.genscan.LENGTH0.0640.0010.065
bosTau4.nscanGene.LENGTH0.0270.0010.028
bosTau4.refGene.LENGTH0.0300.0010.030
braFlo1.xenoRefGene.LENGTH0.4180.0090.426
caeJap1.xenoRefGene.LENGTH0.3960.0000.396
caePb1.xenoRefGene.LENGTH0.4890.0000.490
caePb2.xenoRefGene.LENGTH0.4630.0010.464
caeRem2.xenoRefGene.LENGTH0.4490.0010.450
caeRem3.xenoRefGene.LENGTH0.3830.0010.384
calJac1.genscan.LENGTH0.0900.0010.090
calJac1.nscanGene.LENGTH0.1110.0000.111
calJac1.xenoRefGene.LENGTH0.8580.0050.865
canFam1.ensGene.LENGTH0.1190.0000.120
canFam1.geneSymbol.LENGTH0.0050.0000.005
canFam1.genscan.LENGTH0.0640.0010.065
canFam1.nscanGene.LENGTH0.0670.0000.067
canFam1.refGene.LENGTH0.0050.0000.006
canFam1.xenoRefGene.LENGTH0.5940.0030.597
canFam2.ensGene.LENGTH0.0960.0000.096
canFam2.geneSymbol.LENGTH0.0050.0000.006
canFam2.genscan.LENGTH0.0540.0000.055
canFam2.nscanGene.LENGTH0.0590.0010.060
canFam2.refGene.LENGTH0.0050.0000.005
canFam2.xenoRefGene.LENGTH0.6660.0020.667
cavPor3.ensGene.LENGTH0.3070.0030.309
cavPor3.genscan.LENGTH0.0920.0010.093
cavPor3.nscanGene.LENGTH0.0640.0000.064
cavPor3.xenoRefGene.LENGTH0.6270.0010.628
cb1.xenoRefGene.LENGTH0.4320.0010.433
cb3.xenoRefGene.LENGTH0.3660.0000.367
ce2.geneSymbol.LENGTH0.0680.0000.068
ce2.geneid.LENGTH0.0560.0000.056
ce2.refGene.LENGTH0.0640.0000.064
ce4.geneSymbol.LENGTH0.0670.0000.067
ce4.refGene.LENGTH0.0600.0000.061
ce4.xenoRefGene.LENGTH0.0830.0000.083
ce6.ensGene.LENGTH0.0940.0000.094
ce6.geneSymbol.LENGTH0.0650.0000.067
ce6.refGene.LENGTH0.0630.0000.063
ce6.xenoRefGene.LENGTH0.0820.0000.083
ci1.geneSymbol.LENGTH0.0050.0000.005
ci1.refGene.LENGTH0.0020.0010.004
ci1.xenoRefGene.LENGTH0.1710.0020.171
ci2.ensGene.LENGTH0.0640.0010.064
ci2.geneSymbol.LENGTH0.0050.0000.005
ci2.refGene.LENGTH0.0040.0000.004
ci2.xenoRefGene.LENGTH0.9970.1271.125
danRer3.ensGene.LENGTH0.1040.0000.105
danRer3.geneSymbol.LENGTH0.0530.0000.053
danRer3.refGene.LENGTH0.0470.0000.046
danRer4.ensGene.LENGTH0.1250.0000.127
danRer4.geneSymbol.LENGTH0.0500.0010.051
danRer4.genscan.LENGTH0.0560.0000.056
danRer4.nscanGene.LENGTH0.0810.0000.081
danRer4.refGene.LENGTH0.0480.0000.047
danRer5.ensGene.LENGTH0.1330.0000.133
danRer5.geneSymbol.LENGTH0.0470.0000.048
danRer5.refGene.LENGTH0.0430.0000.043
danRer5.vegaGene.LENGTH0.0460.0000.046
danRer5.vegaPseudoGene.LENGTH0.0000.0010.002
danRer6.ensGene.LENGTH0.1190.0010.120
danRer6.geneSymbol.LENGTH0.0470.0000.048
danRer6.refGene.LENGTH0.0440.0000.044
danRer6.xenoRefGene.LENGTH0.5670.0000.568
dm1.geneSymbol.LENGTH0.0630.0000.064
dm1.genscan.LENGTH0.0230.0000.023
dm1.refGene.LENGTH0.0570.0000.057
dm2.geneSymbol.LENGTH0.0600.0010.063
dm2.geneid.LENGTH0.0340.0000.035
dm2.genscan.LENGTH0.0230.0000.023
dm2.nscanGene.LENGTH0.0520.0000.051
dm2.refGene.LENGTH0.0580.0000.059
dm3.geneSymbol.LENGTH0.0690.0000.071
dm3.nscanPasaGene.LENGTH0.0490.0000.050
dm3.refGene.LENGTH0.0630.0000.063
downloadLengthFromUCSC000
dp2.genscan.LENGTH0.0300.0000.031
dp2.xenoRefGene.LENGTH0.2030.0000.203
dp3.geneid.LENGTH0.0380.0000.037
dp3.genscan.LENGTH0.0250.0070.032
dp3.xenoRefGene.LENGTH0.1080.0010.111
droAna1.geneid.LENGTH0.0660.0010.067
droAna1.genscan.LENGTH0.0220.0000.022
droAna1.xenoRefGene.LENGTH0.2240.0000.224
droAna2.genscan.LENGTH0.0480.0000.048
droAna2.xenoRefGene.LENGTH0.3170.0000.317
droEre1.genscan.LENGTH0.0260.0010.028
droEre1.xenoRefGene.LENGTH0.2770.0010.277
droGri1.genscan.LENGTH0.0370.0000.038
droGri1.xenoRefGene.LENGTH0.290.000.29
droMoj1.geneid.LENGTH0.1250.0010.126
droMoj1.genscan.LENGTH0.0550.0020.056
droMoj1.xenoRefGene.LENGTH0.2550.0000.255
droMoj2.genscan.LENGTH0.0360.0000.036
droMoj2.xenoRefGene.LENGTH0.2900.0030.294
droPer1.genscan.LENGTH0.040.000.04
droPer1.xenoRefGene.LENGTH0.2980.0020.300
droSec1.genscan.LENGTH0.0290.0000.029
droSec1.xenoRefGene.LENGTH0.3010.0020.303
droSim1.geneid.LENGTH0.0360.0010.037
droSim1.genscan.LENGTH0.0240.0010.024
droSim1.xenoRefGene.LENGTH0.3700.0010.370
droVir1.geneid.LENGTH0.1030.0000.104
droVir1.genscan.LENGTH0.0420.0000.042
droVir1.xenoRefGene.LENGTH0.2630.0070.272
droVir2.genscan.LENGTH0.0320.0010.034
droVir2.xenoRefGene.LENGTH0.2850.0000.285
droYak1.geneid.LENGTH0.0400.0020.043
droYak1.genscan.LENGTH0.0270.0000.027
droYak1.xenoRefGene.LENGTH0.2290.0000.229
droYak2.genscan.LENGTH0.0250.0000.025
droYak2.xenoRefGene.LENGTH0.2750.0020.275
equCab1.geneSymbol.LENGTH0.0050.0000.004
equCab1.geneid.LENGTH0.0810.0040.086
equCab1.nscanGene.LENGTH0.0410.0000.040
equCab1.refGene.LENGTH0.0050.0000.004
equCab1.sgpGene.LENGTH0.0660.0010.067
equCab2.ensGene.LENGTH0.1140.0010.115
equCab2.geneSymbol.LENGTH0.0060.0000.007
equCab2.nscanGene.LENGTH0.0490.0000.050
equCab2.refGene.LENGTH0.0050.0010.006
equCab2.xenoRefGene.LENGTH0.6880.0020.690
felCat3.ensGene.LENGTH0.1180.0010.119
felCat3.geneSymbol.LENGTH0.0020.0000.003
felCat3.geneid.LENGTH0.5280.0000.529
felCat3.genscan.LENGTH0.1240.0000.124
felCat3.nscanGene.LENGTH0.2760.0020.280
felCat3.refGene.LENGTH0.0030.0000.004
felCat3.sgpGene.LENGTH0.1510.0010.152
felCat3.xenoRefGene.LENGTH1.2810.0491.331
fr1.ensGene.LENGTH0.0790.0020.081
fr1.genscan.LENGTH0.0610.0010.061
fr2.ensGene.LENGTH0.6340.0140.647
galGal2.ensGene.LENGTH0.0510.0030.054
galGal2.geneSymbol.LENGTH0.0150.0000.016
galGal2.geneid.LENGTH0.0360.0000.036
galGal2.genscan.LENGTH0.0490.0000.049
galGal2.refGene.LENGTH0.0150.0000.015
galGal2.sgpGene.LENGTH0.0430.0000.043
galGal3.ensGene.LENGTH0.0670.0020.069
galGal3.geneSymbol.LENGTH0.0150.0000.015
galGal3.genscan.LENGTH0.0470.0000.048
galGal3.nscanGene.LENGTH0.0670.0000.067
galGal3.refGene.LENGTH0.0130.0010.014
galGal3.xenoRefGene.LENGTH0.4890.0010.490
gasAcu1.ensGene.LENGTH0.0870.0010.087
gasAcu1.nscanGene.LENGTH0.0840.0000.085
hg16.acembly.LENGTH0.3380.0020.341
hg16.ensGene.LENGTH0.0660.0010.068
hg16.exoniphy.LENGTH0.2250.0010.226
hg16.geneSymbol.LENGTH0.0990.0000.099
hg16.geneid.LENGTH0.0460.0000.047
hg16.genscan.LENGTH0.0590.0000.059
hg16.knownGene.LENGTH0.1120.0010.113
hg16.refGene.LENGTH0.0920.0020.093
hg16.sgpGene.LENGTH0.0540.0000.054
hg17.acembly.LENGTH0.4240.0010.425
hg17.acescan.LENGTH0.0080.0010.010
hg17.ccdsGene.LENGTH0.0210.0010.022
hg17.ensGene.LENGTH0.1060.0010.106
hg17.exoniphy.LENGTH0.3780.0020.380
hg17.geneSymbol.LENGTH0.10.00.1
hg17.geneid.LENGTH0.0710.0010.073
hg17.genscan.LENGTH0.0540.0010.056
hg17.knownGene.LENGTH0.1040.0000.105
hg17.refGene.LENGTH0.0930.0000.094
hg17.sgpGene.LENGTH0.0690.0000.070
hg17.vegaGene.LENGTH0.040.000.04
hg17.vegaPseudoGene.LENGTH0.0170.0010.017
hg17.xenoRefGene.LENGTH0.4520.0010.452
hg18.acembly.LENGTH0.4900.0000.489
hg18.acescan.LENGTH0.0090.0000.010
hg18.ccdsGene.LENGTH0.0320.0000.033
hg18.ensGene.LENGTH0.1990.0000.199
hg18.exoniphy.LENGTH0.4370.0010.439
hg18.geneSymbol.LENGTH0.1010.0000.102
hg18.geneid.LENGTH0.0730.0000.073
hg18.genscan.LENGTH0.0590.0000.059
hg18.knownGene.LENGTH0.1510.0000.151
hg18.knownGeneOld3.LENGTH0.0660.0010.066
hg18.refGene.LENGTH0.0950.0020.097
hg18.sgpGene.LENGTH0.0760.0000.076
hg18.sibGene.LENGTH0.7230.0040.729
hg18.xenoRefGene.LENGTH0.3690.0020.371
hg19.ccdsGene.LENGTH0.0390.0000.039
hg19.ensGene.LENGTH0.3080.0000.309
hg19.exoniphy.LENGTH0.4410.0000.441
hg19.geneSymbol.LENGTH0.1000.0000.099
hg19.knownGene.LENGTH0.1740.0010.174
hg19.nscanGene.LENGTH0.1490.0010.149
hg19.refGene.LENGTH0.0990.0010.100
hg19.xenoRefGene.LENGTH0.3850.0010.386
loxAfr3.xenoRefGene.LENGTH0.7870.0050.792
mm7.ensGene.LENGTH0.1110.0010.112
mm7.geneSymbol.LENGTH0.0880.0000.087
mm7.geneid.LENGTH0.0800.0000.079
mm7.genscan.LENGTH0.0640.0000.064
mm7.knownGene.LENGTH0.0930.0010.095
mm7.refGene.LENGTH0.0830.0000.083
mm7.sgpGene.LENGTH0.0720.0030.075
mm7.xenoRefGene.LENGTH0.3200.0030.323
mm8.ccdsGene.LENGTH0.0220.0000.021
mm8.ensGene.LENGTH0.0760.0010.076
mm8.geneSymbol.LENGTH0.0870.0010.088
mm8.geneid.LENGTH0.0740.0030.076
mm8.genscan.LENGTH0.0600.0010.061
mm8.knownGene.LENGTH0.0930.0010.094
mm8.nscanGene.LENGTH0.0630.0000.064
mm8.refGene.LENGTH0.3270.0010.328
mm8.sgpGene.LENGTH0.0760.0000.076
mm8.sibGene.LENGTH0.2530.0000.254
mm8.xenoRefGene.LENGTH0.3810.0000.381
mm9.acembly.LENGTH0.3250.0010.326
mm9.ccdsGene.LENGTH0.0300.0000.031
mm9.ensGene.LENGTH0.1540.0000.155
mm9.exoniphy.LENGTH0.4350.0010.436
mm9.geneSymbol.LENGTH0.0900.0010.091
mm9.geneid.LENGTH0.0860.0010.086
mm9.genscan.LENGTH0.0660.0010.067
mm9.knownGene.LENGTH0.1110.0000.112
mm9.nscanGene.LENGTH0.0630.0000.064
mm9.refGene.LENGTH0.0870.0000.088
mm9.sgpGene.LENGTH0.0860.0000.087
mm9.xenoRefGene.LENGTH0.7800.0020.782
monDom1.genscan.LENGTH0.0620.0010.062
monDom4.ensGene.LENGTH0.0730.0000.073
monDom4.geneSymbol.LENGTH0.0040.0000.003
monDom4.genscan.LENGTH0.0510.0010.052
monDom4.nscanGene.LENGTH0.0540.0000.053
monDom4.refGene.LENGTH0.0030.0000.003
monDom4.xenoRefGene.LENGTH0.3640.0010.366
monDom5.ensGene.LENGTH0.1130.0000.112
monDom5.geneSymbol.LENGTH0.0020.0010.003
monDom5.genscan.LENGTH0.0540.0010.055
monDom5.nscanGene.LENGTH0.1110.0010.112
monDom5.refGene.LENGTH0.0030.0000.004
monDom5.xenoRefGene.LENGTH0.5990.0010.600
ornAna1.ensGene.LENGTH0.0980.0000.098
ornAna1.geneSymbol.LENGTH0.0030.0000.002
ornAna1.refGene.LENGTH0.0010.0010.002
ornAna1.xenoRefGene.LENGTH0.6160.0020.619
oryLat2.ensGene.LENGTH1.1720.0881.260
oryLat2.geneSymbol.LENGTH0.0030.0010.003
oryLat2.refGene.LENGTH0.0020.0010.003
oryLat2.xenoRefGene.LENGTH0.5020.0020.504
panTro1.ensGene.LENGTH0.0950.0000.095
panTro1.geneid.LENGTH0.0440.0010.045
panTro1.genscan.LENGTH0.0550.0000.056
panTro1.xenoRefGene.LENGTH0.1110.0000.111
panTro2.ensGene.LENGTH0.1060.0010.107
panTro2.geneSymbol.LENGTH0.0960.0010.097
panTro2.genscan.LENGTH0.0570.0000.057
panTro2.nscanGene.LENGTH0.0580.0000.058
panTro2.refGene.LENGTH0.0930.0010.094
panTro2.xenoRefGene.LENGTH0.4800.0010.481
petMar1.xenoRefGene.LENGTH0.2580.0010.259
ponAbe2.ensGene.LENGTH0.080.000.08
ponAbe2.geneSymbol.LENGTH0.0120.0000.012
ponAbe2.genscan.LENGTH0.0580.0000.059
ponAbe2.nscanGene.LENGTH0.0570.0000.057
ponAbe2.refGene.LENGTH0.0100.0000.011
ponAbe2.xenoRefGene.LENGTH0.6270.0040.631
priPac1.xenoRefGene.LENGTH0.3640.0030.367
rheMac2.ensGene.LENGTH0.1270.0010.128
rheMac2.geneSymbol.LENGTH0.0040.0000.005
rheMac2.geneid.LENGTH0.0630.0040.067
rheMac2.nscanGene.LENGTH0.0560.0020.058
rheMac2.refGene.LENGTH0.0050.0000.005
rheMac2.sgpGene.LENGTH0.0660.0000.066
rheMac2.xenoRefGene.LENGTH0.4930.0040.497
rn3.ensGene.LENGTH0.0950.0000.095
rn3.geneSymbol.LENGTH0.0510.0000.051
rn3.geneid.LENGTH0.0490.0000.049
rn3.genscan.LENGTH0.060.000.06
rn3.knownGene.LENGTH0.0220.0000.023
rn3.nscanGene.LENGTH0.0560.0020.058
rn3.refGene.LENGTH0.0490.0000.048
rn3.sgpGene.LENGTH0.0530.0010.054
rn3.xenoRefGene.LENGTH0.5500.0030.553
rn4.ensGene.LENGTH0.1340.0000.134
rn4.geneSymbol.LENGTH0.0510.0000.051
rn4.geneid.LENGTH0.0800.0020.081
rn4.genscan.LENGTH0.0570.0020.059
rn4.knownGene.LENGTH0.0230.0000.023
rn4.nscanGene.LENGTH0.0530.0000.053
rn4.refGene.LENGTH0.0460.0010.047
rn4.sgpGene.LENGTH0.0740.0010.076
rn4.xenoRefGene.LENGTH0.3290.0040.333
sacCer1.ensGene.LENGTH0.0150.0020.017
sacCer2.ensGene.LENGTH0.0160.0000.017
strPur1.geneSymbol.LENGTH0.0040.0000.004
strPur1.genscan.LENGTH0.0630.0000.062
strPur1.refGene.LENGTH0.0040.0000.004
strPur1.xenoRefGene.LENGTH0.4800.0010.481
strPur2.geneSymbol.LENGTH0.0020.0010.003
strPur2.genscan.LENGTH0.0990.0010.100
strPur2.refGene.LENGTH0.0030.0000.004
strPur2.xenoRefGene.LENGTH0.6650.0030.668
supportedGeneIDs3.0990.0425.356
supportedGenomes0.2580.0040.995
taeGut1.ensGene.LENGTH0.0570.0000.057
taeGut1.geneSymbol.LENGTH0.0020.0000.002
taeGut1.genscan.LENGTH0.0280.0010.029
taeGut1.nscanGene.LENGTH0.0230.0000.023
taeGut1.refGene.LENGTH0.0020.0000.002
taeGut1.xenoRefGene.LENGTH0.4220.0000.422
tetNig1.ensGene.LENGTH0.0820.0000.082
tetNig1.geneid.LENGTH0.060.000.06
tetNig1.genscan.LENGTH0.0460.0010.047
tetNig1.nscanGene.LENGTH0.0640.0010.064
tetNig2.ensGene.LENGTH0.0680.0000.068
unfactor0.0030.0000.004
xenTro1.genscan.LENGTH0.0790.0000.079
xenTro2.ensGene.LENGTH0.0860.0000.086
xenTro2.geneSymbol.LENGTH0.0280.0010.029
xenTro2.genscan.LENGTH0.0680.0000.068
xenTro2.refGene.LENGTH0.0270.0000.027