Back to Build/check report for BioC 3.22 experimental data
ABCDEFGHIJKL[M]NOPQRSTUVWXYZ

This page was generated on 2025-05-22 15:41 -0400 (Thu, 22 May 2025).

HostnameOSArch (*)R versionInstalled pkgs
nebbiolo2Linux (Ubuntu 24.04.1 LTS)x86_644.5.0 (2025-04-11) -- "How About a Twenty-Six" 4750
Click on any hostname to see more info about the system (e.g. compilers)      (*) as reported by 'uname -p', except on Windows and Mac OS X

Package 237/429HostnameOS / ArchINSTALLBUILDCHECK
MetaScope 1.9.3  (landing page)
Aubrey Odom
Snapshot Date: 2025-05-22 07:30 -0400 (Thu, 22 May 2025)
git_url: https://git.bioconductor.org/packages/MetaScope
git_branch: devel
git_last_commit: cc591d6
git_last_commit_date: 2025-05-04 01:55:54 -0400 (Sun, 04 May 2025)
nebbiolo2Linux (Ubuntu 24.04.1 LTS) / x86_64  OK    OK    OK  UNNEEDED, same version is already published


CHECK results for MetaScope on nebbiolo2

To the developers/maintainers of the MetaScope package:
- Use the following Renviron settings to reproduce errors and warnings.
- If 'R CMD check' started to fail recently on the Linux builder(s) over a missing dependency, add the missing dependency to 'Suggests:' in your DESCRIPTION file. See Renviron.bioc for more information.

raw results


Summary

Package: MetaScope
Version: 1.9.3
Command: /home/biocbuild/bbs-3.22-bioc/R/bin/R CMD check --install=check:MetaScope.install-out.txt --library=/home/biocbuild/bbs-3.22-bioc/R/site-library --timings MetaScope_1.9.3.tar.gz
StartedAt: 2025-05-22 12:35:02 -0400 (Thu, 22 May 2025)
EndedAt: 2025-05-22 12:44:55 -0400 (Thu, 22 May 2025)
EllapsedTime: 593.3 seconds
RetCode: 0
Status:   OK  
CheckDir: MetaScope.Rcheck
Warnings: 0

Command output

##############################################################################
##############################################################################
###
### Running command:
###
###   /home/biocbuild/bbs-3.22-bioc/R/bin/R CMD check --install=check:MetaScope.install-out.txt --library=/home/biocbuild/bbs-3.22-bioc/R/site-library --timings MetaScope_1.9.3.tar.gz
###
##############################################################################
##############################################################################


* using log directory ‘/home/biocbuild/bbs-3.22-data-experiment/meat/MetaScope.Rcheck’
* using R version 4.5.0 (2025-04-11)
* using platform: x86_64-pc-linux-gnu
* R was compiled by
    gcc (Ubuntu 13.3.0-6ubuntu2~24.04) 13.3.0
    GNU Fortran (Ubuntu 13.3.0-6ubuntu2~24.04) 13.3.0
* running under: Ubuntu 24.04.2 LTS
* using session charset: UTF-8
* checking for file ‘MetaScope/DESCRIPTION’ ... OK
* checking extension type ... Package
* this is package ‘MetaScope’ version ‘1.9.3’
* package encoding: UTF-8
* checking package namespace information ... OK
* checking package dependencies ... OK
* checking if this is a source package ... OK
* checking if there is a namespace ... OK
* checking for hidden files and directories ... OK
* checking for portable file names ... OK
* checking for sufficient/correct file permissions ... OK
* checking whether package ‘MetaScope’ can be installed ... OK
* checking installed package size ... OK
* checking package directory ... OK
* checking ‘build’ directory ... OK
* checking DESCRIPTION meta-information ... OK
* checking top-level files ... OK
* checking for left-over files ... OK
* checking index information ... OK
* checking package subdirectories ... OK
* checking code files for non-ASCII characters ... OK
* checking R files for syntax errors ... OK
* checking whether the package can be loaded ... OK
* checking whether the package can be loaded with stated dependencies ... OK
* checking whether the package can be unloaded cleanly ... OK
* checking whether the namespace can be loaded with stated dependencies ... OK
* checking whether the namespace can be unloaded cleanly ... OK
* checking loading without being on the library search path ... OK
* checking dependencies in R code ... OK
* checking S3 generic/method consistency ... OK
* checking replacement functions ... OK
* checking foreign function calls ... OK
* checking R code for possible problems ... OK
* checking Rd files ... OK
* checking Rd metadata ... OK
* checking Rd cross-references ... OK
* checking for missing documentation entries ... OK
* checking for code/documentation mismatches ... OK
* checking Rd \usage sections ... OK
* checking Rd contents ... OK
* checking for unstated dependencies in examples ... OK
* checking contents of ‘data’ directory ... OK
* checking data for non-ASCII characters ... OK
* checking data for ASCII and uncompressed saves ... OK
* checking R/sysdata.rda ... OK
* checking files in ‘vignettes’ ... OK
* checking examples ... OK
Examples with CPU (user + system) or elapsed time > 5s
                            user system elapsed
convert_animalcules       10.690  0.666  11.364
mk_subread_index           8.769  2.237  11.685
convert_animalcules_silva  6.735  0.455   7.454
* checking for unstated dependencies in ‘tests’ ... OK
* checking tests ...
  Running ‘spelling.R’
 OK
* checking for unstated dependencies in vignettes ... OK
* checking package vignettes ... OK
* checking re-building of vignette outputs ... OK
* checking PDF version of manual ... OK
* DONE

Status: OK


Installation output

MetaScope.Rcheck/00install.out

##############################################################################
##############################################################################
###
### Running command:
###
###   /home/biocbuild/bbs-3.22-bioc/R/bin/R CMD INSTALL MetaScope
###
##############################################################################
##############################################################################


* installing to library ‘/home/biocbuild/bbs-3.22-bioc/R/site-library’
* installing *source* package ‘MetaScope’ ...
** this is package ‘MetaScope’ version ‘1.9.3’
** using staged installation
** R
** data
** inst
** byte-compile and prepare package for lazy loading
** help
*** installing help indices
** building package indices
** installing vignettes
** testing if installed package can be loaded from temporary location
** testing if installed package can be loaded from final location
** testing if installed package keeps a record of temporary installation path
* DONE (MetaScope)

Tests output

MetaScope.Rcheck/tests/spelling.Rout

R version 4.5.0 (2025-04-11) -- "How About a Twenty-Six"
Copyright (C) 2025 The R Foundation for Statistical Computing
Platform: x86_64-pc-linux-gnu

R is free software and comes with ABSOLUTELY NO WARRANTY.
You are welcome to redistribute it under certain conditions.
Type 'license()' or 'licence()' for distribution details.

R is a collaborative project with many contributors.
Type 'contributors()' for more information and
'citation()' on how to cite R or R packages in publications.

Type 'demo()' for some demos, 'help()' for on-line help, or
'help.start()' for an HTML browser interface to help.
Type 'q()' to quit R.

> if (requireNamespace("spelling", quietly = TRUE))
+   spelling::spell_check_test(vignettes = TRUE, error = FALSE,
+                              skip_on_cran = TRUE)
NULL
> 
> proc.time()
   user  system elapsed 
  0.146   0.047   0.179 

Example timings

MetaScope.Rcheck/MetaScope-Ex.timings

nameusersystemelapsed
align_details0.0140.0010.016
align_target000
align_target_bowtie000
bt2_16S_params0.0010.0000.000
bt2_missing_params0.0010.0000.000
bt2_regular_params000
convert_animalcules10.690 0.66611.364
convert_animalcules_silva6.7350.4557.454
count_matches0.0020.0000.001
download_accessions000
download_refseq2.8340.2363.608
extract_reads0.5830.0530.636
filter_host000
filter_host_bowtie1.8550.2842.694
get_children0.5240.1500.673
meta_demultiplex0.1000.0040.104
metascope_id0.6180.0300.655
mk_bowtie_index1.7140.1822.432
mk_subread_index 8.769 2.23711.685