Welcome to mirrors.dotsrc.org

All our mirrors of open source software are available via http, https, ftp and an onion service. More information about our mirrors including statistics and contact information is available on our mirror info pages.

For information about dotsrc.org and our other services please go to our website.

Index of /bioconductor/checkResults/devel/bioc-rapid-LATEST/

File Name  ↓ File Size  ↓ Date  ↓ 
Parent directory/--
zlibbioc/-2025-05-21 19:56:33
ConsensusClusterPlus/-2025-05-22 19:48:55
batchelor/-2025-05-22 19:48:55
AnnotationDbi/-2025-05-22 19:48:55
DelayedArray/-2025-05-22 19:48:55
alabaster.sce/-2025-05-22 19:48:55
alabaster.schemas/-2025-05-22 19:48:55
DNAcopy/-2025-05-22 19:48:55
apeglm/-2025-05-22 19:48:55
AnnotationHubData/-2025-05-22 19:48:55
edgeR/-2025-05-22 19:48:55
CytoML/-2025-05-22 19:48:55
basilisk.utils/-2025-05-22 19:48:55
DropletUtils/-2025-05-22 19:48:55
flowWorkspace/-2025-05-22 19:48:55
BiocFileCache/-2025-05-22 19:48:55
biomaRt/-2025-05-22 19:48:55
enrichplot/-2025-05-22 19:48:55
AnnotationHub/-2025-05-22 19:48:55
annotate/-2025-05-22 19:48:55
bluster/-2025-05-22 19:48:55
beachmat/-2025-05-22 19:48:55
ComplexHeatmap/-2025-05-22 19:48:55
EnrichedHeatmap/-2025-05-22 19:48:55
alabaster.se/-2025-05-22 19:48:55
BiocNeighbors/-2025-05-22 19:48:55
fgsea/-2025-05-22 19:48:55
BiocIO/-2025-05-22 19:48:55
biocmake/-2025-05-22 19:48:55
chihaya/-2025-05-22 19:48:55
flowClust/-2025-05-22 19:48:55
bamsignals/-2025-05-22 19:48:55
DECIPHER/-2025-05-22 19:48:55
aroma.light/-2025-05-22 19:48:55
assorthead/-2025-05-22 19:48:55
affxparser/-2025-05-22 19:48:55
flowCore/-2025-05-22 19:48:55
BiocSingular/-2025-05-22 19:48:55
BiocParallel/-2025-05-22 19:48:55
EDASeq/-2025-05-22 19:48:55
ChemmineR/-2025-05-22 19:48:55
flowStats/-2025-05-22 19:48:55
AnnotationFilter/-2025-05-22 19:48:55
basilisk/-2025-05-22 19:48:55
biovizBase/-2025-05-22 19:48:55
alabaster.base/-2025-05-22 19:48:55
BiocGenerics/-2025-05-22 19:48:55
biomformat/-2025-05-22 19:48:55
DESeq2/-2025-05-22 19:48:55
CompoundDb/-2025-05-22 19:48:55
DelayedMatrixStats/-2025-05-22 19:48:55
BumpyMatrix/-2025-05-22 19:48:55
affyio/-2025-05-22 19:48:55
BiocVersion/-2025-05-22 19:48:55
ExperimentHub/-2025-05-22 19:48:55
BSgenome/-2025-05-22 19:48:55
clusterProfiler/-2025-05-22 19:48:55
DOSE/-2025-05-22 19:48:55
affyPLM/-2025-05-22 19:48:55
EnhancedVolcano/-2025-05-22 19:48:55
cytolib/-2025-05-22 19:48:55
csaw/-2025-05-22 19:48:55
densvis/-2025-05-22 19:48:55
BiocCheck/-2025-05-22 19:48:55
BiocBaseUtils/-2025-05-22 19:48:55
Biostrings/-2025-05-22 19:48:55
AnnotationForge/-2025-05-22 19:48:55
alabaster.matrix/-2025-05-22 19:48:55
DirichletMultinomial/-2025-05-22 19:48:55
affy/-2025-05-22 19:48:55
biocViews/-2025-05-22 19:48:55
dir.expiry/-2025-05-22 19:48:55
ensembldb/-2025-05-22 19:48:55
beachmat.hdf5/-2025-05-22 19:48:55
fishpond/-2025-05-22 19:48:55
BiocStyle/-2025-05-22 19:48:55
BSgenomeForge/-2025-05-22 19:48:55
eds/-2025-05-22 19:48:55
ExperimentHubData/-2025-05-22 19:48:55
EBImage/-2025-05-22 19:48:55
alabaster.ranges/-2025-05-22 19:48:55
flowViz/-2025-05-22 19:48:55
Biobase/-2025-05-22 19:48:55
DEXSeq/-2025-05-22 19:48:55
biocthis/-2025-05-22 19:48:55
EBarrays/-2025-05-22 19:48:55
ChemmineOB/-2025-05-22 19:48:55
Category/-2025-05-22 19:48:55
DynDoc/-2025-05-22 19:48:55
Rdisop/-2025-05-22 19:48:56
Rhdf5lib/-2025-05-22 19:48:56
regioneR/-2025-05-22 19:48:56
TCGAbiolinks/-2025-05-22 19:48:56
MetaboCoreUtils/-2025-05-22 19:48:56
SpatialExperiment/-2025-05-22 19:48:56
h5mread/-2025-05-22 19:48:56
maftools/-2025-05-22 19:48:56
pcaMethods/-2025-05-22 19:48:56
MatrixGenerics/-2025-05-22 19:48:56
preprocessCore/-2025-05-22 19:48:56
Rigraphlib/-2025-05-22 19:48:56
GenomeInfoDb/-2025-05-22 19:48:56
mbkmeans/-2025-05-22 19:48:56
graph/-2025-05-22 19:48:56
ggbio/-2025-05-22 19:48:56
GenomicAlignments/-2025-05-22 19:48:56
MultiAssayExperiment/-2025-05-22 19:48:56
genefilter/-2025-05-22 19:48:56
KEGGREST/-2025-05-22 19:48:56
GOSemSim/-2025-05-22 19:48:56
pRoloc/-2025-05-22 19:48:56
karyoploteR/-2025-05-22 19:48:56
GSVA/-2025-05-22 19:48:56
snpStats/-2025-05-22 19:48:56
ShortRead/-2025-05-22 19:48:56
MsBackendSql/-2025-05-22 19:48:56
impute/-2025-05-22 19:48:56
RProtoBufLib/-2025-05-22 19:48:56
rhdf5/-2025-05-22 19:48:56
MLInterfaces/-2025-05-22 19:48:56
gcrma/-2025-05-22 19:48:56
SingleR/-2025-05-22 19:48:56
pathview/-2025-05-22 19:48:56
rtracklayer/-2025-05-22 19:48:56
MsBackendMgf/-2025-05-22 19:48:56
rols/-2025-05-22 19:48:56
scuttle/-2025-05-22 19:48:56
ProtGenerics/-2025-05-22 19:48:56
sparseMatrixStats/-2025-05-22 19:48:56
OrganismDbi/-2025-05-22 19:48:56
multtest/-2025-05-22 19:48:56
LoomExperiment/-2025-05-22 19:48:56
Rhtslib/-2025-05-22 19:48:56
scrapper/-2025-05-22 19:48:56
SPIA/-2025-05-22 19:48:56
Rgraphviz/-2025-05-22 19:48:56
lpsymphony/-2025-05-22 19:48:56
seqLogo/-2025-05-22 19:48:56
interactiveDisplayBase/-2025-05-22 19:48:56
limma/-2025-05-22 19:48:56
IHW/-2025-05-22 19:48:56
microRNA/-2025-05-22 19:48:56
gpls/-2025-05-22 19:48:56
interactiveDisplay/-2025-05-22 19:48:56
scran/-2025-05-22 19:48:56
ggtreeExtra/-2025-05-22 19:48:56
PSMatch/-2025-05-22 19:48:56
snifter/-2025-05-22 19:48:56
rBiopaxParser/-2025-05-22 19:48:56
MsDataHub/-2025-05-22 19:48:56
Spectra/-2025-05-22 19:48:56
sva/-2025-05-22 19:48:56
metapod/-2025-05-22 19:48:56
MassSpecWavelet/-2025-05-22 19:48:56
KEGGgraph/-2025-05-22 19:48:56
HDF5Array/-2025-05-22 19:48:56
keggorthology/-2025-05-22 19:48:56
MsExperiment/-2025-05-22 19:48:56
gage/-2025-05-22 19:48:56
metagenomeSeq/-2025-05-22 19:48:56
Rsubread/-2025-05-22 19:48:56
ggtree/-2025-05-22 19:48:56
Rsamtools/-2025-05-22 19:48:56
illuminaio/-2025-05-22 19:48:56
GenomicRanges/-2025-05-22 19:48:56
ROC/-2025-05-22 19:48:56
mzR/-2025-05-22 19:48:56
gypsum/-2025-05-22 19:48:56
pwalign/-2025-05-22 19:48:56
RBGL/-2025-05-22 19:48:56
Gviz/-2025-05-22 19:48:56
ResidualMatrix/-2025-05-22 19:48:56
sesame/-2025-05-22 19:48:56
fmcsR/-2025-05-22 19:48:56
glmGamPoi/-2025-05-22 19:48:56
ScaledMatrix/-2025-05-22 19:48:56
rhdf5filters/-2025-05-22 19:48:56
S4Arrays/-2025-05-22 19:48:56
MSnbase/-2025-05-22 19:48:56
mzID/-2025-05-22 19:48:56
SingleCellExperiment/-2025-05-22 19:48:56
GSEABase/-2025-05-22 19:48:56
GEOquery/-2025-05-22 19:48:56
SparseArray/-2025-05-22 19:48:56
S4Vectors/-2025-05-22 19:48:56
phyloseq/-2025-05-22 19:48:56
SummarizedExperiment/-2025-05-22 19:48:56
ncdfFlow/-2025-05-22 19:48:56
QFeatures/-2025-05-22 19:48:56
qvalue/-2025-05-22 19:48:56
scater/-2025-05-22 19:48:56
ggcyto/-2025-05-22 19:48:56
GenomicFeatures/-2025-05-22 19:48:56
gdsfmt/-2025-05-22 19:48:56
IRanges/-2025-05-22 19:48:56
MsFeatures/-2025-05-22 19:48:56
RaggedExperiment/-2025-05-22 19:48:56
GOstats/-2025-05-22 19:48:56
rpx/-2025-05-22 19:48:56
minet/-2025-05-22 19:48:56
geneplotter/-2025-05-22 19:48:56
hpar/-2025-05-22 19:48:56
HubPub/-2025-05-22 19:48:56
MsCoreUtils/-2025-05-22 19:48:56
openCyto/-2025-05-22 19:48:56
ReportingTools/-2025-05-22 19:48:56
txdbmaker/-2025-05-22 19:48:57
VariantAnnotation/-2025-05-22 19:48:57
vsn/-2025-05-22 19:48:57
Wrench/-2025-05-22 19:48:57
xcms/-2025-05-22 19:48:57
UCSC.utils/-2025-05-22 19:48:57
tximport/-2025-05-22 19:48:57
tximeta/-2025-05-22 19:48:57
widgetTools/-2025-05-22 19:48:57
XVector/-2025-05-22 19:48:57
treeio/-2025-05-22 19:48:57
zellkonverter/-2025-05-22 19:48:57
TENxIO/-2025-05-22 19:48:57
VisiumIO/-2025-05-22 19:48:57
tkWidgets/-2025-05-22 19:48:57
Renviron.bioc3.3 KiB2025-05-22 19:48:55
120px-Green_Light_Icon.svg.png7.1 KiB2025-05-22 19:48:55
report.css11.2 KiB2025-05-22 19:48:55
skipped-index.dcf0 B2025-05-22 19:48:55
120px-Red_Light_Icon.svg.png7.0 KiB2025-05-22 19:48:55
DEVEL3b.png2.6 KiB2025-05-22 19:48:55
meat-index.dcf23.8 KiB2025-05-22 19:48:55
teran2-R-instpkgs.html96.7 KiB2025-05-22 19:48:55
BUILD_STATUS_DB.txt19.9 KiB2025-05-22 19:48:55
report.js6.0 KiB2025-05-22 19:48:55
teran2-NodeInfo.html7.0 KiB2025-05-22 19:48:55
120px-Blue_Light_Icon.svg.png7.1 KiB2025-05-22 19:48:55
index.html235.0 KiB2025-05-22 19:48:57
report.tgz4.0 MiB2025-05-22 19:48:59