Welcome to mirrors.dotsrc.org

All our mirrors of open source software are available via http, https, ftp and an onion service. More information about our mirrors including statistics and contact information is available on our mirror info pages.

For information about dotsrc.org and our other services please go to our website.

Index of /bioconductor/checkResults/devel/bioc-LATEST/

File Name  ↓ File Size  ↓ Date  ↓ 
Parent directory/--
GeneGeneInteR/-2025-04-09 15:55:35
HTSeqGenie/-2025-04-09 15:55:47
netDx/-2025-04-09 15:55:52
AneuFinder/-2025-04-09 15:56:01
BEARscc/-2025-04-09 15:56:02
CBEA/-2025-04-09 15:56:03
chromstaR/-2025-04-09 15:56:04
coMET/-2025-04-09 15:56:05
crossmeta/-2025-04-09 15:56:05
DeProViR/-2025-04-09 15:56:06
dce/-2025-04-09 15:56:06
Director/-2025-04-09 15:56:06
DIAlignR/-2025-04-09 15:56:06
erma/-2025-04-09 15:56:07
genoCN/-2025-04-09 15:56:08
girafe/-2025-04-09 15:56:09
gespeR/-2025-04-09 15:56:09
GraphPAC/-2025-04-09 15:56:09
iPAC/-2025-04-09 15:56:11
MAGeCKFlute/-2025-04-09 15:56:11
NeuCA/-2025-04-09 15:56:14
PanViz/-2025-04-09 15:56:14
pareg/-2025-04-09 15:56:14
PICS/-2025-04-09 15:56:15
paxtoolsr/-2025-04-09 15:56:15
PING/-2025-04-09 15:56:15
QuartPAC/-2025-04-09 15:56:16
ReactomeContentService4R/-2025-04-09 15:56:17
RBioinf/-2025-04-09 15:56:17
RGMQL/-2025-04-09 15:56:17
Rtreemix/-2025-04-09 15:56:18
supraHex/-2025-04-09 15:56:20
STdeconvolve/-2025-04-09 15:56:20
staRank/-2025-04-09 15:56:20
SpacePAC/-2025-04-09 15:56:20
synapter/-2025-04-09 15:56:20
trigger/-2025-04-09 15:56:21
TypeInfo/-2025-04-09 15:56:21
zlibbioc/-2025-04-09 15:56:22
blima/-2025-05-19 16:11:23
bluster/-2025-05-19 16:11:23
bnbc/-2025-05-19 16:11:23
branchpointer/-2025-05-19 16:11:23
biscuiteer/-2025-05-19 16:11:23
biovizBase/-2025-05-19 16:11:23
blacksheepr/-2025-05-19 16:11:23
breakpointR/-2025-05-19 16:11:23
bnem/-2025-05-19 16:11:23
borealis/-2025-05-19 16:11:23
broadSeq/-2025-05-19 16:11:23
brendaDb/-2025-05-19 16:11:23
cageminer/-2025-05-19 16:11:24
calm/-2025-05-19 16:11:24
cardelino/-2025-05-19 16:11:24
bsseq/-2025-05-19 16:11:24
bugsigdbr/-2025-05-19 16:11:24
bumphunter/-2025-05-19 16:11:24
cancerclass/-2025-05-19 16:11:24
canceR/-2025-05-19 16:11:24
ccmap/-2025-05-19 16:11:25
casper/-2025-05-19 16:11:25
celda/-2025-05-19 16:11:25
cbaf/-2025-05-19 16:11:25
celaref/-2025-05-19 16:11:25
cellmigRation/-2025-05-19 16:11:25
cbpManager/-2025-05-19 16:11:25
ccrepe/-2025-05-19 16:11:25
ccfindR/-2025-05-19 16:11:25
cellscape/-2025-05-19 16:11:25
ccImpute/-2025-05-19 16:11:25
cBioPortalData/-2025-05-19 16:11:25
cellbaseR/-2025-05-19 16:11:25
categoryCompare/-2025-05-19 16:11:25
cellity/-2025-05-19 16:11:25
chihaya/-2025-05-19 16:11:26
cellxgenedp/-2025-05-19 16:11:26
censcyt/-2025-05-19 16:11:26
chevreulProcess/-2025-05-19 16:11:26
chimeraviz/-2025-05-19 16:11:26
cfdnakit/-2025-05-19 16:11:26
cfDNAPro/-2025-05-19 16:11:26
cghMCR/-2025-05-19 16:11:26
chevreulPlot/-2025-05-19 16:11:26
chevreulShiny/-2025-05-19 16:11:26
ceRNAnetsim/-2025-05-19 16:11:26
cfTools/-2025-05-19 16:11:26
chopsticks/-2025-05-19 16:11:27
cicero/-2025-05-19 16:11:27
chromVAR/-2025-05-19 16:11:27
chipseq/-2025-05-19 16:11:27
cleanUpdTSeq/-2025-05-19 16:11:27
clipper/-2025-05-19 16:11:27
chromPlot/-2025-05-19 16:11:27
cisPath/-2025-05-19 16:11:27
circRNAprofiler/-2025-05-19 16:11:27
chipenrich/-2025-05-19 16:11:27
cleaver/-2025-05-19 16:11:27
clevRvis/-2025-05-19 16:11:27
clippda/-2025-05-19 16:11:27
chromDraw/-2025-05-19 16:11:27
cliProfiler/-2025-05-19 16:11:28
clusterProfiler/-2025-05-19 16:11:28
cmapR/-2025-05-19 16:11:28
clusterStab/-2025-05-19 16:11:28
clustComp/-2025-05-19 16:11:28
clustifyr/-2025-05-19 16:11:28
clstutils/-2025-05-19 16:11:28
cn.farms/-2025-05-19 16:11:28
clusterExperiment/-2025-05-19 16:11:28
cn.mops/-2025-05-19 16:11:28
clustSIGNAL/-2025-05-19 16:11:28
cnvGSA/-2025-05-19 16:11:28
clst/-2025-05-19 16:11:28
clusterSeq/-2025-05-19 16:11:28
cliqueMS/-2025-05-19 16:11:28
consensus/-2025-05-19 16:11:29
cogeqc/-2025-05-19 16:11:29
cola/-2025-05-19 16:11:29
concordexR/-2025-05-19 16:11:29
coGPS/-2025-05-19 16:11:29
condiments/-2025-05-19 16:11:29
combi/-2025-05-19 16:11:29
codelink/-2025-05-19 16:11:29
compcodeR/-2025-05-19 16:11:29
coMethDMR/-2025-05-19 16:11:29
comapr/-2025-05-19 16:11:29
compSPOT/-2025-05-19 16:11:29
compEpiTools/-2025-05-19 16:11:29
cogena/-2025-05-19 16:11:29
consensusSeekeR/-2025-05-19 16:11:30
cosmosR/-2025-05-19 16:11:30
consensusDE/-2025-05-19 16:11:30
consICA/-2025-05-19 16:11:30
covRNA/-2025-05-19 16:11:30
cpvSNP/-2025-05-19 16:11:30
cqn/-2025-05-19 16:11:30
countsimQC/-2025-05-19 16:11:30
conumee/-2025-05-19 16:11:30
covEB/-2025-05-19 16:11:30
corral/-2025-05-19 16:11:30
consensusOV/-2025-05-19 16:11:30
copa/-2025-05-19 16:11:30
crisprBase/-2025-05-19 16:11:30
coseq/-2025-05-19 16:11:30
coRdon/-2025-05-19 16:11:30
convert/-2025-05-19 16:11:30
cosmiq/-2025-05-19 16:11:30
crumblr/-2025-05-19 16:11:31
cTRAP/-2025-05-19 16:11:31
csaw/-2025-05-19 16:11:31
crisprShiny/-2025-05-19 16:11:31
crisprBowtie/-2025-05-19 16:11:31
cydar/-2025-05-19 16:11:31
ctsGE/-2025-05-19 16:11:31
cycle/-2025-05-19 16:11:31
crisprScore/-2025-05-19 16:11:31
customProDB/-2025-05-19 16:11:31
crisprBwa/-2025-05-19 16:11:31
cyanoFilter/-2025-05-19 16:11:31
crupR/-2025-05-19 16:11:31
cummeRbund/-2025-05-19 16:11:31
csdR/-2025-05-19 16:11:31
crisprVerse/-2025-05-19 16:11:31
crisprViz/-2025-05-19 16:11:31
customCMPdb/-2025-05-19 16:11:31
crisprDesign/-2025-05-19 16:11:31
crlmm/-2025-05-19 16:11:31
ctc/-2025-05-19 16:11:31
cytomapper/-2025-05-19 16:11:32
cytoviewer/-2025-05-19 16:11:32
dar/-2025-05-19 16:11:32
dcanr/-2025-05-19 16:11:32
cytoMEM/-2025-05-19 16:11:32
ddPCRclust/-2025-05-19 16:11:32
daMA/-2025-05-19 16:11:32
ddCt/-2025-05-19 16:11:32
dagLogo/-2025-05-19 16:11:32
cytoKernel/-2025-05-19 16:11:32
dandelionR/-2025-05-19 16:11:32
cypress/-2025-05-19 16:11:32
cytofQC/-2025-05-19 16:11:32
dcGSA/-2025-05-19 16:11:32
cytolib/-2025-05-19 16:11:32
dada2/-2025-05-19 16:11:32
decompTumor2Sig/-2025-05-19 16:11:33
deconvR/-2025-05-19 16:11:33
deltaGseg/-2025-05-19 16:11:33
dearseq/-2025-05-19 16:11:33
decoupleR/-2025-05-19 16:11:33
debCAM/-2025-05-19 16:11:33
decontX/-2025-05-19 16:11:33
debrowser/-2025-05-19 16:11:33
decontam/-2025-05-19 16:11:33
deepSNV/-2025-05-19 16:11:33
deltaCaptureC/-2025-05-19 16:11:33
derfinderPlot/-2025-05-19 16:11:34
demuxmix/-2025-05-19 16:11:34
demuxSNP/-2025-05-19 16:11:34
diffUTR/-2025-05-19 16:11:34
diffGeneAnalysis/-2025-05-19 16:11:34
diffcyt/-2025-05-19 16:11:34
diffcoexp/-2025-05-19 16:11:34
diffHic/-2025-05-19 16:11:34
derfinderHelper/-2025-05-19 16:11:34
destiny/-2025-05-19 16:11:34
derfinder/-2025-05-19 16:11:34
diffuStats/-2025-05-19 16:11:34
densvis/-2025-05-19 16:11:34
dmrseq/-2025-05-19 16:11:35
doubletrouble/-2025-05-19 16:11:35
dir.expiry/-2025-05-19 16:11:35
doppelgangR/-2025-05-19 16:11:35
dks/-2025-05-19 16:11:35
doseR/-2025-05-19 16:11:35
divergence/-2025-05-19 16:11:35
dominoSignal/-2025-05-19 16:11:35
discordant/-2025-05-19 16:11:35
dittoSeq/-2025-05-19 16:11:35
dinoR/-2025-05-19 16:11:35
distinct/-2025-05-19 16:11:35
diggit/-2025-05-19 16:11:35
easylift/-2025-05-19 16:11:36
dStruct/-2025-05-19 16:11:36
easier/-2025-05-19 16:11:36
drugTargetInteractions/-2025-05-19 16:11:36
dyebias/-2025-05-19 16:11:36
dreamlet/-2025-05-19 16:11:36
easyreporting/-2025-05-19 16:11:36
ecolitk/-2025-05-19 16:11:36
dupRadar/-2025-05-19 16:11:36
easyRNASeq/-2025-05-19 16:11:36
edge/-2025-05-19 16:11:36
drawProteins/-2025-05-19 16:11:36
edgeR/-2025-05-19 16:11:36
epimutacions/-2025-05-19 16:11:37
epigenomix/-2025-05-19 16:11:37
eds/-2025-05-19 16:11:37
ensembldb/-2025-05-19 16:11:37
epiNEM/-2025-05-19 16:11:37
enrichViewNet/-2025-05-19 16:11:37
eisaR/-2025-05-19 16:11:37
epigraHMM/-2025-05-19 16:11:37
epialleleR/-2025-05-19 16:11:37
eiR/-2025-05-19 16:11:37
enhancerHomologSearch/-2025-05-19 16:11:37
epidecodeR/-2025-05-19 16:11:37
enrichplot/-2025-05-19 16:11:37
epistack/-2025-05-19 16:11:38
factDesign/-2025-05-19 16:11:38
epiregulon/-2025-05-19 16:11:38
eudysbiome/-2025-05-19 16:11:38
epivizrStandalone/-2025-05-19 16:11:38
esATAC/-2025-05-19 16:11:38
evaluomeR/-2025-05-19 16:11:38
epivizrChart/-2025-05-19 16:11:38
fabia/-2025-05-19 16:11:38
escape/-2025-05-19 16:11:38
esetVis/-2025-05-19 16:11:38
epivizrServer/-2025-05-19 16:11:38
epistasisGA/-2025-05-19 16:11:38
extraChIPs/-2025-05-19 16:11:38
escheR/-2025-05-19 16:11:38
erccdashboard/-2025-05-19 16:11:38
epivizrData/-2025-05-19 16:11:38
epiregulon.extra/-2025-05-19 16:11:38
epivizr/-2025-05-19 16:11:38
fastLiquidAssociation/-2025-05-19 16:11:39
fedup/-2025-05-19 16:11:39
flowAI/-2025-05-19 16:11:39
fdrame/-2025-05-19 16:11:39
fCCAC/-2025-05-19 16:11:39
faers/-2025-05-19 16:11:39
findIPs/-2025-05-19 16:11:39
fCI/-2025-05-19 16:11:39
ffpe/-2025-05-19 16:11:39
fastseg/-2025-05-19 16:11:39
fishpond/-2025-05-19 16:11:39
flagme/-2025-05-19 16:11:39
fenr/-2025-05-19 16:11:39
fgga/-2025-05-19 16:11:39
factR/-2025-05-19 16:11:39
fastreeR/-2025-05-19 16:11:39
fcScan/-2025-05-19 16:11:39
famat/-2025-05-19 16:11:39
fgsea/-2025-05-19 16:11:39
flowTrans/-2025-05-19 16:11:40
flowCut/-2025-05-19 16:11:40
flowVS/-2025-05-19 16:11:40
flowCore/-2025-05-19 16:11:40
flowCHIC/-2025-05-19 16:11:40
flowPeaks/-2025-05-19 16:11:40
flowDensity/-2025-05-19 16:11:40
flowWorkspace/-2025-05-19 16:11:40
flowPlots/-2025-05-19 16:11:40
flowcatchR/-2025-05-19 16:11:40
flowFP/-2025-05-19 16:11:40
flowSpecs/-2025-05-19 16:11:40
fmcsR/-2025-05-19 16:11:40
flowBeads/-2025-05-19 16:11:40
flowBin/-2025-05-19 16:11:40
flowMeans/-2025-05-19 16:11:40
flowCyBar/-2025-05-19 16:11:40
flowViz/-2025-05-19 16:11:40
flowTime/-2025-05-19 16:11:40
flowMerge/-2025-05-19 16:11:40
flowMatch/-2025-05-19 16:11:40
flowGate/-2025-05-19 16:11:40
flowClust/-2025-05-19 16:11:40
flowPloidy/-2025-05-19 16:11:40
flowGraph/-2025-05-19 16:11:40
flowClean/-2025-05-19 16:11:40
flowStats/-2025-05-19 16:11:40
fobitools/-2025-05-19 16:11:41
gage/-2025-05-19 16:11:41
frenchFISH/-2025-05-19 16:11:41
gcapc/-2025-05-19 16:11:41
frmaTools/-2025-05-19 16:11:41
gaga/-2025-05-19 16:11:41
gDR/-2025-05-19 16:11:41
frma/-2025-05-19 16:11:41
gCrisprTools/-2025-05-19 16:11:41
funOmics/-2025-05-19 16:11:41
gatom/-2025-05-19 16:11:41
gDRcore/-2025-05-19 16:11:41
gcatest/-2025-05-19 16:11:41
garfield/-2025-05-19 16:11:41
gDRimport/-2025-05-19 16:11:41
fmrs/-2025-05-19 16:11:41
gDNAx/-2025-05-19 16:11:41
gcrma/-2025-05-19 16:11:41
funtooNorm/-2025-05-19 16:11:41
gemma.R/-2025-05-19 16:11:42
gDRstyle/-2025-05-19 16:11:42
genArise/-2025-05-19 16:11:42
geneAttribution/-2025-05-19 16:11:42
geneRecommender/-2025-05-19 16:11:42
gdsfmt/-2025-05-19 16:11:42
gDRutils/-2025-05-19 16:11:42
geneplotter/-2025-05-19 16:11:42
geneXtendeR/-2025-05-19 16:11:42
gemini/-2025-05-19 16:11:42
geneRxCluster/-2025-05-19 16:11:42
geNetClassifier/-2025-05-19 16:11:42
geneplast/-2025-05-19 16:11:42
geneClassifiers/-2025-05-19 16:11:42
genefu/-2025-05-19 16:11:42
genefilter/-2025-05-19 16:11:42
genomicInstability/-2025-05-19 16:11:43
geomeTriD/-2025-05-19 16:11:43
genomes/-2025-05-19 16:11:43
genomation/-2025-05-19 16:11:43
genomeIntervals/-2025-05-19 16:11:43
ggtreeSpace/-2025-05-19 16:11:44
ggtreeExtra/-2025-05-19 16:11:44
ggseqalign/-2025-05-19 16:11:44
glmGamPoi/-2025-05-19 16:11:44
ggtree/-2025-05-19 16:11:44
ggtreeDendro/-2025-05-19 16:11:44
gINTomics/-2025-05-19 16:11:44
gg4way/-2025-05-19 16:11:44
ggspavis/-2025-05-19 16:11:44
ggcyto/-2025-05-19 16:11:44
geyser/-2025-05-19 16:11:44
gep2pep/-2025-05-19 16:11:44
getDEE2/-2025-05-19 16:11:44
ggmanh/-2025-05-19 16:11:44
ggsc/-2025-05-19 16:11:44
geva/-2025-05-19 16:11:44
ggmsa/-2025-05-19 16:11:44
ggbio/-2025-05-19 16:11:44
ginmappeR/-2025-05-19 16:11:44
ggkegg/-2025-05-19 16:11:44
goSorensen/-2025-05-19 16:11:45
glmSparseNet/-2025-05-19 16:11:45
globaltest/-2025-05-19 16:11:45
graper/-2025-05-19 16:11:45
goTools/-2025-05-19 16:11:45
goseq/-2025-05-19 16:11:45
goSTAG/-2025-05-19 16:11:45
gmapR/-2025-05-19 16:11:45
goProfiles/-2025-05-19 16:11:45
gmoviz/-2025-05-19 16:11:45
gpuMagic/-2025-05-19 16:11:45
globalSeq/-2025-05-19 16:11:45
graph/-2025-05-19 16:11:45
gpls/-2025-05-19 16:11:45
granulator/-2025-05-19 16:11:45
groHMM/-2025-05-19 16:11:46
gscreend/-2025-05-19 16:11:46
gwascat/-2025-05-19 16:11:46
graphite/-2025-05-19 16:11:46
gwasurvivr/-2025-05-19 16:11:46
gtrellis/-2025-05-19 16:11:46
gsean/-2025-05-19 16:11:46
gypsum/-2025-05-19 16:11:47
hdxmsqc/-2025-05-19 16:11:47
h5vc/-2025-05-19 16:11:47
hca/-2025-05-19 16:11:47
hiAnnotator/-2025-05-19 16:11:47
h5mread/-2025-05-19 16:11:47
hermes/-2025-05-19 16:11:47
hapFabia/-2025-05-19 16:11:47
heatmaps/-2025-05-19 16:11:47
hmdbQuery/-2025-05-19 16:11:48
hoodscanR/-2025-05-19 16:11:48
hopach/-2025-05-19 16:11:48
hpar/-2025-05-19 16:11:48
hierGWAS/-2025-05-19 16:11:48
hypeR/-2025-05-19 16:11:48
hiReadsProcessor/-2025-05-19 16:11:48
hummingbird/-2025-05-19 16:11:48
hicVennDiagram/-2025-05-19 16:11:48
hipathia/-2025-05-19 16:11:48
hierinf/-2025-05-19 16:11:48
idiogram/-2025-05-19 16:11:49
iCARE/-2025-05-19 16:11:49
iCNV/-2025-05-19 16:11:49
idpr/-2025-05-19 16:11:49
igvShiny/-2025-05-19 16:11:49
ibh/-2025-05-19 16:11:49
iBBiG/-2025-05-19 16:11:49
ideal/-2025-05-19 16:11:49
iASeq/-2025-05-19 16:11:49
iasva/-2025-05-19 16:11:49
iCheck/-2025-05-19 16:11:49
illuminaio/-2025-05-19 16:11:49
iGC/-2025-05-19 16:11:49
icetea/-2025-05-19 16:11:49
iChip/-2025-05-19 16:11:49
iClusterPlus/-2025-05-19 16:11:49
iCOBRA/-2025-05-19 16:11:49
igvR/-2025-05-19 16:11:49
hypergraph/-2025-05-19 16:11:49
idr2d/-2025-05-19 16:11:49
hyperdraw/-2025-05-19 16:11:49
iBMQ/-2025-05-19 16:11:49
immApex/-2025-05-19 16:11:50
immunotation/-2025-05-19 16:11:50
immunogenViewer/-2025-05-19 16:11:50
infinityFlow/-2025-05-19 16:11:50
intansv/-2025-05-19 16:11:50
impute/-2025-05-19 16:11:50
imageTCGA/-2025-05-19 16:11:50
infercnv/-2025-05-19 16:11:50
immunoClust/-2025-05-19 16:11:50
interacCircos/-2025-05-19 16:11:50
interactiveDisplayBase/-2025-05-19 16:11:50
imcRtools/-2025-05-19 16:11:50
iNETgrate/-2025-05-19 16:11:50
interactiveDisplay/-2025-05-19 16:11:50
iterativeBMAsurv/-2025-05-19 16:11:51
iSEE/-2025-05-19 16:11:51
iSEEhub/-2025-05-19 16:11:51
iSEEu/-2025-05-19 16:11:51
iSEEtree/-2025-05-19 16:11:51
iSEEhex/-2025-05-19 16:11:51
iterativeBMA/-2025-05-19 16:11:51
iSEEindex/-2025-05-19 16:11:51
isobar/-2025-05-19 16:11:51
isomiRs/-2025-05-19 16:11:51
ipdDb/-2025-05-19 16:11:51
iSEEde/-2025-05-19 16:11:51
iSeq/-2025-05-19 16:11:51
iPath/-2025-05-19 16:11:51
islify/-2025-05-19 16:11:51
iSEEpathways/-2025-05-19 16:11:51
iSEEfier/-2025-05-19 16:11:51
lefser/-2025-05-19 16:11:52
lemur/-2025-05-19 16:11:52
lapmix/-2025-05-19 16:11:52
jazzPanda/-2025-05-19 16:11:52
les/-2025-05-19 16:11:52
ivygapSE/-2025-05-19 16:11:52
katdetectr/-2025-05-19 16:11:52
koinar/-2025-05-19 16:11:52
karyoploteR/-2025-05-19 16:11:52
kmcut/-2025-05-19 16:11:52
kissDE/-2025-05-19 16:11:52
knowYourCG/-2025-05-19 16:11:52
ldblock/-2025-05-19 16:11:52
keggorthology/-2025-05-19 16:11:52
kebabs/-2025-05-19 16:11:52
lipidr/-2025-05-19 16:11:53
limpa/-2025-05-19 16:11:53
loci2path/-2025-05-19 16:11:53
limmaGUI/-2025-05-19 16:11:53
lfa/-2025-05-19 16:11:53
limpca/-2025-05-19 16:11:53
lineagespot/-2025-05-19 16:11:53
lpsymphony/-2025-05-19 16:11:53
logicFS/-2025-05-19 16:11:53
lisaClust/-2025-05-19 16:11:53
limma/-2025-05-19 16:11:53
lmdme/-2025-05-19 16:11:53
levi/-2025-05-19 16:11:53
lionessR/-2025-05-19 16:11:53
lpNet/-2025-05-19 16:11:53
m6Aboost/-2025-05-19 16:11:54
marr/-2025-05-19 16:11:54
magrene/-2025-05-19 16:11:54
lute/-2025-05-19 16:11:54
mariner/-2025-05-19 16:11:54
magpie/-2025-05-19 16:11:54
maftools/-2025-05-19 16:11:54
mapscape/-2025-05-19 16:11:54
maaslin3/-2025-05-19 16:11:54
made4/-2025-05-19 16:11:54
maPredictDSC/-2025-05-19 16:11:54
makecdfenv/-2025-05-19 16:11:54
maCorrPlot/-2025-05-19 16:11:54
lumi/-2025-05-19 16:11:54
mBPCR/-2025-05-19 16:11:55
mCSEA/-2025-05-19 16:11:55
maser/-2025-05-19 16:11:55
martini/-2025-05-19 16:11:55
matter/-2025-05-19 16:11:55
maskBAD/-2025-05-19 16:11:55
mbkmeans/-2025-05-19 16:11:55
massiR/-2025-05-19 16:11:55
mbQTL/-2025-05-19 16:11:55
mastR/-2025-05-19 16:11:55
matchBox/-2025-05-19 16:11:55
maSigPro/-2025-05-19 16:11:55
marray/-2025-05-19 16:11:55
mdp/-2025-05-19 16:11:56
megadepth/-2025-05-19 16:11:56
meshes/-2025-05-19 16:11:56
metabCombiner/-2025-05-19 16:11:56
metabomxtr/-2025-05-19 16:11:56
metabinR/-2025-05-19 16:11:56
messina/-2025-05-19 16:11:56
meshr/-2025-05-19 16:11:56
metaCCA/-2025-05-19 16:11:56
memes/-2025-05-19 16:11:56
metabolomicsWorkbenchR/-2025-05-19 16:11:56
mdqc/-2025-05-19 16:11:56
metahdep/-2025-05-19 16:11:57
methylclock/-2025-05-19 16:11:57
methodical/-2025-05-19 16:11:57
metagene2/-2025-05-19 16:11:57
methyLImp2/-2025-05-19 16:11:57
metaseqR2/-2025-05-19 16:11:57
methylscaper/-2025-05-19 16:11:57
methylGSA/-2025-05-19 16:11:57
methylKit/-2025-05-19 16:11:57
metaMS/-2025-05-19 16:11:57
methylInheritance/-2025-05-19 16:11:57
metaSeq/-2025-05-19 16:11:57
metapod/-2025-05-19 16:11:57
metapone/-2025-05-19 16:11:57
methylCC/-2025-05-19 16:11:57
methInheritSim/-2025-05-19 16:11:57
methrix/-2025-05-19 16:11:57
methimpute/-2025-05-19 16:11:57
methylMnM/-2025-05-19 16:11:57
methylPipe/-2025-05-19 16:11:57
metagenomeSeq/-2025-05-19 16:11:57
microRNA/-2025-05-19 16:11:58
methylSig/-2025-05-19 16:11:58
microbiomeExplorer/-2025-05-19 16:11:58
methylumi/-2025-05-19 16:11:58
microbiome/-2025-05-19 16:11:58
midasHLA/-2025-05-19 16:11:58
mia/-2025-05-19 16:11:58
miaViz/-2025-05-19 16:11:58
mfa/-2025-05-19 16:11:58
mimager/-2025-05-19 16:11:58
miaDash/-2025-05-19 16:11:58
miloR/-2025-05-19 16:11:58
microbiomeDASim/-2025-05-19 16:11:58
miaSim/-2025-05-19 16:11:58
microSTASIS/-2025-05-19 16:11:58
mgsa/-2025-05-19 16:11:58
missMethyl/-2025-05-19 16:11:59
miRspongeR/-2025-05-19 16:11:59
mixOmics/-2025-05-19 16:11:59
minet/-2025-05-19 16:11:59
mitoClone2/-2025-05-19 16:11:59
mirIntegrator/-2025-05-19 16:11:59
mistyR/-2025-05-19 16:11:59
miRLAB/-2025-05-19 16:11:59
missRows/-2025-05-19 16:11:59
mitch/-2025-05-19 16:11:59
miRNAmeConverter/-2025-05-19 16:11:59
minfi/-2025-05-19 16:11:59
mirTarRnaSeq/-2025-05-19 16:11:59
miRNAtap/-2025-05-19 16:11:59
miRSM/-2025-05-19 16:11:59
mina/-2025-05-19 16:11:59
mitology/-2025-05-19 16:11:59
mist/-2025-05-19 16:11:59
miRBaseConverter/-2025-05-19 16:11:59
miRNApath/-2025-05-19 16:11:59
miQC/-2025-05-19 16:11:59
miRcomp/-2025-05-19 16:11:59
monocle/-2025-05-19 16:12:00
mosaics/-2025-05-19 16:12:00
mobileRNA/-2025-05-19 16:12:00
mosbi/-2025-05-19 16:12:00
motifcounter/-2025-05-19 16:12:00
motifbreakR/-2025-05-19 16:12:00
mnem/-2025-05-19 16:12:00
moanin/-2025-05-19 16:12:00
monaLisa/-2025-05-19 16:12:00
mosdef/-2025-05-19 16:12:00
mogsa/-2025-05-19 16:12:00
mslp/-2025-05-19 16:12:01
msmsEDA/-2025-05-19 16:12:01
msmsTests/-2025-05-19 16:12:01
motifmatchr/-2025-05-19 16:12:01
msImpute/-2025-05-19 16:12:01
motifStack/-2025-05-19 16:12:01
msgbsR/-2025-05-19 16:12:01
msa/-2025-05-19 16:12:01
mpra/-2025-05-19 16:12:01
motifTestR/-2025-05-19 16:12:01
multicrispr/-2025-05-19 16:12:02
multiMiR/-2025-05-19 16:12:02
msqrob2/-2025-05-19 16:12:02
multiHiCcompare/-2025-05-19 16:12:02
mspms/-2025-05-19 16:12:02
msPurity/-2025-05-19 16:12:02
multiClust/-2025-05-19 16:12:02
multiGSEA/-2025-05-19 16:12:02
multtest/-2025-05-19 16:12:03
multiscan/-2025-05-19 16:12:03
myvariant/-2025-05-19 16:12:03
mumosa/-2025-05-19 16:12:03
muscle/-2025-05-19 16:12:03
ndexr/-2025-05-19 16:12:03
mzR/-2025-05-19 16:12:03
mzID/-2025-05-19 16:12:03
muscat/-2025-05-19 16:12:03
multiWGCNA/-2025-05-19 16:12:03
mygene/-2025-05-19 16:12:03
ncdfFlow/-2025-05-19 16:12:03
ncRNAtools/-2025-05-19 16:12:03
musicatk/-2025-05-19 16:12:03
multistateQTL/-2025-05-19 16:12:03
ncGTW/-2025-05-19 16:12:03
nearBynding/-2025-05-19 16:12:04
netresponse/-2025-05-19 16:12:04
nucleoSim/-2025-05-19 16:12:04
netboost/-2025-05-19 16:12:04
ngsReports/-2025-05-19 16:12:04
normr/-2025-05-19 16:12:04
nipalsMCIA/-2025-05-19 16:12:04
nnSVG/-2025-05-19 16:12:04
netprioR/-2025-05-19 16:12:04
normalize450K/-2025-05-19 16:12:04
netZooR/-2025-05-19 16:12:04
netSmooth/-2025-05-19 16:12:04
nethet/-2025-05-19 16:12:04
nondetects/-2025-05-19 16:12:04
nempi/-2025-05-19 16:12:04
nnNorm/-2025-05-19 16:12:04
npGSEA/-2025-05-19 16:12:04
nucleR/-2025-05-19 16:12:04
nullranges/-2025-05-19 16:12:05
omicsViewer/-2025-05-19 16:12:05
omicRexposome/-2025-05-19 16:12:05
omicsPrint/-2025-05-19 16:12:05
oligo/-2025-05-19 16:12:05
omXplore/-2025-05-19 16:12:05
octad/-2025-05-19 16:12:05
occugene/-2025-05-19 16:12:05
odseq/-2025-05-19 16:12:05
oligoClasses/-2025-05-19 16:12:05
omada/-2025-05-19 16:12:05
nuCpos/-2025-05-19 16:12:05
omicplotR/-2025-05-19 16:12:05
oncomix/-2025-05-19 16:12:05
ompBAM/-2025-05-19 16:12:05
omicade4/-2025-05-19 16:12:05
onlineFDR/-2025-05-19 16:12:06
openPrimeR/-2025-05-19 16:12:06
oppti/-2025-05-19 16:12:06
ontoProc/-2025-05-19 16:12:06
optimalFlow/-2025-05-19 16:12:06
oposSOM/-2025-05-19 16:12:06
oppar/-2025-05-19 16:12:06
orthogene/-2025-05-19 16:12:06
orthos/-2025-05-19 16:12:06
openCyto/-2025-05-19 16:12:06
oncoscanR/-2025-05-19 16:12:06
pathRender/-2025-05-19 16:12:07
parody/-2025-05-19 16:12:07
pcaExplorer/-2025-05-19 16:12:07
pandaR/-2025-05-19 16:12:07
padma/-2025-05-19 16:12:07
pairedGSEA/-2025-05-19 16:12:07
pathview/-2025-05-19 16:12:07
packFinder/-2025-05-19 16:12:07
paircompviz/-2025-05-19 16:12:07
pairkat/-2025-05-19 16:12:07
panp/-2025-05-19 16:12:07
pathifier/-2025-05-19 16:12:07
parglms/-2025-05-19 16:12:07
partCNV/-2025-05-19 16:12:07
pathwayPCA/-2025-05-19 16:12:07
pathMED/-2025-05-19 16:12:07
pageRank/-2025-05-19 16:12:07
pathlinkR/-2025-05-19 16:12:07
panelcn.mops/-2025-05-19 16:12:07
peco/-2025-05-19 16:12:08
pgca/-2025-05-19 16:12:08
phenoTest/-2025-05-19 16:12:08
phantasus/-2025-05-19 16:12:08
pgxRpi/-2025-05-19 16:12:08
pengls/-2025-05-19 16:12:08
pdInfoBuilder/-2025-05-19 16:12:08
phenomis/-2025-05-19 16:12:08
peakPantheR/-2025-05-19 16:12:08
pepXMLTab/-2025-05-19 16:12:08
pepStat/-2025-05-19 16:12:08
pcaMethods/-2025-05-19 16:12:08
phenopath/-2025-05-19 16:12:08
pfamAnalyzeR/-2025-05-19 16:12:08
phantasusLite/-2025-05-19 16:12:08
periodicDNA/-2025-05-19 16:12:08
philr/-2025-05-19 16:12:09
pipeFrame/-2025-05-19 16:12:09
plier/-2025-05-19 16:12:09
pipeComp/-2025-05-19 16:12:09
plgem/-2025-05-19 16:12:09
pickgene/-2025-05-19 16:12:09
piano/-2025-05-19 16:12:09
plyranges/-2025-05-19 16:12:09
plyinteractions/-2025-05-19 16:12:09
plyxp/-2025-05-19 16:12:09
phyloseq/-2025-05-19 16:12:09
planet/-2025-05-19 16:12:09
plasmut/-2025-05-19 16:12:09
plotGrouper/-2025-05-19 16:12:09
plotgardener/-2025-05-19 16:12:09
phosphonormalizer/-2025-05-19 16:12:09
planttfhunter/-2025-05-19 16:12:09
preciseTAD/-2025-05-19 16:12:10
procoil/-2025-05-19 16:12:10
pqsfinder/-2025-05-19 16:12:10
profileplyr/-2025-05-19 16:12:10
preprocessCore/-2025-05-19 16:12:10
pram/-2025-05-19 16:12:10
pmp/-2025-05-19 16:12:10
podkat/-2025-05-19 16:12:10
ppcseq/-2025-05-19 16:12:10
powerTCR/-2025-05-19 16:12:10
primirTSS/-2025-05-19 16:12:10
pmm/-2025-05-19 16:12:10
proActiv/-2025-05-19 16:12:10
poem/-2025-05-19 16:12:10
proDA/-2025-05-19 16:12:10
prebs/-2025-05-19 16:12:10
proBAMr/-2025-05-19 16:12:10
pogos/-2025-05-19 16:12:10
proteinProfiles/-2025-05-19 16:12:11
psichomics/-2025-05-19 16:12:11
protGear/-2025-05-19 16:12:11
qckitfastq/-2025-05-19 16:12:11
profileScoreDist/-2025-05-19 16:12:11
pRoloc/-2025-05-19 16:12:11
pRolocGUI/-2025-05-19 16:12:11
ptairMS/-2025-05-19 16:12:11
pvac/-2025-05-19 16:12:11
progeny/-2025-05-19 16:12:11
puma/-2025-05-19 16:12:11
pvca/-2025-05-19 16:12:11
pwalign/-2025-05-19 16:12:11
projectR/-2025-05-19 16:12:11
quantsmooth/-2025-05-19 16:12:12
qpgraph/-2025-05-19 16:12:12
qpcrNorm/-2025-05-19 16:12:12
quantro/-2025-05-19 16:12:12
qsea/-2025-05-19 16:12:12
qcmetrics/-2025-05-19 16:12:12
qmtools/-2025-05-19 16:12:12
quantiseqr/-2025-05-19 16:12:12
qvalue/-2025-05-19 16:12:12
qsmooth/-2025-05-19 16:12:12
qsvaR/-2025-05-19 16:12:12
qPLEXanalyzer/-2025-05-19 16:12:12
qusage/-2025-05-19 16:12:12
r3Cseq/-2025-05-19 16:12:12
ramwas/-2025-05-19 16:12:13
rawrr/-2025-05-19 16:12:13
randPack/-2025-05-19 16:12:13
rawDiag/-2025-05-19 16:12:13
rain/-2025-05-19 16:12:13
randRotation/-2025-05-19 16:12:13
raer/-2025-05-19 16:12:13
ramr/-2025-05-19 16:12:13
rbsurv/-2025-05-19 16:12:14
rcellminer/-2025-05-19 16:12:14
rBLAST/-2025-05-19 16:12:14
rCGH/-2025-05-19 16:12:14
rBiopaxParser/-2025-05-19 16:12:14
regionReport/-2025-05-19 16:12:15
rebook/-2025-05-19 16:12:15
regionalpcs/-2025-05-19 16:12:15
regsplice/-2025-05-19 16:12:15
recoup/-2025-05-19 16:12:15
regutools/-2025-05-19 16:12:15
regioneR/-2025-05-19 16:12:15
receptLoss/-2025-05-19 16:12:15
reconsi/-2025-05-19 16:12:15
regioneReloaded/-2025-05-19 16:12:15
recountmethylation/-2025-05-19 16:12:15
recount/-2025-05-19 16:12:15
recount3/-2025-05-19 16:12:15
rfPred/-2025-05-19 16:12:16
rgsepd/-2025-05-19 16:12:16
rhinotypeR/-2025-05-19 16:12:16
rGenomeTracks/-2025-05-19 16:12:16
rGADEM/-2025-05-19 16:12:16
retrofit/-2025-05-19 16:12:16
rexposome/-2025-05-19 16:12:16
rhdf5filters/-2025-05-19 16:12:16
rgoslin/-2025-05-19 16:12:16
rfaRm/-2025-05-19 16:12:16
rGREAT/-2025-05-19 16:12:16
rhdf5/-2025-05-19 16:12:16
rhdf5client/-2025-05-19 16:12:16
rmelting/-2025-05-19 16:12:17
rmspc/-2025-05-19 16:12:17
ribosomeProfilingQC/-2025-05-19 16:12:17
ribor/-2025-05-19 16:12:17
rifi/-2025-05-19 16:12:17
riboSeqR/-2025-05-19 16:12:17
rigvf/-2025-05-19 16:12:17
rnaEditr/-2025-05-19 16:12:17
rifiComparative/-2025-05-19 16:12:17
rnaseqcomp/-2025-05-19 16:12:18
rpx/-2025-05-19 16:12:18
roastgsa/-2025-05-19 16:12:18
rprimer/-2025-05-19 16:12:18
roar/-2025-05-19 16:12:18
ropls/-2025-05-19 16:12:18
rols/-2025-05-19 16:12:18
rSWeeP/-2025-05-19 16:12:19
rsemmed/-2025-05-19 16:12:19
runibic/-2025-05-19 16:12:19
rsbml/-2025-05-19 16:12:19
rtracklayer/-2025-05-19 16:12:19
rRDP/-2025-05-19 16:12:19
rScudo/-2025-05-19 16:12:19
rqubic/-2025-05-19 16:12:19
rrvgo/-2025-05-19 16:12:19
rqt/-2025-05-19 16:12:19
rTRM/-2025-05-19 16:12:19
rTRMui/-2025-05-19 16:12:19
sampleClassifier/-2025-05-19 16:12:20
scanMiR/-2025-05-19 16:12:20
safe/-2025-05-19 16:12:20
scanMiRApp/-2025-05-19 16:12:20
sagenhaft/-2025-05-19 16:12:20
sarks/-2025-05-19 16:12:20
saseR/-2025-05-19 16:12:20
satuRn/-2025-05-19 16:12:20
rWikiPathways/-2025-05-19 16:12:20
sangerseqR/-2025-05-19 16:12:20
sangeranalyseR/-2025-05-19 16:12:20
scBFA/-2025-05-19 16:12:21
scGPS/-2025-05-19 16:12:21
scFeatureFilter/-2025-05-19 16:12:21
scDesign3/-2025-05-19 16:12:21
scDataviz/-2025-05-19 16:12:21
scBubbletree/-2025-05-19 16:12:21
scDiagnostics/-2025-05-19 16:12:21
schex/-2025-05-19 16:12:21
sccomp/-2025-05-19 16:12:21
scatterHatch/-2025-05-19 16:12:21
scCB2/-2025-05-19 16:12:21
scds/-2025-05-19 16:12:21
scater/-2025-05-19 16:12:21
scde/-2025-05-19 16:12:21
scDD/-2025-05-19 16:12:21
scFeatures/-2025-05-19 16:12:21
scClassify/-2025-05-19 16:12:21
scDblFinder/-2025-05-19 16:12:21
scDotPlot/-2025-05-19 16:12:21
scDDboost/-2025-05-19 16:12:21
scAnnotatR/-2025-05-19 16:12:21
scmeth/-2025-05-19 16:12:22
scp/-2025-05-19 16:12:22
scMerge/-2025-05-19 16:12:22
screenCounter/-2025-05-19 16:12:22
scReClassify/-2025-05-19 16:12:22
scPipe/-2025-05-19 16:12:22
scPCA/-2025-05-19 16:12:22
scMultiSim/-2025-05-19 16:12:22
scifer/-2025-05-19 16:12:22
scoup/-2025-05-19 16:12:22
scrapper/-2025-05-19 16:12:22
scider/-2025-05-19 16:12:22
scone/-2025-05-19 16:12:22
scRecover/-2025-05-19 16:12:22
scMitoMut/-2025-05-19 16:12:22
scHiCcompare/-2025-05-19 16:12:22
scMET/-2025-05-19 16:12:22
scmap/-2025-05-19 16:12:22
scran/-2025-05-19 16:12:22
scQTLtools/-2025-05-19 16:12:22
scHOT/-2025-05-19 16:12:22
scoreInvHap/-2025-05-19 16:12:22
sechm/-2025-05-19 16:12:23
scTGIF/-2025-05-19 16:12:23
scuttle/-2025-05-19 16:12:23
scShapes/-2025-05-19 16:12:23
scry/-2025-05-19 16:12:23
seq2pathway/-2025-05-19 16:12:23
scRepertoire/-2025-05-19 16:12:23
scviR/-2025-05-19 16:12:23
seqArchR/-2025-05-19 16:12:23
seahtrue/-2025-05-19 16:12:23
seqArchRplus/-2025-05-19 16:12:23
segmentSeq/-2025-05-19 16:12:23
semisup/-2025-05-19 16:12:23
segmenter/-2025-05-19 16:12:23
scTensor/-2025-05-19 16:12:23
seq.hotSPOT/-2025-05-19 16:12:23
seqCAT/-2025-05-19 16:12:23
scTreeViz/-2025-05-19 16:12:23
scruff/-2025-05-19 16:12:23
scRNAseqApp/-2025-05-19 16:12:23
scTHI/-2025-05-19 16:12:23
selectKSigs/-2025-05-19 16:12:23
sevenC/-2025-05-19 16:12:24
sesame/-2025-05-19 16:12:24
seqLogo/-2025-05-19 16:12:24
seqcombo/-2025-05-19 16:12:24
seqPattern/-2025-05-19 16:12:24
sevenbridges/-2025-05-19 16:12:24
shinyMethyl/-2025-05-19 16:12:24
shiny.gosling/-2025-05-19 16:12:24
seqTools/-2025-05-19 16:12:24
shinyDSP/-2025-05-19 16:12:24
shinyepico/-2025-05-19 16:12:24
seqsetvis/-2025-05-19 16:12:24
signatureSearch/-2025-05-19 16:12:25
signifinder/-2025-05-19 16:12:25
simona/-2025-05-19 16:12:25
siggenes/-2025-05-19 16:12:25
sincell/-2025-05-19 16:12:25
sights/-2025-05-19 16:12:25
simplifyEnrichment/-2025-05-19 16:12:25
sigsquared/-2025-05-19 16:12:25
simPIC/-2025-05-19 16:12:25
simpleSeg/-2025-05-19 16:12:25
similaRpeak/-2025-05-19 16:12:25
sigFeature/-2025-05-19 16:12:25
signeR/-2025-05-19 16:12:25
singleCellTK/-2025-05-19 16:12:25
soGGi/-2025-05-19 16:12:26
snapcount/-2025-05-19 16:12:26
slingshot/-2025-05-19 16:12:26
snifter/-2025-05-19 16:12:26
snpStats/-2025-05-19 16:12:26
sitadela/-2025-05-19 16:12:26
sketchR/-2025-05-19 16:12:26
slalom/-2025-05-19 16:12:26
sizepower/-2025-05-19 16:12:26
skewr/-2025-05-19 16:12:26
smoothclust/-2025-05-19 16:12:26
sitePath/-2025-05-19 16:12:26
snm/-2025-05-19 16:12:26
singscore/-2025-05-19 16:12:26
smartid/-2025-05-19 16:12:26
smoppix/-2025-05-19 16:12:26
specL/-2025-05-19 16:12:27
sparrow/-2025-05-19 16:12:27
spatialFDA/-2025-05-19 16:12:27
speckle/-2025-05-19 16:12:27
spatialHeatmap/-2025-05-19 16:12:27
spatialDE/-2025-05-19 16:12:27
sosta/-2025-05-19 16:12:27
sparsenetgls/-2025-05-19 16:12:27
spatzie/-2025-05-19 16:12:27
spaSim/-2025-05-19 16:12:27
spatialSimGP/-2025-05-19 16:12:27
sparseMatrixStats/-2025-05-19 16:12:27
spacexr/-2025-05-19 16:12:27
spqn/-2025-05-19 16:12:28
spkTools/-2025-05-19 16:12:28
splineTimeR/-2025-05-19 16:12:28
splots/-2025-05-19 16:12:28
spicyR/-2025-05-19 16:12:28
spikeLI/-2025-05-19 16:12:28
spiky/-2025-05-19 16:12:28
spoon/-2025-05-19 16:12:28
spillR/-2025-05-19 16:12:28
splatter/-2025-05-19 16:12:28
ssviz/-2025-05-19 16:12:29
sscu/-2025-05-19 16:12:29
statTarget/-2025-05-19 16:12:29
stJoincount/-2025-05-19 16:12:29
ssPATHS/-2025-05-19 16:12:29
sSeq/-2025-05-19 16:12:29
squallms/-2025-05-19 16:12:29
struct/-2025-05-19 16:12:29
ssize/-2025-05-19 16:12:29
stepNorm/-2025-05-19 16:12:29
sRACIPE/-2025-05-19 16:12:29
structToolbox/-2025-05-19 16:12:29
srnadiff/-2025-05-19 16:12:29
stageR/-2025-05-19 16:12:29
standR/-2025-05-19 16:12:29
ssrch/-2025-05-19 16:12:29
strandCheckR/-2025-05-19 16:12:29
sSNAPPY/-2025-05-19 16:12:29
surfaltr/-2025-05-19 16:12:30
survtype/-2025-05-19 16:12:30
switchde/-2025-05-19 16:12:30
synapsis/-2025-05-19 16:12:30
svaNUMT/-2025-05-19 16:12:30
survcomp/-2025-05-19 16:12:30
synergyfinder/-2025-05-19 16:12:30
subSeq/-2025-05-19 16:12:30
supersigs/-2025-05-19 16:12:30
sva/-2025-05-19 16:12:30
switchBox/-2025-05-19 16:12:30
survClust/-2025-05-19 16:12:30
synlet/-2025-05-19 16:12:30
swfdr/-2025-05-19 16:12:30
svaRetro/-2025-05-19 16:12:30
target/-2025-05-19 16:12:31
systemPipeR/-2025-05-19 16:12:31
tadar/-2025-05-19 16:12:31
syntenet/-2025-05-19 16:12:31
systemPipeShiny/-2025-05-19 16:12:31
tenXplore/-2025-05-19 16:12:31
tanggle/-2025-05-19 16:12:31
systemPipeTools/-2025-05-19 16:12:31
ternarynet/-2025-05-19 16:12:32
tigre/-2025-05-19 16:12:32
tidyFlowCore/-2025-05-19 16:12:32
terraTCGAdata/-2025-05-19 16:12:32
terapadog/-2025-05-19 16:12:32
tidyCoverage/-2025-05-19 16:12:32
timescape/-2025-05-19 16:12:32
tidyomics/-2025-05-19 16:12:32
tidysbml/-2025-05-19 16:12:32
timeOmics/-2025-05-19 16:12:32
tidySummarizedExperiment/-2025-05-19 16:12:32
tidySingleCellExperiment/-2025-05-19 16:12:32
timecourse/-2025-05-19 16:12:32
tidySpatialExperiment/-2025-05-19 16:12:32
tidytof/-2025-05-19 16:12:32
tilingArray/-2025-05-19 16:12:32
tidybulk/-2025-05-19 16:12:32
transite/-2025-05-19 16:12:33
topGO/-2025-05-19 16:12:33
tpSVG/-2025-05-19 16:12:33
tLOH/-2025-05-19 16:12:33
topdownr/-2025-05-19 16:12:33
tradeSeq/-2025-05-19 16:12:33
tkWidgets/-2025-05-19 16:12:33
tomoda/-2025-05-19 16:12:33
trackViewer/-2025-05-19 16:12:33
tomoseqr/-2025-05-19 16:12:33
transformGamPoi/-2025-05-19 16:12:33
tracktables/-2025-05-19 16:12:33
transcriptR/-2025-05-19 16:12:33
topconfects/-2025-05-19 16:12:33
transcriptogramer/-2025-05-19 16:12:33
triplex/-2025-05-19 16:12:34
treeio/-2025-05-19 16:12:34
tricycle/-2025-05-19 16:12:34
transmogR/-2025-05-19 16:12:34
tRNAscanImport/-2025-05-19 16:12:34
treekoR/-2025-05-19 16:12:34
traviz/-2025-05-19 16:12:34
tRNA/-2025-05-19 16:12:34
treeclimbR/-2025-05-19 16:12:34
traseR/-2025-05-19 16:12:34
tripr/-2025-05-19 16:12:34
trio/-2025-05-19 16:12:34
tRanslatome/-2025-05-19 16:12:34
transomics2cytoscape/-2025-05-19 16:12:34
tRNAdbImport/-2025-05-19 16:12:34
tximport/-2025-05-19 16:12:35
universalmotif/-2025-05-19 16:12:35
tximeta/-2025-05-19 16:12:35
unifiedWMWqPCR/-2025-05-19 16:12:35
twilight/-2025-05-19 16:12:35
uSORT/-2025-05-19 16:12:35
twoddpcr/-2025-05-19 16:12:35
txdbmaker/-2025-05-19 16:12:35
txcutr/-2025-05-19 16:12:35
ttgsea/-2025-05-19 16:12:35
updateObject/-2025-05-19 16:12:35
uncoverappLib/-2025-05-19 16:12:35
tweeDEseq/-2025-05-19 16:12:35
veloviz/-2025-05-19 16:12:36
vidger/-2025-05-19 16:12:36
vissE/-2025-05-19 16:12:36
vbmp/-2025-05-19 16:12:36
velociraptor/-2025-05-19 16:12:36
visiumStitched/-2025-05-19 16:12:36
viper/-2025-05-19 16:12:36
vmrseq/-2025-05-19 16:12:36
variancePartition/-2025-05-19 16:12:36
wavClusteR/-2025-05-19 16:12:37
xcore/-2025-05-19 16:12:37
widgetTools/-2025-05-19 16:12:37
weitrix/-2025-05-19 16:12:37
wppi/-2025-05-19 16:12:37
vulcan/-2025-05-19 16:12:37
weaver/-2025-05-19 16:12:37
vsclust/-2025-05-19 16:12:37
xenLite/-2025-05-19 16:12:37
wpm/-2025-05-19 16:12:37
wateRmelon/-2025-05-19 16:12:37
waddR/-2025-05-19 16:12:37
vtpnet/-2025-05-19 16:12:37
wiggleplotr/-2025-05-19 16:12:37
xCell2/-2025-05-19 16:12:37
vsn/-2025-05-19 16:12:37
xmapbridge/-2025-05-19 16:12:37
xcms/-2025-05-19 16:12:37
webbioc/-2025-05-19 16:12:37
zinbwave/-2025-05-19 16:12:38
zFPKM/-2025-05-19 16:12:38
zitools/-2025-05-19 16:12:38
zenith/-2025-05-19 16:12:38
yamss/-2025-05-19 16:12:38
yarn/-2025-05-19 16:12:38
zellkonverter/-2025-05-19 16:12:38
RbowtieCuda/-2025-05-20 16:03:50
a4Preproc/-2025-05-20 16:11:00
a4Classif/-2025-05-20 16:11:00
a4Core/-2025-05-20 16:11:00
a4/-2025-05-20 16:11:00
a4Reporting/-2025-05-20 16:11:00
a4Base/-2025-05-20 16:11:00
affylmGUI/-2025-05-20 16:11:01
affycoretools/-2025-05-20 16:11:01
affycomp/-2025-05-20 16:11:01
abseqR/-2025-05-20 16:11:01
affyio/-2025-05-20 16:11:01
affyILM/-2025-05-20 16:11:01
adSplit/-2025-05-20 16:11:01
affy/-2025-05-20 16:11:01
affxparser/-2025-05-20 16:11:01
aggregateBioVar/-2025-05-20 16:11:01
aCGH/-2025-05-20 16:11:01
agilp/-2025-05-20 16:11:01
airpart/-2025-05-20 16:11:01
adverSCarial/-2025-05-20 16:11:01
adductomicsR/-2025-05-20 16:11:01
acde/-2025-05-20 16:11:01
affyContam/-2025-05-20 16:11:01
affyPLM/-2025-05-20 16:11:01
annmap/-2025-05-20 16:11:02
alabaster.se/-2025-05-20 16:11:02
annotate/-2025-05-20 16:11:02
alabaster.base/-2025-05-20 16:11:02
annaffy/-2025-05-20 16:11:02
animalcules/-2025-05-20 16:11:02
alabaster.string/-2025-05-20 16:11:02
alabaster/-2025-05-20 16:11:02
alabaster.sce/-2025-05-20 16:11:02
alabaster.files/-2025-05-20 16:11:02
alabaster.spatial/-2025-05-20 16:11:02
alevinQC/-2025-05-20 16:11:02
alabaster.schemas/-2025-05-20 16:11:02
alabaster.ranges/-2025-05-20 16:11:02
amplican/-2025-05-20 16:11:02
alabaster.bumpy/-2025-05-20 16:11:02
alabaster.matrix/-2025-05-20 16:11:02
alabaster.vcf/-2025-05-20 16:11:02
alabaster.sfe/-2025-05-20 16:11:02
alabaster.mae/-2025-05-20 16:11:02
altcdfenvs/-2025-05-20 16:11:02
annotatr/-2025-05-20 16:11:03
anota/-2025-05-20 16:11:03
aroma.light/-2025-05-20 16:11:03
artMS/-2025-05-20 16:11:03
arrayQuality/-2025-05-20 16:11:03
arrayQualityMetrics/-2025-05-20 16:11:03
apComplex/-2025-05-20 16:11:03
apeglm/-2025-05-20 16:11:03
anota2seq/-2025-05-20 16:11:03
annotationTools/-2025-05-20 16:11:03
antiProfiles/-2025-05-20 16:11:03
arrayMvout/-2025-05-20 16:11:03
appreci8R/-2025-05-20 16:11:03
banocc/-2025-05-20 16:11:04
awst/-2025-05-20 16:11:04
atena/-2025-05-20 16:11:04
ballgown/-2025-05-20 16:11:04
atSNP/-2025-05-20 16:11:04
bambu/-2025-05-20 16:11:04
assorthead/-2025-05-20 16:11:04
autonomics/-2025-05-20 16:11:04
bamsignals/-2025-05-20 16:11:04
bandle/-2025-05-20 16:11:04
barbieQ/-2025-05-20 16:11:04
attract/-2025-05-20 16:11:04
bacon/-2025-05-20 16:11:04
basilisk/-2025-05-20 16:11:05
bcSeq/-2025-05-20 16:11:05
basilisk.utils/-2025-05-20 16:11:05
beer/-2025-05-20 16:11:05
beachmat/-2025-05-20 16:11:05
baySeq/-2025-05-20 16:11:05
batchelor/-2025-05-20 16:11:05
bayNorm/-2025-05-20 16:11:05
beadarray/-2025-05-20 16:11:05
beachmat.hdf5/-2025-05-20 16:11:05
benchdamic/-2025-05-20 16:11:05
barcodetrackR/-2025-05-20 16:11:05
basecallQC/-2025-05-20 16:11:05
beachmat.tiledb/-2025-05-20 16:11:05
bedbaser/-2025-05-20 16:11:05
biobtreeR/-2025-05-20 16:11:06
biocGraph/-2025-05-20 16:11:06
biocmake/-2025-05-20 16:11:06
bigmelon/-2025-05-20 16:11:06
betaHMM/-2025-05-20 16:11:06
bioCancer/-2025-05-20 16:11:06
bioassayR/-2025-05-20 16:11:06
bgx/-2025-05-20 16:11:06
bettr/-2025-05-20 16:11:06
biomvRCNS/-2025-05-20 16:11:07
biocViews/-2025-05-20 16:11:07
biomformat/-2025-05-20 16:11:07
biomaRt/-2025-05-20 16:11:07
bioDist/-2025-05-20 16:11:07
biocthis/-2025-05-20 16:11:07
biodbHmdb/-2025-05-20 16:11:07
biocroxytest/-2025-05-20 16:11:07
biodbUniprot/-2025-05-20 16:11:07
biodbChebi/-2025-05-20 16:11:07
biodb/-2025-05-20 16:11:07
biodbNcbi/-2025-05-20 16:11:07
biodbNci/-2025-05-20 16:11:07
biosigner/-2025-05-20 16:11:08
biotmle/-2025-05-20 16:11:08
CellScore/-2025-05-20 16:11:10
CelliD/-2025-05-20 16:11:10
CellNOptR/-2025-05-20 16:11:10
CellMixS/-2025-05-20 16:11:10
ChIPanalyser/-2025-05-20 16:11:11
Cepo/-2025-05-20 16:11:11
CellTrails/-2025-05-20 16:11:11
ChemmineOB/-2025-05-20 16:11:11
Chicago/-2025-05-20 16:11:11
ChAMP/-2025-05-20 16:11:11
CexoR/-2025-05-20 16:11:11
ChemmineR/-2025-05-20 16:11:11
ChIPQC/-2025-05-20 16:11:12
ChromHeatMap/-2025-05-20 16:11:12
CleanUpRNAseq/-2025-05-20 16:11:12
ChIPXpress/-2025-05-20 16:11:12
ChIPsim/-2025-05-20 16:11:12
ChIPpeakAnno/-2025-05-20 16:11:12
ChIPseeker/-2025-05-20 16:11:12
ChIPexoQual/-2025-05-20 16:11:12
CircSeqAlignTk/-2025-05-20 16:11:12
ChromSCape/-2025-05-20 16:11:12
ClassifyR/-2025-05-20 16:11:12
ChIPseqR/-2025-05-20 16:11:12
ChIPComp/-2025-05-20 16:11:12
CiteFuse/-2025-05-20 16:11:12
ClusterSignificance/-2025-05-20 16:11:13
ClusterJudge/-2025-05-20 16:11:13
ClusterFoldSimilarity/-2025-05-20 16:11:13
ClustAll/-2025-05-20 16:11:13
CluMSID/-2025-05-20 16:11:13
Clomial/-2025-05-20 16:11:13
ClustIRR/-2025-05-20 16:11:13
ComplexHeatmap/-2025-05-20 16:11:14
ConsensusClusterPlus/-2025-05-20 16:11:14
Cogito/-2025-05-20 16:11:14
CompoundDb/-2025-05-20 16:11:14
CoGAPS/-2025-05-20 16:11:14
ComPrAn/-2025-05-20 16:11:14
CoCiteStats/-2025-05-20 16:11:14
CoSIA/-2025-05-20 16:11:15
Cormotif/-2025-05-20 16:11:15
CoreGx/-2025-05-20 16:11:15
CoverageView/-2025-05-20 16:11:15
CopyNumberPlots/-2025-05-20 16:11:15
Coralysis/-2025-05-20 16:11:15
CytoDx/-2025-05-20 16:11:16
CrispRVariants/-2025-05-20 16:11:16
CuratedAtlasQueryR/-2025-05-20 16:11:16
DaMiRseq/-2025-05-20 16:11:17
CytoGLMM/-2025-05-20 16:11:17
CyTOFpower/-2025-05-20 16:11:17
DAPAR/-2025-05-20 16:11:17
DART/-2025-05-20 16:11:17
CytoPipeline/-2025-05-20 16:11:17
Damsel/-2025-05-20 16:11:17
CytoML/-2025-05-20 16:11:17
DCATS/-2025-05-20 16:11:17
CytoMDS/-2025-05-20 16:11:17
DAMEfinder/-2025-05-20 16:11:17
CytoPipelineGUI/-2025-05-20 16:11:17
DelayedMatrixStats/-2025-05-20 16:11:18
DEGreport/-2025-05-20 16:11:18
DegCre/-2025-05-20 16:11:18
DECIPHER/-2025-05-20 16:11:18
DelayedArray/-2025-05-20 16:11:18
DeconvoBuddies/-2025-05-20 16:11:18
DegNorm/-2025-05-20 16:11:18
DelayedDataFrame/-2025-05-20 16:11:18
DelayedTensor/-2025-05-20 16:11:18
DeepTarget/-2025-05-20 16:11:18
DelayedRandomArray/-2025-05-20 16:11:18
DEGseq/-2025-05-20 16:11:18
DeconRNASeq/-2025-05-20 16:11:18
DeMixT/-2025-05-20 16:11:18
DELocal/-2025-05-20 16:11:18
DeepPINCS/-2025-05-20 16:11:18
DEGraph/-2025-05-20 16:11:18
DeMAND/-2025-05-20 16:11:18
DEFormats/-2025-05-20 16:11:18
DiffBind/-2025-05-20 16:11:19
DESeq2/-2025-05-20 16:11:19
DepecheR/-2025-05-20 16:11:19
DEsingle/-2025-05-20 16:11:19
DepInfeR/-2025-05-20 16:11:19
DEXSeq/-2025-05-20 16:11:19
DFplyr/-2025-05-20 16:11:19
DEsubs/-2025-05-20 16:11:19
DEqMS/-2025-05-20 16:11:19
DFP/-2025-05-20 16:11:19
DESpace/-2025-05-20 16:11:19
DEP/-2025-05-20 16:11:19
DExMA/-2025-05-20 16:11:19
DEScan2/-2025-05-20 16:11:19
Dino/-2025-05-20 16:11:19
DiffLogo/-2025-05-20 16:11:19
DifferentialRegulation/-2025-05-20 16:11:19
DEWSeq/-2025-05-20 16:11:19
DNEA/-2025-05-20 16:11:20
DOSE/-2025-05-20 16:11:20
DNAshapeR/-2025-05-20 16:11:20
DMCFB/-2025-05-20 16:11:20
DNABarcodeCompatibility/-2025-05-20 16:11:20
DominoEffect/-2025-05-20 16:11:20
DMCHMM/-2025-05-20 16:11:20
DNAfusion/-2025-05-20 16:11:20
DNAcopy/-2025-05-20 16:11:20
DMRcaller/-2025-05-20 16:11:20
DNAcycP2/-2025-05-20 16:11:20
DMRcate/-2025-05-20 16:11:20
DiscoRhythm/-2025-05-20 16:11:20
DMRScan/-2025-05-20 16:11:20
DNABarcodes/-2025-05-20 16:11:20
Doscheda/-2025-05-20 16:11:20
DirichletMultinomial/-2025-05-20 16:11:20
DropletUtils/-2025-05-20 16:11:21
DriverNet/-2025-05-20 16:11:21
EasyCellType/-2025-05-20 16:11:21
DTA/-2025-05-20 16:11:21
DynDoc/-2025-05-20 16:11:21
EDIRquery/-2025-05-20 16:11:21
EBSeq/-2025-05-20 16:11:21
DRIMSeq/-2025-05-20 16:11:21
DrugVsDisease/-2025-05-20 16:11:21
DSS/-2025-05-20 16:11:21
EBarrays/-2025-05-20 16:11:21
EBImage/-2025-05-20 16:11:21
EBcoexpress/-2025-05-20 16:11:21
EBSEA/-2025-05-20 16:11:21
EDASeq/-2025-05-20 16:11:21
DuplexDiscovereR/-2025-05-20 16:11:21
Dune/-2025-05-20 16:11:21
EpiDISH/-2025-05-20 16:11:22
ELMER/-2025-05-20 16:11:22
EnhancedVolcano/-2025-05-20 16:11:22
EnrichDO/-2025-05-20 16:11:22
EGAD/-2025-05-20 16:11:22
EMDomics/-2025-05-20 16:11:22
ENmix/-2025-05-20 16:11:22
EpipwR/-2025-05-20 16:11:22
EpiCompare/-2025-05-20 16:11:22
EpiMix/-2025-05-20 16:11:22
EnrichedHeatmap/-2025-05-20 16:11:22
EmpiricalBrownsMethod/-2025-05-20 16:11:22
EnMCB/-2025-05-20 16:11:22
EGSEA/-2025-05-20 16:11:22
ELViS/-2025-05-20 16:11:22
EnrichmentBrowser/-2025-05-20 16:11:22
ExiMiR/-2025-05-20 16:11:23
EventPointer/-2025-05-20 16:11:23
ExperimentSubset/-2025-05-20 16:11:23
ExploreModelMatrix/-2025-05-20 16:11:23
ExperimentHubData/-2025-05-20 16:11:23
EpiTxDb/-2025-05-20 16:11:23
ExpressionAtlas/-2025-05-20 16:11:23
EWCE/-2025-05-20 16:11:23
ERSSA/-2025-05-20 16:11:23
ExperimentHub/-2025-05-20 16:11:23
ExCluster/-2025-05-20 16:11:23
FindIT2/-2025-05-20 16:11:24
FEAST/-2025-05-20 16:11:24
FLAMES/-2025-05-20 16:11:24
FGNet/-2025-05-20 16:11:24
FELLA/-2025-05-20 16:11:24
FISHalyseR/-2025-05-20 16:11:24
FeatSeekR/-2025-05-20 16:11:24
FitHiC/-2025-05-20 16:11:24
FilterFFPE/-2025-05-20 16:11:24
FastqCleaner/-2025-05-20 16:11:24
FamAgg/-2025-05-20 16:11:24
FlowSOM/-2025-05-20 16:11:25
FRASER/-2025-05-20 16:11:25
GateFinder/-2025-05-20 16:11:26
FuseSOM/-2025-05-20 16:11:26
G4SNVHunter/-2025-05-20 16:11:26
FRGEpistasis/-2025-05-20 16:11:26
GARS/-2025-05-20 16:11:26
GBScleanR/-2025-05-20 16:11:26
GDCRNATools/-2025-05-20 16:11:26
GA4GHclient/-2025-05-20 16:11:26
GAprediction/-2025-05-20 16:11:26
GA4GHshiny/-2025-05-20 16:11:26
GeneBreak/-2025-05-20 16:11:27
GeneExpressionSignature/-2025-05-20 16:11:27
GeneticsPed/-2025-05-20 16:11:27
GeneMeta/-2025-05-20 16:11:27
GDSArray/-2025-05-20 16:11:27
GeDi/-2025-05-20 16:11:27
GeneSelectMMD/-2025-05-20 16:11:27
GENESIS/-2025-05-20 16:11:27
GEM/-2025-05-20 16:11:27
GeneRegionScan/-2025-05-20 16:11:27
GeneNetworkBuilder/-2025-05-20 16:11:27
GeneStructureTools/-2025-05-20 16:11:27
GeneGA/-2025-05-20 16:11:27
GeneTonic/-2025-05-20 16:11:27
GeneOverlap/-2025-05-20 16:11:27
GENIE3/-2025-05-20 16:11:27
GeomxTools/-2025-05-20 16:11:28
GenomicInteractions/-2025-05-20 16:11:28
GEOsubmission/-2025-05-20 16:11:28
GenVisR/-2025-05-20 16:11:28
GeoTcgaData/-2025-05-20 16:11:28
GenomicScores/-2025-05-20 16:11:28
GenomeInfoDb/-2025-05-20 16:11:28
GenomicFeatures/-2025-05-20 16:11:28
GenomicOZone/-2025-05-20 16:11:28
GeoDiff/-2025-05-20 16:11:28
GenomicDistributions/-2025-05-20 16:11:28
GenomicTuples/-2025-05-20 16:11:28
GenomicPlot/-2025-05-20 16:11:28
GEOquery/-2025-05-20 16:11:28
GenomicAlignments/-2025-05-20 16:11:28
GenomicDataCommons/-2025-05-20 16:11:28
GenomAutomorphism/-2025-05-20 16:11:28
GEOmetadb/-2025-05-20 16:11:28
GenomicFiles/-2025-05-20 16:11:28
GenomicRanges/-2025-05-20 16:11:28
GenomicInteractionNodes/-2025-05-20 16:11:28
GEOexplorer/-2025-05-20 16:11:28
GEOfastq/-2025-05-20 16:11:28
GenomicSuperSignature/-2025-05-20 16:11:28
GenProSeq/-2025-05-20 16:11:28
GLAD/-2025-05-20 16:11:29
GIGSEA/-2025-05-20 16:11:29
GladiaTOX/-2025-05-20 16:11:29
Glimma/-2025-05-20 16:11:29
GEWIST/-2025-05-20 16:11:29
GGPA/-2025-05-20 16:11:29
GlobalAncova/-2025-05-20 16:11:29
GNET2/-2025-05-20 16:11:30
GraphAT/-2025-05-20 16:11:30
GOfuncR/-2025-05-20 16:11:30
GOpro/-2025-05-20 16:11:30
GloScope/-2025-05-20 16:11:30
GraphAlignment/-2025-05-20 16:11:30
GOexpress/-2025-05-20 16:11:30
GOSemSim/-2025-05-20 16:11:30
GRaNIE/-2025-05-20 16:11:30
GRENITS/-2025-05-20 16:11:30
GOstats/-2025-05-20 16:11:30
GMRP/-2025-05-20 16:11:30
GPA/-2025-05-20 16:11:30
GOTHiC/-2025-05-20 16:11:30
GNOSIS/-2025-05-20 16:11:30
GmicR/-2025-05-20 16:11:30
GrafGen/-2025-05-20 16:11:30
Gviz/-2025-05-20 16:11:31
GSCA/-2025-05-20 16:11:31
GRmetrics/-2025-05-20 16:11:31
Guitar/-2025-05-20 16:11:31
GSReg/-2025-05-20 16:11:31
GSEABenchmarkeR/-2025-05-20 16:11:31
GUIDEseq/-2025-05-20 16:11:31
GreyListChIP/-2025-05-20 16:11:31
GWASTools/-2025-05-20 16:11:31
GWENA/-2025-05-20 16:11:31
GWAS.BAYES/-2025-05-20 16:11:31
GSVA/-2025-05-20 16:11:31
GSEAmining/-2025-05-20 16:11:31
GSRI/-2025-05-20 16:11:31
GSEABase/-2025-05-20 16:11:31
GSAR/-2025-05-20 16:11:31
GSEAlm/-2025-05-20 16:11:31
GSALightning/-2025-05-20 16:11:31
GSgalgoR/-2025-05-20 16:11:31
HiCool/-2025-05-20 16:11:32
HiContacts/-2025-05-20 16:11:32
HDF5Array/-2025-05-20 16:11:32
HDTD/-2025-05-20 16:11:32
HELP/-2025-05-20 16:11:32
HIBAG/-2025-05-20 16:11:32
HiCExperiment/-2025-05-20 16:11:32
HarmonizR/-2025-05-20 16:11:32
HEM/-2025-05-20 16:11:32
HERON/-2025-05-20 16:11:32
Harman/-2025-05-20 16:11:32
HiCcompare/-2025-05-20 16:11:32
HiCDOC/-2025-05-20 16:11:32
HGC/-2025-05-20 16:11:32
HelloRanges/-2025-05-20 16:11:32
HicAggR/-2025-05-20 16:11:32
HiCBricks/-2025-05-20 16:11:32
Heatplus/-2025-05-20 16:11:32
Herper/-2025-05-20 16:11:32
Harshlight/-2025-05-20 16:11:32
HiCDCPlus/-2025-05-20 16:11:32
HiCParser/-2025-05-20 16:11:32
HIPPO/-2025-05-20 16:11:33
HybridMTest/-2025-05-20 16:11:33
HIREewas/-2025-05-20 16:11:33
HuBMAPR/-2025-05-20 16:11:33
HTqPCR/-2025-05-20 16:11:33
HiLDA/-2025-05-20 16:11:33
HubPub/-2025-05-20 16:11:33
HMMcopy/-2025-05-20 16:11:33
HTSFilter/-2025-05-20 16:11:33
HiTC/-2025-05-20 16:11:33
HilbertCurve/-2025-05-20 16:11:33
HybridExpress/-2025-05-20 16:11:33
HilbertVis/-2025-05-20 16:11:33
HilbertVisGUI/-2025-05-20 16:11:33
HPAanalyze/-2025-05-20 16:11:33
HoloFoodR/-2025-05-20 16:11:33
HPiP/-2025-05-20 16:11:33
IdeoViz/-2025-05-20 16:11:34
IgGeneUsage/-2025-05-20 16:11:34
Icens/-2025-05-20 16:11:34
IFAA/-2025-05-20 16:11:34
ILoReg/-2025-05-20 16:11:34
IHW/-2025-05-20 16:11:34
IMMAN/-2025-05-20 16:11:34
IMAS/-2025-05-20 16:11:34
InteractiveComplexHeatmap/-2025-05-20 16:11:35
InterCellar/-2025-05-20 16:11:35
InPAS/-2025-05-20 16:11:35
INDEED/-2025-05-20 16:11:35
IPO/-2025-05-20 16:11:35
IONiseR/-2025-05-20 16:11:35
Informeasure/-2025-05-20 16:11:35
InteractionSet/-2025-05-20 16:11:35
IntEREst/-2025-05-20 16:11:35
IMPCdata/-2025-05-20 16:11:35
INTACT/-2025-05-20 16:11:35
IntramiRExploreR/-2025-05-20 16:11:35
InTAD/-2025-05-20 16:11:35
INPower/-2025-05-20 16:11:35
INSPEcT/-2025-05-20 16:11:35
ITALICS/-2025-05-20 16:11:36
IVAS/-2025-05-20 16:11:36
IsoformSwitchAnalyzeR/-2025-05-20 16:11:36
ISoLDE/-2025-05-20 16:11:36
IsoCorrectoR/-2025-05-20 16:11:36
IRanges/-2025-05-20 16:11:36
IWTomics/-2025-05-20 16:11:36
IsoBayes/-2025-05-20 16:11:36
IsoCorrectoRGUI/-2025-05-20 16:11:36
ISAnalytics/-2025-05-20 16:11:36
ISLET/-2025-05-20 16:11:36
KEGGgraph/-2025-05-20 16:11:37
LEA/-2025-05-20 16:11:37
KinSwingR/-2025-05-20 16:11:37
LACE/-2025-05-20 16:11:37
KnowSeq/-2025-05-20 16:11:37
KEGGREST/-2025-05-20 16:11:37
LBE/-2025-05-20 16:11:37
KCsmart/-2025-05-20 16:11:37
KBoost/-2025-05-20 16:11:37
Lheuristic/-2025-05-20 16:11:37
KEGGlincs/-2025-05-20 16:11:37
LedPred/-2025-05-20 16:11:37
LimROTS/-2025-05-20 16:11:38
LiquidAssociation/-2025-05-20 16:11:38
LOBSTAHS/-2025-05-20 16:11:38
M3C/-2025-05-20 16:11:38
LinTInd/-2025-05-20 16:11:38
Linnorm/-2025-05-20 16:11:38
LoomExperiment/-2025-05-20 16:11:38
LOLA/-2025-05-20 16:11:38
LinkHD/-2025-05-20 16:11:38
LymphoSeq/-2025-05-20 16:11:38
LRcell/-2025-05-20 16:11:38
LRBaseDbi/-2025-05-20 16:11:38
M3Drop/-2025-05-20 16:11:38
LPE/-2025-05-20 16:11:38
MAGAR/-2025-05-20 16:11:39
MANOR/-2025-05-20 16:11:39
MAI/-2025-05-20 16:11:39
MAIT/-2025-05-20 16:11:39
MAPFX/-2025-05-20 16:11:39
MACSQuantifyR/-2025-05-20 16:11:39
MACSr/-2025-05-20 16:11:39
MADSEQ/-2025-05-20 16:11:39
MantelCorr/-2025-05-20 16:11:39
MassArray/-2025-05-20 16:11:39
Macarron/-2025-05-20 16:11:39
Maaslin2/-2025-05-20 16:11:39
MDTS/-2025-05-20 16:11:40
MassSpecWavelet/-2025-05-20 16:11:40
MeasurementError.cor/-2025-05-20 16:11:40
MatrixGenerics/-2025-05-20 16:11:40
MEAL/-2025-05-20 16:11:40
MEIGOR/-2025-05-20 16:11:40
MBECS/-2025-05-20 16:11:40
MEB/-2025-05-20 16:11:40
MBCB/-2025-05-20 16:11:40
MBQN/-2025-05-20 16:11:40
MBAmethyl/-2025-05-20 16:11:40
MatrixRider/-2025-05-20 16:11:40
MEDME/-2025-05-20 16:11:40
MBASED/-2025-05-20 16:11:40
MEAT/-2025-05-20 16:11:40
MCbiclust/-2025-05-20 16:11:40
MBttest/-2025-05-20 16:11:40
MAST/-2025-05-20 16:11:40
MEDIPS/-2025-05-20 16:11:40
MatrixQCvis/-2025-05-20 16:11:40
MetaboSignal/-2025-05-20 16:11:41
Melissa/-2025-05-20 16:11:41
MetaboAnnotation/-2025-05-20 16:11:41
MetaCyto/-2025-05-20 16:11:41
MesKit/-2025-05-20 16:11:41
MeSHDbi/-2025-05-20 16:11:41
MetaboCoreUtils/-2025-05-20 16:11:41
MetaPhOR/-2025-05-20 16:11:41
MetaNeighbor/-2025-05-20 16:11:41
Mergeomics/-2025-05-20 16:11:41
MetaboDynamics/-2025-05-20 16:11:41
MethPed/-2025-05-20 16:11:42
MethReg/-2025-05-20 16:11:42
MGFR/-2025-05-20 16:11:42
MetNet/-2025-05-20 16:11:42
MethylMix/-2025-05-20 16:11:42
MetMashR/-2025-05-20 16:11:42
MetID/-2025-05-20 16:11:42
MGnifyR/-2025-05-20 16:11:42
MGFM/-2025-05-20 16:11:42
MethTargetedNGS/-2025-05-20 16:11:42
MetCirc/-2025-05-20 16:11:42
Mfuzz/-2025-05-20 16:11:42
MethylSeekR/-2025-05-20 16:11:42
MethylAid/-2025-05-20 16:11:42
MiPP/-2025-05-20 16:11:43
MiRaGE/-2025-05-20 16:11:43
MIRA/-2025-05-20 16:11:43
MiChip/-2025-05-20 16:11:43
MineICA/-2025-05-20 16:11:43
MicrobiomeProfiler/-2025-05-20 16:11:43
MinimumDistance/-2025-05-20 16:11:43
MICSQTL/-2025-05-20 16:11:43
MicrobiotaProcess/-2025-05-20 16:11:43
MOFA2/-2025-05-20 16:11:44
MLInterfaces/-2025-05-20 16:11:44
MMUPHin/-2025-05-20 16:11:44
MOGAMUN/-2025-05-20 16:11:44
MODA/-2025-05-20 16:11:44
MLP/-2025-05-20 16:11:44
MLSeq/-2025-05-20 16:11:44
ModCon/-2025-05-20 16:11:44
Modstrings/-2025-05-20 16:11:44
MIRit/-2025-05-20 16:11:44
MMDiff2/-2025-05-20 16:11:44
MouseFM/-2025-05-20 16:11:45
MoleculeExperiment/-2025-05-20 16:11:45
MotifDb/-2025-05-20 16:11:45
Motif2Site/-2025-05-20 16:11:45
MPFE/-2025-05-20 16:11:45
MOSClip/-2025-05-20 16:11:45
MOSim/-2025-05-20 16:11:45
MPRAnalyze/-2025-05-20 16:11:45
MsBackendMassbank/-2025-05-20 16:11:45
MoonlightR/-2025-05-20 16:11:45
MOMA/-2025-05-20 16:11:45
MotifPeeker/-2025-05-20 16:11:45
MsBackendMetaboLights/-2025-05-20 16:11:45
MPAC/-2025-05-20 16:11:45
Moonlight2R/-2025-05-20 16:11:45
MSA2dist/-2025-05-20 16:11:45
MSstats/-2025-05-20 16:11:46
MSstatsQC/-2025-05-20 16:11:46
MsBackendSql/-2025-05-20 16:11:46
MSstatsBig/-2025-05-20 16:11:46
MsDataHub/-2025-05-20 16:11:46
MSstatsBioNet/-2025-05-20 16:11:46
MsFeatures/-2025-05-20 16:11:46
MSstatsLiP/-2025-05-20 16:11:46
MsBackendMgf/-2025-05-20 16:11:46
MsQuality/-2025-05-20 16:11:46
MsBackendMsp/-2025-05-20 16:11:46
MsCoreUtils/-2025-05-20 16:11:46
MSnbase/-2025-05-20 16:11:46
MSstatsLOBD/-2025-05-20 16:11:46
MSstatsPTM/-2025-05-20 16:11:46
MSPrep/-2025-05-20 16:11:46
MsExperiment/-2025-05-20 16:11:46
MSstatsQCgui/-2025-05-20 16:11:46
MsBackendRawFileReader/-2025-05-20 16:11:46
MSnID/-2025-05-20 16:11:46
MSstatsConvert/-2025-05-20 16:11:46
MultiAssayExperiment/-2025-05-20 16:11:47
MSstatsTMT/-2025-05-20 16:11:47
MultimodalExperiment/-2025-05-20 16:11:47
MungeSumstats/-2025-05-20 16:11:47
MVCClass/-2025-05-20 16:11:47
MuData/-2025-05-20 16:11:47
MultiMed/-2025-05-20 16:11:47
MWASTools/-2025-05-20 16:11:47
Mulcom/-2025-05-20 16:11:47
MSstatsShiny/-2025-05-20 16:11:47
MultiDataSet/-2025-05-20 16:11:47
MultiBaC/-2025-05-20 16:11:47
MultiRNAflow/-2025-05-20 16:11:47
MutationalPatterns/-2025-05-20 16:11:47
Nebulosa/-2025-05-20 16:11:48
NanoTube/-2025-05-20 16:11:48
NADfinder/-2025-05-20 16:11:48
NewWave/-2025-05-20 16:11:48
NanoStringDiff/-2025-05-20 16:11:48
NetPathMiner/-2025-05-20 16:11:48
NetActivity/-2025-05-20 16:11:48
NanoStringNCTools/-2025-05-20 16:11:48
NBAMSeq/-2025-05-20 16:11:48
NCIgraph/-2025-05-20 16:11:48
NetSAM/-2025-05-20 16:11:48
NanoMethViz/-2025-05-20 16:11:48
OCplus/-2025-05-20 16:11:49
NormalyzerDE/-2025-05-20 16:11:49
NormqPCR/-2025-05-20 16:11:49
NOISeq/-2025-05-20 16:11:49
NoRCE/-2025-05-20 16:11:49
NPARC/-2025-05-20 16:11:49
OmicCircos/-2025-05-20 16:11:49
OLINgui/-2025-05-20 16:11:49
OLIN/-2025-05-20 16:11:49
NTW/-2025-05-20 16:11:49
OmaDB/-2025-05-20 16:11:49
OGRE/-2025-05-20 16:11:49
NuPoP/-2025-05-20 16:11:49
OncoSimulR/-2025-05-20 16:11:50
OpenStats/-2025-05-20 16:11:50
OmicsMLRepoR/-2025-05-20 16:11:50
OPWeight/-2025-05-20 16:11:50
OmnipathR/-2025-05-20 16:11:50
ORFik/-2025-05-20 16:11:50
Organism.dplyr/-2025-05-20 16:11:50
OMICsPCA/-2025-05-20 16:11:50
OncoScore/-2025-05-20 16:11:50
Omixer/-2025-05-20 16:11:50
OrderedList/-2025-05-20 16:11:50
ORFhunteR/-2025-05-20 16:11:50
OUTRIDER/-2025-05-20 16:11:51
OVESEG/-2025-05-20 16:11:51
PANR/-2025-05-20 16:11:51
Oscope/-2025-05-20 16:11:51
PanomiR/-2025-05-20 16:11:51
OrganismDbi/-2025-05-20 16:11:51
OSTA.data/-2025-05-20 16:11:51
PAA/-2025-05-20 16:11:51
OTUbase/-2025-05-20 16:11:51
OutSplice/-2025-05-20 16:11:51
PAIRADISE/-2025-05-20 16:11:51
PADOG/-2025-05-20 16:11:51
OSAT/-2025-05-20 16:11:51
PAST/-2025-05-20 16:11:52
PathoStat/-2025-05-20 16:11:52
PDATK/-2025-05-20 16:11:52
PeacoQC/-2025-05-20 16:11:52
PECA/-2025-05-20 16:11:52
PepSetTest/-2025-05-20 16:11:52
PCAN/-2025-05-20 16:11:52
Pedixplorer/-2025-05-20 16:11:52
PepsNMR/-2025-05-20 16:11:52
PCAtools/-2025-05-20 16:11:52
Path2PPI/-2025-05-20 16:11:52
PathNet/-2025-05-20 16:11:52
Pirat/-2025-05-20 16:11:53
PhyloProfile/-2025-05-20 16:11:53
PIPETS/-2025-05-20 16:11:53
PhenStat/-2025-05-20 16:11:53
PharmacoGx/-2025-05-20 16:11:53
PhIPData/-2025-05-20 16:11:53
PICB/-2025-05-20 16:11:53
PhosR/-2025-05-20 16:11:53
Pigengene/-2025-05-20 16:11:53
PIUMA/-2025-05-20 16:11:53
PhenoGeneRanker/-2025-05-20 16:11:53
POMA/-2025-05-20 16:11:54
PoDCall/-2025-05-20 16:11:54
PolySTest/-2025-05-20 16:11:54
PPInfer/-2025-05-20 16:11:54
POWSC/-2025-05-20 16:11:54
PLSDAbatch/-2025-05-20 16:11:54
PLPE/-2025-05-20 16:11:54
Polytect/-2025-05-20 16:11:54
PREDA/-2025-05-20 16:11:54
PROPER/-2025-05-20 16:11:55
PROMISE/-2025-05-20 16:11:55
PRONE/-2025-05-20 16:11:55
Prostar/-2025-05-20 16:11:55
PSMatch/-2025-05-20 16:11:55
ProteoDisco/-2025-05-20 16:11:55
ProtGenerics/-2025-05-20 16:11:55
PROPS/-2025-05-20 16:11:55
ProteoMM/-2025-05-20 16:11:55
PrInCE/-2025-05-20 16:11:55
PROcess/-2025-05-20 16:11:55
Pviz/-2025-05-20 16:11:56
QuaternaryProd/-2025-05-20 16:11:56
PureCN/-2025-05-20 16:11:56
QUBIC/-2025-05-20 16:11:56
QFeatures/-2025-05-20 16:11:56
QDNAseq/-2025-05-20 16:11:56
Qtlizer/-2025-05-20 16:11:56
PWMEnrich/-2025-05-20 16:11:56
QRscore/-2025-05-20 16:11:56
QTLExperiment/-2025-05-20 16:11:56
QSutils/-2025-05-20 16:11:56
QuasR/-2025-05-20 16:11:56
RAIDS/-2025-05-20 16:11:57
RAREsim/-2025-05-20 16:11:57
RankProd/-2025-05-20 16:11:57
R3CPET/-2025-05-20 16:11:57
RareVariantVis/-2025-05-20 16:11:57
Rarr/-2025-05-20 16:11:57
RadioGx/-2025-05-20 16:11:57
R453Plus1Toolbox/-2025-05-20 16:11:57
RbcBook1/-2025-05-20 16:11:57
RaggedExperiment/-2025-05-20 16:11:57
R4RNA/-2025-05-20 16:11:57
Rbec/-2025-05-20 16:11:57
RBGL/-2025-05-20 16:11:58
Rbowtie/-2025-05-20 16:11:58
RcisTarget/-2025-05-20 16:11:58
Rbowtie2/-2025-05-20 16:11:58
RBioFormats/-2025-05-20 16:11:58
Rcpi/-2025-05-20 16:11:58
Rbwa/-2025-05-20 16:11:58
RBM/-2025-05-20 16:11:58
Rcollectl/-2025-05-20 16:11:58
RCASPAR/-2025-05-20 16:11:58
RCAS/-2025-05-20 16:11:58
RCM/-2025-05-20 16:11:58
RedisParam/-2025-05-20 16:11:59
REBET/-2025-05-20 16:11:59
RCy3/-2025-05-20 16:11:59
REDseq/-2025-05-20 16:11:59
RCyjs/-2025-05-20 16:11:59
RcwlPipelines/-2025-05-20 16:11:59
RCX/-2025-05-20 16:11:59
ReadqPCR/-2025-05-20 16:11:59
RegEnrich/-2025-05-20 16:11:59
ReactomePA/-2025-05-20 16:11:59
ReactomeGraph4R/-2025-05-20 16:11:59
Rcwl/-2025-05-20 16:11:59
ReducedExperiment/-2025-05-20 16:11:59
RDRToolbox/-2025-05-20 16:11:59
Rdisop/-2025-05-20 16:11:59
RCSL/-2025-05-20 16:11:59
RegionalST/-2025-05-20 16:11:59
RedeR/-2025-05-20 16:11:59
ReactomeGSA/-2025-05-20 16:11:59
ReUseData/-2025-05-20 16:12:00
RGraph2js/-2025-05-20 16:12:00
Rfastp/-2025-05-20 16:12:00
Repitools/-2025-05-20 16:12:00
RFLOMICS/-2025-05-20 16:12:00
RGSEA/-2025-05-20 16:12:00
ResidualMatrix/-2025-05-20 16:12:00
Rgraphviz/-2025-05-20 16:12:00
RepViz/-2025-05-20 16:12:00
ReportingTools/-2025-05-20 16:12:00
RESOLVE/-2025-05-20 16:12:00
REMP/-2025-05-20 16:12:00
RgnTX/-2025-05-20 16:12:00
RLassoCox/-2025-05-20 16:12:01
Rhtslib/-2025-05-20 16:12:01
RIVER/-2025-05-20 16:12:01
Rmagpie/-2025-05-20 16:12:01
RImmPort/-2025-05-20 16:12:01
Rhisat2/-2025-05-20 16:12:01
Rhdf5lib/-2025-05-20 16:12:01
RITAN/-2025-05-20 16:12:01
RiboCrypt/-2025-05-20 16:12:01
RiboDiPA/-2025-05-20 16:12:01
Rigraphlib/-2025-05-20 16:12:01
Rmmquant/-2025-05-20 16:12:01
RMassBank/-2025-05-20 16:12:01
RiboProfiling/-2025-05-20 16:12:01
RLMM/-2025-05-20 16:12:01
RJMCMCNucleosomes/-2025-05-20 16:12:01
RolDE/-2025-05-20 16:12:02
ROntoTools/-2025-05-20 16:12:02
RNAmodR/-2025-05-20 16:12:02
RProtoBufLib/-2025-05-20 16:12:02
RnBeads/-2025-05-20 16:12:02
ROCpAI/-2025-05-20 16:12:02
ROSeq/-2025-05-20 16:12:02
ROC/-2025-05-20 16:12:02
RNASeqPower/-2025-05-20 16:12:02
RNAmodR.RiboMethSeq/-2025-05-20 16:12:02
RNAdecay/-2025-05-20 16:12:02
RNAmodR.ML/-2025-05-20 16:12:02
RNAAgeCalc/-2025-05-20 16:12:02
RPA/-2025-05-20 16:12:02
Rnits/-2025-05-20 16:12:02
RnaSeqSampleSize/-2025-05-20 16:12:02
ROTS/-2025-05-20 16:12:02
RNAseqCovarImpute/-2025-05-20 16:12:02
RNAsense/-2025-05-20 16:12:02
RNAmodR.AlkAnilineSeq/-2025-05-20 16:12:02
RTopper/-2025-05-20 16:12:03
Rsamtools/-2025-05-20 16:12:03
RTCGAToolbox/-2025-05-20 16:12:03
RSeqAn/-2025-05-20 16:12:03
RTNsurvival/-2025-05-20 16:12:03
Rtpca/-2025-05-20 16:12:03
RUCova/-2025-05-20 16:12:03
RUVcorr/-2025-05-20 16:12:03
RTCGA/-2025-05-20 16:12:03
RTN/-2025-05-20 16:12:03
RRHO/-2025-05-20 16:12:03
Rqc/-2025-05-20 16:12:03
RTCA/-2025-05-20 16:12:03
RSVSim/-2025-05-20 16:12:03
RTNduals/-2025-05-20 16:12:03
Rsubread/-2025-05-20 16:12:03
SBMLR/-2025-05-20 16:12:04
SARC/-2025-05-20 16:12:04
RVS/-2025-05-20 16:12:04
SC3/-2025-05-20 16:12:04
S4Vectors/-2025-05-20 16:12:04
Scale4C/-2025-05-20 16:12:04
SBGNview/-2025-05-20 16:12:04
SANTA/-2025-05-20 16:12:04
Rvisdiff/-2025-05-20 16:12:04
SamSPECTRAL/-2025-05-20 16:12:04
ScaledMatrix/-2025-05-20 16:12:04
RUVSeq/-2025-05-20 16:12:04
SAIGEgds/-2025-05-20 16:12:04
S4Arrays/-2025-05-20 16:12:04
RUVnormalize/-2025-05-20 16:12:04
SCAN.UPC/-2025-05-20 16:12:04
SCANVIS/-2025-05-20 16:12:05
SCArray/-2025-05-20 16:12:05
SCBN/-2025-05-20 16:12:05
SCFA/-2025-05-20 16:12:05
SCArray.sat/-2025-05-20 16:12:05
ScreenR/-2025-05-20 16:12:06
Sconify/-2025-05-20 16:12:06
SCOPE/-2025-05-20 16:12:06
SCnorm/-2025-05-20 16:12:06
SDAMS/-2025-05-20 16:12:07
SELEX/-2025-05-20 16:12:07
SeqGate/-2025-05-20 16:12:07
SeqGSEA/-2025-05-20 16:12:07
SeqArray/-2025-05-20 16:12:07
SemDist/-2025-05-20 16:12:07
SEtools/-2025-05-20 16:12:08
SICtools/-2025-05-20 16:12:08
SEraster/-2025-05-20 16:12:08
SigFuge/-2025-05-20 16:12:08
SigCheck/-2025-05-20 16:12:08
SharedObject/-2025-05-20 16:12:08
ShortRead/-2025-05-20 16:12:08
SeqSQC/-2025-05-20 16:12:08
SIAMCAT/-2025-05-20 16:12:08
SGSeq/-2025-05-20 16:12:08
SeqVarTools/-2025-05-20 16:12:08
SGCP/-2025-05-20 16:12:08
SingleMoleculeFootprinting/-2025-05-20 16:12:09
SigsPack/-2025-05-20 16:12:09
SingleCellSignalR/-2025-05-20 16:12:09
SIMD/-2025-05-20 16:12:09
SingleR/-2025-05-20 16:12:09
SIM/-2025-05-20 16:12:09
SimFFPE/-2025-05-20 16:12:09
SiPSiC/-2025-05-20 16:12:09
Site2Target/-2025-05-20 16:12:09
SingleCellAlleleExperiment/-2025-05-20 16:12:09
SimBu/-2025-05-20 16:12:09
SIMLR/-2025-05-20 16:12:09
SIMAT/-2025-05-20 16:12:09
SingleCellExperiment/-2025-05-20 16:12:09
SomaticSignatures/-2025-05-20 16:12:10
SLqPCR/-2025-05-20 16:12:10
SMITE/-2025-05-20 16:12:10
SNAGEE/-2025-05-20 16:12:10
SMAD/-2025-05-20 16:12:10
SpaNorm/-2025-05-20 16:12:10
SNPhood/-2025-05-20 16:12:10
SNPediaR/-2025-05-20 16:12:10
SpaceMarkers/-2025-05-20 16:12:10
SNPRelate/-2025-05-20 16:12:10
SOMNiBUS/-2025-05-20 16:12:10
SparseArray/-2025-05-20 16:12:10
Spaniel/-2025-05-20 16:12:10
SpatialOmicsOverlay/-2025-05-20 16:12:11
SparseSignatures/-2025-05-20 16:12:11
SpectraQL/-2025-05-20 16:12:11
SpeCond/-2025-05-20 16:12:11
SpatialExperiment/-2025-05-20 16:12:11
SPIAT/-2025-05-20 16:12:11
SpectralTAD/-2025-05-20 16:12:11
SPEM/-2025-05-20 16:12:11
Spectra/-2025-05-20 16:12:11
SpatialFeatureExperiment/-2025-05-20 16:12:11
SpatialCPie/-2025-05-20 16:12:11
SPIA/-2025-05-20 16:12:11
SpatialExperimentIO/-2025-05-20 16:12:11
SpatialDecon/-2025-05-20 16:12:11
SRAdb/-2025-05-20 16:12:12
SpotSweeper/-2025-05-20 16:12:12
SplicingFactory/-2025-05-20 16:12:12
SPOTlight/-2025-05-20 16:12:12
SPLINTER/-2025-05-20 16:12:12
SplicingGraphs/-2025-05-20 16:12:12
SpotClean/-2025-05-20 16:12:12
SPsimSeq/-2025-05-20 16:12:12
SQLDataFrame/-2025-05-20 16:12:12
SpliceWiz/-2025-05-20 16:12:12
SplineDV/-2025-05-20 16:12:12
SPONGE/-2025-05-20 16:12:12
Structstrings/-2025-05-20 16:12:13
STRINGdb/-2025-05-20 16:12:13
Streamer/-2025-05-20 16:12:13
SurfR/-2025-05-20 16:12:13
STATegRa/-2025-05-20 16:12:13
SubCellBarCode/-2025-05-20 16:12:13
StabMap/-2025-05-20 16:12:13
SUITOR/-2025-05-20 16:12:13
Statial/-2025-05-20 16:12:13
StructuralVariantAnnotation/-2025-05-20 16:12:13
Summix/-2025-05-20 16:12:13
SummarizedExperiment/-2025-05-20 16:12:13
SwathXtend/-2025-05-20 16:12:14
TAPseq/-2025-05-20 16:12:14
SVP/-2025-05-20 16:12:14
SynMut/-2025-05-20 16:12:14
TargetDecoy/-2025-05-20 16:12:14
SVMDO/-2025-05-20 16:12:14
TADCompare/-2025-05-20 16:12:14
SWATH2stats/-2025-05-20 16:12:14
SynExtend/-2025-05-20 16:12:14
TCC/-2025-05-20 16:12:15
TCGAutils/-2025-05-20 16:12:15
TFARM/-2025-05-20 16:12:15
TFEA.ChIP/-2025-05-20 16:12:15
TFutils/-2025-05-20 16:12:15
TCGAbiolinks/-2025-05-20 16:12:15
TFBSTools/-2025-05-20 16:12:15
TEKRABber/-2025-05-20 16:12:15
TENxIO/-2025-05-20 16:12:15
TEQC/-2025-05-20 16:12:15
TargetScore/-2025-05-20 16:12:15
TaxSEA/-2025-05-20 16:12:15
TBSignatureProfiler/-2025-05-20 16:12:15
TargetSearch/-2025-05-20 16:12:15
TDbasedUFEadv/-2025-05-20 16:12:15
TDbasedUFE/-2025-05-20 16:12:15
TCseq/-2025-05-20 16:12:15
TENET/-2025-05-20 16:12:15
TFHAZ/-2025-05-20 16:12:15
TMSig/-2025-05-20 16:12:16
TileDBArray/-2025-05-20 16:12:16
TissueEnrich/-2025-05-20 16:12:16
TMixClust/-2025-05-20 16:12:16
TitanCNA/-2025-05-20 16:12:16
TIN/-2025-05-20 16:12:16
TnT/-2025-05-20 16:12:16
TOAST/-2025-05-20 16:12:16
TOP/-2025-05-20 16:12:16
TrajectoryGeometry/-2025-05-20 16:12:17
TreeAndLeaf/-2025-05-20 16:12:17
TrajectoryUtils/-2025-05-20 16:12:17
TransView/-2025-05-20 16:12:17
ToxicoGx/-2025-05-20 16:12:17
TPP2D/-2025-05-20 16:12:17
TreeSummarizedExperiment/-2025-05-20 16:12:17
TPP/-2025-05-20 16:12:17
TRONCO/-2025-05-20 16:12:18
TurboNorm/-2025-05-20 16:12:18
TrIdent/-2025-05-20 16:12:18
TRESS/-2025-05-20 16:12:18
TREG/-2025-05-20 16:12:18
Trendy/-2025-05-20 16:12:18
TVTB/-2025-05-20 16:12:18
TTMap/-2025-05-20 16:12:18
TSCAN/-2025-05-20 16:12:18
TSAR/-2025-05-20 16:12:18
VariantTools/-2025-05-20 16:12:19
VaSP/-2025-05-20 16:12:19
UniProt.ws/-2025-05-20 16:12:19
Uniquorn/-2025-05-20 16:12:19
VanillaICE/-2025-05-20 16:12:19
VarCon/-2025-05-20 16:12:19
UNDO/-2025-05-20 16:12:19
Ularcirc/-2025-05-20 16:12:19
VDJdive/-2025-05-20 16:12:19
VariantExperiment/-2025-05-20 16:12:19
VariantAnnotation/-2025-05-20 16:12:19
VariantFiltering/-2025-05-20 16:12:19
UPDhmm/-2025-05-20 16:12:19
UCell/-2025-05-20 16:12:19
UCSC.utils/-2025-05-20 16:12:19
VAExprs/-2025-05-20 16:12:19
UMI4Cats/-2025-05-20 16:12:19
VCFArray/-2025-05-20 16:12:19
VennDetail/-2025-05-20 16:12:20
VplotR/-2025-05-20 16:12:20
Voyager/-2025-05-20 16:12:20
VisiumIO/-2025-05-20 16:12:20
VERSO/-2025-05-20 16:12:20
ViSEAGO/-2025-05-20 16:12:20
VegaMC/-2025-05-20 16:12:20
XDE/-2025-05-20 16:12:21
ZygosityPredictor/-2025-05-20 16:12:21
XeniumIO/-2025-05-20 16:12:21
XINA/-2025-05-20 16:12:21
Wrench/-2025-05-20 16:12:21
YAPSA/-2025-05-20 16:12:21
Xeva/-2025-05-20 16:12:21
XVector/-2025-05-20 16:12:21
XAItest/-2025-05-20 16:12:21
XNAString/-2025-05-20 16:12:21
biobroom/-2025-05-20 19:04:33
ABarray/-2025-05-21 16:11:06
ADImpute/-2025-05-21 16:11:07
AffiXcan/-2025-05-21 16:11:07
ADAM/-2025-05-21 16:11:07
AgiMicroRna/-2025-05-21 16:11:07
AIMS/-2025-05-21 16:11:07
AGDEX/-2025-05-21 16:11:07
AHMassBank/-2025-05-21 16:11:07
ACE/-2025-05-21 16:11:07
ADaCGH2/-2025-05-21 16:11:07
ADAPT/-2025-05-21 16:11:07
ADAMgui/-2025-05-21 16:11:07
ACME/-2025-05-21 16:11:07
AffyRNADegradation/-2025-05-21 16:11:07
ABSSeq/-2025-05-21 16:11:07
Anaquin/-2025-05-21 16:11:08
AlphaMissenseR/-2025-05-21 16:11:08
AMOUNTAIN/-2025-05-21 16:11:08
AllelicImbalance/-2025-05-21 16:11:08
ALDEx2/-2025-05-21 16:11:08
AlphaBeta/-2025-05-21 16:11:08
ANCOMBC/-2025-05-21 16:11:08
ANF/-2025-05-21 16:11:08
AlpsNMR/-2025-05-21 16:11:08
AMARETTO/-2025-05-21 16:11:08
APL/-2025-05-21 16:11:09
ARRmNormalization/-2025-05-21 16:11:09
AnVILGCP/-2025-05-21 16:11:09
AnVILPublish/-2025-05-21 16:11:09
AnnotationFilter/-2025-05-21 16:11:09
AnVILBase/-2025-05-21 16:11:09
AnnotationHub/-2025-05-21 16:11:09
AnnotationForge/-2025-05-21 16:11:09
AnnotationDbi/-2025-05-21 16:11:09
AnVIL/-2025-05-21 16:11:09
APAlyzer/-2025-05-21 16:11:09
AnnotationHubData/-2025-05-21 16:11:09
AnVILBilling/-2025-05-21 16:11:09
AnVILAz/-2025-05-21 16:11:09
AnVILWorkflow/-2025-05-21 16:11:09
ArrayExpress/-2025-05-21 16:11:09
BaalChIP/-2025-05-21 16:11:10
Banksy/-2025-05-21 16:11:10
BadRegionFinder/-2025-05-21 16:11:10
ASAFE/-2025-05-21 16:11:10
ASICS/-2025-05-21 16:11:10
ASEB/-2025-05-21 16:11:10
BANDITS/-2025-05-21 16:11:10
ASSIGN/-2025-05-21 16:11:10
ASpli/-2025-05-21 16:11:10
AUCell/-2025-05-21 16:11:10
ASGSCA/-2025-05-21 16:11:10
ATACseqQC/-2025-05-21 16:11:10
BAGS/-2025-05-21 16:11:10
ASSET/-2025-05-21 16:11:10
ATACseqTFEA/-2025-05-21 16:11:10
ASURAT/-2025-05-21 16:11:10
BADER/-2025-05-21 16:11:10
AssessORF/-2025-05-21 16:11:10
AWFisher/-2025-05-21 16:11:10
BEAT/-2025-05-21 16:11:11
BEclear/-2025-05-21 16:11:11
BASiCStan/-2025-05-21 16:11:11
BayesKnockdown/-2025-05-21 16:11:11
BaseSpaceR/-2025-05-21 16:11:11
BatchQC/-2025-05-21 16:11:11
BBCAnalyzer/-2025-05-21 16:11:11
BeadDataPackR/-2025-05-21 16:11:11
BASiCS/-2025-05-21 16:11:11
BasicSTARRseq/-2025-05-21 16:11:11
BayesSpace/-2025-05-21 16:11:11
BCRANK/-2025-05-21 16:11:11
Basic4Cseq/-2025-05-21 16:11:11
BatchSVG/-2025-05-21 16:11:11
BERT/-2025-05-21 16:11:11
BgeeDB/-2025-05-21 16:11:12
BiocCheck/-2025-05-21 16:11:12
BiGGR/-2025-05-21 16:11:12
BioCor/-2025-05-21 16:11:12
BiocFileCache/-2025-05-21 16:11:12
BiocParallel/-2025-05-21 16:11:12
BgeeCall/-2025-05-21 16:11:12
BiocNeighbors/-2025-05-21 16:11:12
BiFET/-2025-05-21 16:11:12
BindingSiteFinder/-2025-05-21 16:11:12
BiocFHIR/-2025-05-21 16:11:12
BiocBook/-2025-05-21 16:11:12
BiocGenerics/-2025-05-21 16:11:12
Biobase/-2025-05-21 16:11:12
BioCartaImage/-2025-05-21 16:11:12
BG2/-2025-05-21 16:11:12
BiocBaseUtils/-2025-05-21 16:11:12
BiocIO/-2025-05-21 16:11:12
BiocHubsShiny/-2025-05-21 16:11:12
BiocPkgTools/-2025-05-21 16:11:12
BicARE/-2025-05-21 16:11:12
BiocHail/-2025-05-21 16:11:12
BioTIP/-2025-05-21 16:11:13
BioNAR/-2025-05-21 16:11:13
BioGA/-2025-05-21 16:11:13
BiocStyle/-2025-05-21 16:11:13
Biostrings/-2025-05-21 16:11:13
BiocSingular/-2025-05-21 16:11:13
BioNERO/-2025-05-21 16:11:13
BiocWorkflowTools/-2025-05-21 16:11:13
BioQC/-2025-05-21 16:11:13
BiocSet/-2025-05-21 16:11:13
BioMVCClass/-2025-05-21 16:11:13
BiocSklearn/-2025-05-21 16:11:13
BioNet/-2025-05-21 16:11:13
BiocVersion/-2025-05-21 16:11:13
BufferedMatrixMethods/-2025-05-21 16:11:14
BLMA/-2025-05-21 16:11:14
BiSeq/-2025-05-21 16:11:14
BPRMeth/-2025-05-21 16:11:14
BufferedMatrix/-2025-05-21 16:11:14
BubbleTree/-2025-05-21 16:11:14
BREW3R.r/-2025-05-21 16:11:14
BRAIN/-2025-05-21 16:11:14
BrowserViz/-2025-05-21 16:11:14
BiRewire/-2025-05-21 16:11:14
BloodGen3Module/-2025-05-21 16:11:14
BulkSignalR/-2025-05-21 16:11:14
BridgeDbR/-2025-05-21 16:11:14
BOBaFIT/-2025-05-21 16:11:14
BSgenomeForge/-2025-05-21 16:11:14
BUMHMM/-2025-05-21 16:11:14
BSgenome/-2025-05-21 16:11:14
BreastSubtypeR/-2025-05-21 16:11:14
CausalR/-2025-05-21 16:11:15
CAFE/-2025-05-21 16:11:15
CAGEr/-2025-05-21 16:11:15
CaMutQC/-2025-05-21 16:11:15
CatsCradle/-2025-05-21 16:11:15
BUSpaRse/-2025-05-21 16:11:15
CardinalIO/-2025-05-21 16:11:15
CAEN/-2025-05-21 16:11:15
CATALYST/-2025-05-21 16:11:15
BUS/-2025-05-21 16:11:15
CARNIVAL/-2025-05-21 16:11:15
CARDspa/-2025-05-21 16:11:15
CaDrA/-2025-05-21 16:11:15
Category/-2025-05-21 16:11:15
CAMERA/-2025-05-21 16:11:15
CAGEfightR/-2025-05-21 16:11:15
BUSseq/-2025-05-21 16:11:15
BUScorrect/-2025-05-21 16:11:15
Cardinal/-2025-05-21 16:11:15
BumpyMatrix/-2025-05-21 16:11:15
CellBarcode/-2025-05-21 16:11:16
CCPlotR/-2025-05-21 16:11:16
CDI/-2025-05-21 16:11:16
CellMapper/-2025-05-21 16:11:16
CEMiTool/-2025-05-21 16:11:16
CCAFE/-2025-05-21 16:11:16
CBNplot/-2025-05-21 16:11:16
CellBench/-2025-05-21 16:11:16
CCPROMISE/-2025-05-21 16:11:16
CGHbase/-2025-05-21 16:11:17
CeTF/-2025-05-21 16:11:17
CHETAH/-2025-05-21 16:11:17
CGHcall/-2025-05-21 16:11:17
CGHnormaliter/-2025-05-21 16:11:17
CGEN/-2025-05-21 16:11:17
CGHregions/-2025-05-21 16:11:17
CFAssay/-2025-05-21 16:11:17
CINdex/-2025-05-21 16:11:18
CIMICE/-2025-05-21 16:11:18
CHRONOS/-2025-05-21 16:11:18
CNViz/-2025-05-21 16:11:19
CNVMetrics/-2025-05-21 16:11:19
CNORfuzzy/-2025-05-21 16:11:19
CNORfeeder/-2025-05-21 16:11:19
CNORode/-2025-05-21 16:11:19
CNEr/-2025-05-21 16:11:19
CNAnorm/-2025-05-21 16:11:19
CNVfilteR/-2025-05-21 16:11:19
CNTools/-2025-05-21 16:11:19
CMA/-2025-05-21 16:11:19
CNORdt/-2025-05-21 16:11:19
CONFESS/-2025-05-21 16:11:20
COMPASS/-2025-05-21 16:11:20
COCOA/-2025-05-21 16:11:20
CODEX/-2025-05-21 16:11:20
CNVRanger/-2025-05-21 16:11:20
CNVrd2/-2025-05-21 16:11:20
CNVPanelizer/-2025-05-21 16:11:20
CRImage/-2025-05-21 16:11:21
COSNet/-2025-05-21 16:11:21
CONSTANd/-2025-05-21 16:11:21
CPSM/-2025-05-21 16:11:21
CRISPRball/-2025-05-21 16:11:21
COTAN/-2025-05-21 16:11:21
CSSQ/-2025-05-21 16:11:22
CTDquerier/-2025-05-21 16:11:22
CTexploreR/-2025-05-21 16:11:22
CRISPRseek/-2025-05-21 16:11:22
CTSV/-2025-05-21 16:11:22
CTdata/-2025-05-21 16:11:22
CSAR/-2025-05-21 18:38:12
PROPAGATION_STATUS_DB.txt693.9 KiB2025-05-21 16:02:24
meat-index.dcf236.3 KiB2025-05-21 16:02:24
pkg_dep_graph.txt382.3 KiB2025-05-21 16:02:24
BUILD_STATUS_DB.txt1.2 MiB2025-05-21 16:02:24
skipped-index.dcf0 B2025-05-21 16:02:24
DEVEL3b.png2.6 KiB2025-05-21 16:02:25
taishan-NodeInfo.html7.6 KiB2025-05-21 16:02:25
120px-Red_Light_Icon.svg.png7.0 KiB2025-05-21 16:02:25
nebbiolo2-R-instpkgs.html520.4 KiB2025-05-21 16:02:25
kjohnson3-NodeInfo.html6.7 KiB2025-05-21 16:02:25
palomino8-NodeInfo.html7.0 KiB2025-05-21 16:02:25
kjohnson3-R-instpkgs.html597.2 KiB2025-05-21 16:02:25
palomino8-R-instpkgs.html463.6 KiB2025-05-21 16:02:25
report.js6.0 KiB2025-05-21 16:02:25
Renviron.bioc3.3 KiB2025-05-21 16:02:25
120px-Blue_Light_Icon.svg.png7.1 KiB2025-05-21 16:02:25
120px-Green_Light_Icon.svg.png7.1 KiB2025-05-21 16:02:25
lconway-NodeInfo.html6.7 KiB2025-05-21 16:02:25
taishan-R-instpkgs.html462.2 KiB2025-05-21 16:02:25
report.css11.2 KiB2025-05-21 16:02:25
lconway-R-instpkgs.html609.5 KiB2025-05-21 16:02:25
nebbiolo2-NodeInfo.html7.1 KiB2025-05-21 16:02:25
nebbiolo2-index.html2.9 MiB2025-05-21 16:12:30
palomino8-index.html3.3 MiB2025-05-21 16:12:33
lconway-index.html3.3 MiB2025-05-21 16:12:38
kjohnson3-index.html3.3 MiB2025-05-21 16:12:44
taishan-index.html2.5 MiB2025-05-21 16:12:50
index.html1.3 MiB2025-05-21 16:12:50
long-report.html16.2 MiB2025-05-21 16:13:12
report.tgz118.9 MiB2025-05-21 16:14:30