Back to Multiple platform build/check report for BioC 3.7 |
|
This page was generated on 2018-10-17 08:53:26 -0400 (Wed, 17 Oct 2018).
Package 842/1561 | Hostname | OS / Arch | INSTALL | BUILD | CHECK | BUILD BIN | ||||||
MBASED 1.14.0 Oleg Mayba
| malbec2 | Linux (Ubuntu 16.04.1 LTS) / x86_64 | OK | OK | OK | ![]() | ||||||
tokay2 | Windows Server 2012 R2 Standard / x64 | OK | OK | OK | OK | ![]() | ||||||
merida2 | OS X 10.11.6 El Capitan / x86_64 | OK | OK | OK | [ OK ] | ![]() |
Package: MBASED |
Version: 1.14.0 |
Command: rm -rf MBASED.buildbin-libdir && mkdir MBASED.buildbin-libdir && /Users/biocbuild/BBS/utils/build-universal.sh MBASED_1.14.0.tar.gz /Library/Frameworks/R.framework/Versions/Current/Resources/bin/R MBASED.buildbin-libdir |
StartedAt: 2018-10-17 01:38:40 -0400 (Wed, 17 Oct 2018) |
EndedAt: 2018-10-17 01:39:28 -0400 (Wed, 17 Oct 2018) |
EllapsedTime: 47.5 seconds |
RetCode: 0 |
Status: OK |
PackageFile: MBASED_1.14.0.tgz |
PackageFileSize: 463 KiB |
############################################################################## ############################################################################## ### ### Running command: ### ### rm -rf MBASED.buildbin-libdir && mkdir MBASED.buildbin-libdir && /Users/biocbuild/BBS/utils/build-universal.sh MBASED_1.14.0.tar.gz /Library/Frameworks/R.framework/Versions/Current/Resources/bin/R MBASED.buildbin-libdir ### ############################################################################## ############################################################################## >>>>>>> >>>>>>> INSTALLATION WITH 'R CMD INSTALL --preclean --no-multiarch --library=MBASED.buildbin-libdir MBASED_1.14.0.tar.gz' >>>>>>> * installing *source* package ‘MBASED’ ... ** R ** inst ** byte-compile and prepare package for lazy loading ** help *** installing help indices ** building package indices ** installing vignettes ** testing if installed package can be loaded * DONE (MBASED)