BioC 3.6: CHECK report for annotate on tokay1
This page was generated on 2017-08-16 13:26:04 -0400 (Wed, 16 Aug 2017).
annotate 1.55.0 Bioconductor Package Maintainer
Snapshot Date: 2017-08-15 17:18:21 -0400 (Tue, 15 Aug 2017) | URL: https://hedgehog.fhcrc.org/bioconductor/trunk/madman/Rpacks/annotate | Last Changed Rev: 129129 / Revision: 131943 | Last Changed Date: 2017-04-24 15:50:57 -0400 (Mon, 24 Apr 2017) |
| malbec1 | Linux (Ubuntu 16.04.1 LTS) / x86_64 | OK | OK | OK | |  |
tokay1 | Windows Server 2012 R2 Standard / x64 | OK | OK | [ OK ] | OK |  |
veracruz1 | OS X 10.11.6 El Capitan / x86_64 | OK | OK | OK | OK |  |
Summary
Package: annotate
|
Version: 1.55.0
|
Command: rm -rf annotate.buildbin-libdir annotate.Rcheck && mkdir annotate.buildbin-libdir annotate.Rcheck && C:\Users\biocbuild\bbs-3.6-bioc\R\bin\R.exe CMD INSTALL --build --merge-multiarch --library=annotate.buildbin-libdir annotate_1.55.0.tar.gz >annotate.Rcheck\00install.out 2>&1 && cp annotate.Rcheck\00install.out annotate-install.out && C:\Users\biocbuild\bbs-3.6-bioc\R\bin\R.exe CMD check --library=annotate.buildbin-libdir --install="check:annotate-install.out" --force-multiarch --no-vignettes --timings annotate_1.55.0.tar.gz
|
StartedAt: 2017-08-15 21:42:41 -0400 (Tue, 15 Aug 2017)
|
EndedAt: 2017-08-15 21:47:08 -0400 (Tue, 15 Aug 2017)
|
EllapsedTime: 267.6 seconds
|
RetCode: 0
|
Status: OK
|
CheckDir: annotate.Rcheck
|
Warnings: 0
|
Command output
##############################################################################
##############################################################################
###
### Running command:
###
### rm -rf annotate.buildbin-libdir annotate.Rcheck && mkdir annotate.buildbin-libdir annotate.Rcheck && C:\Users\biocbuild\bbs-3.6-bioc\R\bin\R.exe CMD INSTALL --build --merge-multiarch --library=annotate.buildbin-libdir annotate_1.55.0.tar.gz >annotate.Rcheck\00install.out 2>&1 && cp annotate.Rcheck\00install.out annotate-install.out && C:\Users\biocbuild\bbs-3.6-bioc\R\bin\R.exe CMD check --library=annotate.buildbin-libdir --install="check:annotate-install.out" --force-multiarch --no-vignettes --timings annotate_1.55.0.tar.gz
###
##############################################################################
##############################################################################
* using log directory 'C:/Users/biocbuild/bbs-3.6-bioc/meat/annotate.Rcheck'
* using R version 3.4.1 (2017-06-30)
* using platform: x86_64-w64-mingw32 (64-bit)
* using session charset: ISO8859-1
* using option '--no-vignettes'
* checking for file 'annotate/DESCRIPTION' ... OK
* this is package 'annotate' version '1.55.0'
* checking package namespace information ... OK
* checking package dependencies ... OK
* checking if this is a source package ... OK
* checking if there is a namespace ... OK
* checking for hidden files and directories ... OK
* checking for portable file names ... OK
* checking whether package 'annotate' can be installed ... OK
* checking installed package size ... OK
* checking package directory ... OK
* checking 'build' directory ... OK
* checking DESCRIPTION meta-information ... OK
* checking top-level files ... OK
* checking for left-over files ... OK
* checking index information ... OK
* checking package subdirectories ... OK
* checking R files for non-ASCII characters ... OK
* checking R files for syntax errors ... OK
* loading checks for arch 'i386'
** checking whether the package can be loaded ... OK
** checking whether the package can be loaded with stated dependencies ... OK
** checking whether the package can be unloaded cleanly ... OK
** checking whether the namespace can be loaded with stated dependencies ... OK
** checking whether the namespace can be unloaded cleanly ... OK
* loading checks for arch 'x64'
** checking whether the package can be loaded ... OK
** checking whether the package can be loaded with stated dependencies ... OK
** checking whether the package can be unloaded cleanly ... OK
** checking whether the namespace can be loaded with stated dependencies ... OK
** checking whether the namespace can be unloaded cleanly ... OK
* checking dependencies in R code ... OK
* checking S3 generic/method consistency ... OK
* checking replacement functions ... OK
* checking foreign function calls ... OK
* checking R code for possible problems ... OK
* checking Rd files ... OK
* checking Rd metadata ... OK
* checking Rd cross-references ... OK
* checking for missing documentation entries ... OK
* checking for code/documentation mismatches ... OK
* checking Rd \usage sections ... OK
* checking Rd contents ... OK
* checking for unstated dependencies in examples ... OK
* checking contents of 'data' directory ... OK
* checking data for non-ASCII characters ... OK
* checking data for ASCII and uncompressed saves ... OK
* checking installed files from 'inst/doc' ... OK
* checking files in 'vignettes' ... OK
* checking examples ...
** running examples for arch 'i386' ... OK
Examples with CPU or elapsed time > 5s
user system elapsed
chrCats 8.78 0.03 9.93
blastSequences 0.29 0.02 24.13
** running examples for arch 'x64' ... OK
Examples with CPU or elapsed time > 5s
user system elapsed
chrCats 11.66 0.0 11.66
accessionToUID 3.49 0.1 5.01
blastSequences 0.19 0.0 23.43
* checking for unstated dependencies in 'tests' ... OK
* checking tests ...
** running tests for arch 'i386' ...
Running 'annotate_unit_tests.R'
OK
** running tests for arch 'x64' ...
Running 'annotate_unit_tests.R'
OK
* checking for unstated dependencies in vignettes ... OK
* checking package vignettes in 'inst/doc' ... OK
* checking running R code from vignettes ... SKIPPED
* checking re-building of vignette outputs ... SKIPPED
* checking PDF version of manual ... OK
* DONE
Status: OK
annotate.Rcheck/00install.out:
install for i386
* installing *source* package 'annotate' ...
** R
** data
** inst
** preparing package for lazy loading
** help
*** installing help indices
** building package indices
** installing vignettes
** testing if installed package can be loaded
install for x64
* installing *source* package 'annotate' ...
** testing if installed package can be loaded
* MD5 sums
packaged installation of 'annotate' as annotate_1.55.0.zip
* DONE (annotate)
annotate.Rcheck/examples_i386/annotate-Ex.timings:
name | user | system | elapsed
|
ACCNUMStats | 1.52 | 0.00 | 1.53 |
|
GO2heatmap | 0.27 | 0.01 | 0.58 |
|
GOmnplot | 0.12 | 0.00 | 0.12 |
|
HTMLPage-class | 0 | 0 | 0 |
|
LL2homology | 0 | 0 | 0 |
|
PMIDAmat | 0.12 | 0.00 | 0.33 |
|
PWAmat | 1.91 | 0.02 | 1.92 |
|
UniGeneQuery | 0.01 | 0.00 | 0.02 |
|
accessionToUID | 2.68 | 0.06 | 3.79 |
|
annPkgName | 0 | 0 | 0 |
|
aqListGOIDs | 0.38 | 0.03 | 0.40 |
|
blastSequences | 0.29 | 0.02 | 24.13 |
|
buildChromLocation | 1.36 | 0.04 | 1.72 |
|
buildPubMedAbst | 0.11 | 0.00 | 0.46 |
|
chrCats | 8.78 | 0.03 | 9.93 |
|
chromLocation-class | 1.18 | 0.00 | 1.17 |
|
compatibleVersions | 0.03 | 0.00 | 0.03 |
|
dropECode | 0.04 | 0.00 | 0.05 |
|
entrezGeneByID | 0 | 0 | 0 |
|
entrezGeneQuery | 0 | 0 | 0 |
|
filterGOByOntology | 0.08 | 0.00 | 0.08 |
|
findNeighbors | 0.03 | 0.00 | 1.04 |
|
genbank | 1.44 | 0.00 | 1.72 |
|
getAnnMap | 0.03 | 0.00 | 3.11 |
|
getEvidence | 0.05 | 0.02 | 0.06 |
|
getGOTerm | 0.18 | 0.00 | 0.67 |
|
getOntology | 0.04 | 0.00 | 0.05 |
|
getPMInfo | 0.49 | 0.00 | 0.71 |
|
getSYMBOL | 0.15 | 0.00 | 0.77 |
|
getSeq4Acc | 0.00 | 0.00 | 0.17 |
|
hasGOannote | 0.02 | 0.02 | 0.03 |
|
hgByChroms | 0.01 | 0.00 | 0.01 |
|
hgCLengths | 0 | 0 | 0 |
|
hgu95Achroloc | 0.09 | 0.00 | 0.10 |
|
hgu95Achrom | 0.07 | 0.00 | 0.06 |
|
hgu95All | 0.06 | 0.01 | 0.08 |
|
hgu95Asym | 0.08 | 0.00 | 0.08 |
|
homoData-class | 0.01 | 0.00 | 0.01 |
|
htmlpage | 0.39 | 0.00 | 0.52 |
|
isValidkey | 0 | 0 | 0 |
|
makeAnchor | 0 | 0 | 0 |
|
organism | 1.39 | 0.00 | 1.39 |
|
p2LL | 0 | 0 | 0 |
|
pm.abstGrep | 2.15 | 0.00 | 3.02 |
|
pm.getabst | 1.81 | 0.00 | 2.67 |
|
pm.titles | 1.81 | 0.00 | 2.56 |
|
pmAbst2HTML | 0.11 | 0.02 | 0.39 |
|
pmid2MIAME | 0 | 0 | 0 |
|
pmidQuery | 0 | 0 | 0 |
|
pubMedAbst-class | 0.06 | 0.00 | 0.14 |
|
pubmed | 0.11 | 0.00 | 0.20 |
|
readGEOAnn | 0 | 0 | 0 |
|
serializeEnv | 0 | 0 | 0 |
|
setRepository | 0 | 0 | 0 |
|
updateSymbolsToValidKeys | 0 | 0 | 0 |
|
usedChromGenes | 0.06 | 0.03 | 0.10 |
|
annotate.Rcheck/examples_x64/annotate-Ex.timings:
name | user | system | elapsed
|
ACCNUMStats | 2.05 | 0.06 | 2.11 |
|
GO2heatmap | 0.25 | 0.03 | 0.28 |
|
GOmnplot | 0.08 | 0.00 | 0.08 |
|
HTMLPage-class | 0 | 0 | 0 |
|
LL2homology | 0 | 0 | 0 |
|
PMIDAmat | 0.42 | 0.00 | 0.42 |
|
PWAmat | 2.35 | 0.03 | 2.38 |
|
UniGeneQuery | 0 | 0 | 0 |
|
accessionToUID | 3.49 | 0.10 | 5.01 |
|
annPkgName | 0 | 0 | 0 |
|
aqListGOIDs | 0.31 | 0.00 | 0.31 |
|
blastSequences | 0.19 | 0.00 | 23.43 |
|
buildChromLocation | 1.4 | 0.0 | 1.4 |
|
buildPubMedAbst | 0.11 | 0.00 | 0.36 |
|
chrCats | 11.66 | 0.00 | 11.66 |
|
chromLocation-class | 1.47 | 0.01 | 1.48 |
|
compatibleVersions | 0.03 | 0.00 | 0.03 |
|
dropECode | 0.04 | 0.00 | 0.03 |
|
entrezGeneByID | 0 | 0 | 0 |
|
entrezGeneQuery | 0 | 0 | 0 |
|
filterGOByOntology | 0.09 | 0.00 | 0.09 |
|
findNeighbors | 0.02 | 0.00 | 0.01 |
|
genbank | 1.19 | 0.00 | 1.46 |
|
getAnnMap | 0.03 | 0.02 | 0.04 |
|
getEvidence | 0.13 | 0.00 | 0.13 |
|
getGOTerm | 0.42 | 0.00 | 0.42 |
|
getOntology | 0.08 | 0.01 | 0.09 |
|
getPMInfo | 0.91 | 0.04 | 1.14 |
|
getSYMBOL | 0.17 | 0.00 | 0.17 |
|
getSeq4Acc | 0.02 | 0.00 | 0.12 |
|
hasGOannote | 0.05 | 0.00 | 0.05 |
|
hgByChroms | 0.01 | 0.01 | 0.03 |
|
hgCLengths | 0.00 | 0.02 | 0.02 |
|
hgu95Achroloc | 0.11 | 0.01 | 0.12 |
|
hgu95Achrom | 0.06 | 0.02 | 0.08 |
|
hgu95All | 0.11 | 0.00 | 0.11 |
|
hgu95Asym | 0.08 | 0.00 | 0.08 |
|
homoData-class | 0 | 0 | 0 |
|
htmlpage | 0.52 | 0.00 | 0.54 |
|
isValidkey | 0 | 0 | 0 |
|
makeAnchor | 0 | 0 | 0 |
|
organism | 2.04 | 0.00 | 2.04 |
|
p2LL | 0 | 0 | 0 |
|
pm.abstGrep | 2.19 | 0.02 | 2.96 |
|
pm.getabst | 1.70 | 0.02 | 2.59 |
|
pm.titles | 1.75 | 0.03 | 2.59 |
|
pmAbst2HTML | 0.13 | 0.00 | 1.07 |
|
pmid2MIAME | 0 | 0 | 0 |
|
pmidQuery | 0 | 0 | 0 |
|
pubMedAbst-class | 0.06 | 0.00 | 0.17 |
|
pubmed | 0.08 | 0.00 | 0.17 |
|
readGEOAnn | 0 | 0 | 0 |
|
serializeEnv | 0 | 0 | 0 |
|
setRepository | 0.02 | 0.00 | 0.01 |
|
updateSymbolsToValidKeys | 0 | 0 | 0 |
|
usedChromGenes | 0.07 | 0.00 | 0.08 |
|