##############################################################################
##############################################################################
###
### Running command:
###
### rm -rf treeio.buildbin-libdir && mkdir treeio.buildbin-libdir && /Users/biocbuild/BBS/utils/build-universal.sh treeio_0.99.11.tar.gz /Library/Frameworks/R.framework/Versions/Current/Resources/bin/R treeio.buildbin-libdir
###
##############################################################################
##############################################################################
>>>>>>>
>>>>>>> INSTALLATION WITH 'R CMD INSTALL --preclean --no-multiarch --library=treeio.buildbin-libdir treeio_0.99.11.tar.gz'
>>>>>>>
* installing *source* package ‘treeio’ ...
** R
** inst
** byte-compile and prepare package for lazy loading
Note: wrong number of arguments to '>'
** help
*** installing help indices
** building package indices
** installing vignettes
** testing if installed package can be loaded
* DONE (treeio)