Back to the "Multiple platform build/check report" | A B C D E F G H I J K L M N O P Q R [S] T U V W X Y Z |
This page was generated on 2017-04-23 14:39:00 -0400 (Sun, 23 Apr 2017).
Package 1299/1377 | Hostname | OS / Arch | INSTALL | BUILD | CHECK | BUILD BIN | |||||
systemPipeR 1.9.2 Thomas Girke
| malbec2 | Linux (Ubuntu 16.04.1 LTS) / x86_64 | OK | OK | OK | ![]() | |||||
tokay2 | Windows Server 2012 R2 Standard / x64 | OK | OK | OK | OK | ![]() | |||||
toluca2 | Mac OS X Mavericks (10.9.5) / x86_64 | OK | OK | OK | [ OK ] | ||||||
veracruz2 | OS X 10.11.6 El Capitan / x86_64 | OK | OK | OK | OK | ![]() |
Package: systemPipeR |
Version: 1.9.2 |
Command: rm -rf systemPipeR.buildbin-libdir && mkdir systemPipeR.buildbin-libdir && /Users/biocbuild/BBS/utils/build-universal.sh systemPipeR_1.9.2.tar.gz /Library/Frameworks/R.framework/Versions/Current/Resources/bin/R systemPipeR.buildbin-libdir |
StartedAt: 2017-04-23 12:48:57 -0400 (Sun, 23 Apr 2017) |
EndedAt: 2017-04-23 12:49:21 -0400 (Sun, 23 Apr 2017) |
EllapsedTime: 23.5 seconds |
RetCode: 0 |
Status: OK |
PackageFile: systemPipeR_1.9.2.tgz |
PackageFileSize: 4.182 MiB |
############################################################################## ############################################################################## ### ### Running command: ### ### rm -rf systemPipeR.buildbin-libdir && mkdir systemPipeR.buildbin-libdir && /Users/biocbuild/BBS/utils/build-universal.sh systemPipeR_1.9.2.tar.gz /Library/Frameworks/R.framework/Versions/Current/Resources/bin/R systemPipeR.buildbin-libdir ### ############################################################################## ############################################################################## >>>>>>> >>>>>>> INSTALLATION WITH 'R CMD INSTALL --preclean --no-multiarch --library=systemPipeR.buildbin-libdir systemPipeR_1.9.2.tar.gz' >>>>>>> * installing *source* package ‘systemPipeR’ ... ** R ** inst ** preparing package for lazy loading ** help *** installing help indices ** building package indices ** installing vignettes ** testing if installed package can be loaded * DONE (systemPipeR)